BEGIN:VCALENDAR
VERSION:2.0
PRODID:-//Urbana Place Senior Living in Brooklyn Park - ECPv6.11.2.1//NONSGML v1.0//EN
CALSCALE:GREGORIAN
METHOD:PUBLISH
X-ORIGINAL-URL:https://urbanaplaceseniorliving.com
X-WR-CALDESC:Events for Urbana Place Senior Living in Brooklyn Park
REFRESH-INTERVAL;VALUE=DURATION:PT1H
X-Robots-Tag:noindex
X-PUBLISHED-TTL:PT1H
BEGIN:VTIMEZONE
TZID:America/Chicago
BEGIN:DAYLIGHT
TZOFFSETFROM:-0600
TZOFFSETTO:-0500
TZNAME:CDT
DTSTART:20250309T080000
END:DAYLIGHT
BEGIN:STANDARD
TZOFFSETFROM:-0500
TZOFFSETTO:-0600
TZNAME:CST
DTSTART:20251102T070000
END:STANDARD
BEGIN:DAYLIGHT
TZOFFSETFROM:-0600
TZOFFSETTO:-0500
TZNAME:CDT
DTSTART:20260308T080000
END:DAYLIGHT
BEGIN:STANDARD
TZOFFSETFROM:-0500
TZOFFSETTO:-0600
TZNAME:CST
DTSTART:20261101T070000
END:STANDARD
END:VTIMEZONE
BEGIN:VEVENT
DTSTART;TZID=America/Chicago:20260121T110000
DTEND;TZID=America/Chicago:20260121T113000
DTSTAMP:20260421T100109
CREATED:20251223T005821Z
LAST-MODIFIED:20260121T015811Z
UID:10003839-1768993200-1768995000@urbanaplaceseniorliving.com
SUMMARY:Chair Cardio w/Jackie
DESCRIPTION:This exercise class is for all abilities
URL:https://urbanaplaceseniorliving.com/event-calendar/chair-cardio-w-jackie-26/
LOCATION:Wellness Center-2nd
CATEGORIES:Assisted Living
END:VEVENT
BEGIN:VEVENT
DTSTART;TZID=America/Chicago:20260119T090000
DTEND;TZID=America/Chicago:20260119T100000
DTSTAMP:20260421T100109
CREATED:20251221T004316Z
LAST-MODIFIED:20260119T014405Z
UID:10003826-1768813200-1768816800@urbanaplaceseniorliving.com
SUMMARY:Independent Exercise
DESCRIPTION:Stop in the Wellness Center any time today to move your body. NuStep machine\, weights and bands all available for you to use!
URL:https://urbanaplaceseniorliving.com/event-calendar/independent-exercise-7/
LOCATION:Wellness Center-2nd
CATEGORIES:Assisted Living
END:VEVENT
BEGIN:VEVENT
DTSTART;TZID=America/Chicago:20260117T090000
DTEND;TZID=America/Chicago:20260117T110000
DTSTAMP:20260421T100109
CREATED:20251219T004318Z
LAST-MODIFIED:20260117T014312Z
UID:10003812-1768640400-1768647600@urbanaplaceseniorliving.com
SUMMARY:Beth Yeshua Virtual Service
DESCRIPTION:Beth Yeshua International ties you to your roots. If you are Jewish\, our joyous worship will stir your soul. If you are Christian\, our synagogue gives you a chance to explore the Jewish roots of your faith. All are welcome!
URL:https://urbanaplaceseniorliving.com/event-calendar/beth-yeshua-virtual-service-37/
LOCATION:Wellness Center-2nd
CATEGORIES:Assisted Living
END:VEVENT
BEGIN:VEVENT
DTSTART;TZID=America/Chicago:20260116T110000
DTEND;TZID=America/Chicago:20260116T113000
DTSTAMP:20260421T100109
CREATED:20251218T004327Z
LAST-MODIFIED:20260116T014324Z
UID:10003809-1768561200-1768563000@urbanaplaceseniorliving.com
SUMMARY:Silver Sneakers Exercise Class
DESCRIPTION:All abilities will be able to participate in this Silver Sneakers exercise class!
URL:https://urbanaplaceseniorliving.com/event-calendar/silver-sneakers-exercise-class-10/
LOCATION:Wellness Center-2nd
CATEGORIES:Assisted Living
END:VEVENT
BEGIN:VEVENT
DTSTART;TZID=America/Chicago:20260114T110000
DTEND;TZID=America/Chicago:20260114T113000
DTSTAMP:20260421T100109
CREATED:20251216T002834Z
LAST-MODIFIED:20260114T014314Z
UID:10003800-1768388400-1768390200@urbanaplaceseniorliving.com
SUMMARY:Chair Cardio w/Jackie
DESCRIPTION:This exercise class is for all abilities
URL:https://urbanaplaceseniorliving.com/event-calendar/chair-cardio-w-jackie-25/
LOCATION:Wellness Center-2nd
CATEGORIES:Assisted Living
END:VEVENT
BEGIN:VEVENT
DTSTART;TZID=America/Chicago:20260112T093000
DTEND;TZID=America/Chicago:20260112T100000
DTSTAMP:20260421T100109
CREATED:20251214T002853Z
LAST-MODIFIED:20251216T002832Z
UID:10003790-1768210200-1768212000@urbanaplaceseniorliving.com
SUMMARY:Weights and Grip Class
DESCRIPTION:Wake your body up with this morning exercise class! All abilities welcome!
URL:https://urbanaplaceseniorliving.com/event-calendar/weights-and-grip-class-33/
LOCATION:Wellness Center-2nd
CATEGORIES:Assisted Living
END:VEVENT
BEGIN:VEVENT
DTSTART;TZID=America/Chicago:20260112T090000
DTEND;TZID=America/Chicago:20260112T100000
DTSTAMP:20260421T100109
CREATED:20251217T002831Z
LAST-MODIFIED:20260112T012811Z
UID:10003804-1768208400-1768212000@urbanaplaceseniorliving.com
SUMMARY:Independent Exercise
DESCRIPTION:Stop in the Wellness Center any time today to move your body. NuStep machine\, weights and bands all available for you to use!
URL:https://urbanaplaceseniorliving.com/event-calendar/independent-exercise-6/
LOCATION:Wellness Center-2nd
CATEGORIES:Assisted Living
END:VEVENT
BEGIN:VEVENT
DTSTART;TZID=America/Chicago:20260110T090000
DTEND;TZID=America/Chicago:20260110T110000
DTSTAMP:20260421T100109
CREATED:20251212T002815Z
LAST-MODIFIED:20260110T012815Z
UID:10003783-1768035600-1768042800@urbanaplaceseniorliving.com
SUMMARY:Beth Yeshua Virtual Service
DESCRIPTION:Beth Yeshua International ties you to your roots. If you are Jewish\, our joyous worship will stir your soul. If you are Christian\, our synagogue gives you a chance to explore the Jewish roots of your faith. All are welcome!
URL:https://urbanaplaceseniorliving.com/event-calendar/beth-yeshua-virtual-service-36/
LOCATION:Wellness Center-2nd
CATEGORIES:Assisted Living
END:VEVENT
BEGIN:VEVENT
DTSTART;TZID=America/Chicago:20260109T110000
DTEND;TZID=America/Chicago:20260109T113000
DTSTAMP:20260421T100109
CREATED:20251211T002820Z
LAST-MODIFIED:20260109T011312Z
UID:10003780-1767956400-1767958200@urbanaplaceseniorliving.com
SUMMARY:Silver Sneakers Exercise Class
DESCRIPTION:All abilities will be able to participate in this Silver Sneakers exercise class!
URL:https://urbanaplaceseniorliving.com/event-calendar/silver-sneakers-exercise-class-9/
LOCATION:Wellness Center-2nd
CATEGORIES:Assisted Living
END:VEVENT
BEGIN:VEVENT
DTSTART;TZID=America/Chicago:20260107T110000
DTEND;TZID=America/Chicago:20260107T113000
DTSTAMP:20260421T100109
CREATED:20251209T002849Z
LAST-MODIFIED:20260107T005813Z
UID:10003772-1767783600-1767785400@urbanaplaceseniorliving.com
SUMMARY:Chair Cardio w/Jackie
DESCRIPTION:This exercise class is for all abilities
URL:https://urbanaplaceseniorliving.com/event-calendar/chair-cardio-w-jackie-24/
LOCATION:Wellness Center-2nd
CATEGORIES:Assisted Living
END:VEVENT
BEGIN:VEVENT
DTSTART;TZID=America/Chicago:20260105T093000
DTEND;TZID=America/Chicago:20260105T100000
DTSTAMP:20260421T100109
CREATED:20251207T002816Z
LAST-MODIFIED:20251216T002826Z
UID:10003756-1767605400-1767607200@urbanaplaceseniorliving.com
SUMMARY:Weights and Grip Class
DESCRIPTION:Wake your body up with this morning exercise class! All abilities welcome!
URL:https://urbanaplaceseniorliving.com/event-calendar/weights-and-grip-class-32/
LOCATION:Wellness Center-2nd
CATEGORIES:Assisted Living
END:VEVENT
BEGIN:VEVENT
DTSTART;TZID=America/Chicago:20260105T090000
DTEND;TZID=America/Chicago:20260105T100000
DTSTAMP:20260421T100109
CREATED:20251217T002827Z
LAST-MODIFIED:20260105T005812Z
UID:10003803-1767603600-1767607200@urbanaplaceseniorliving.com
SUMMARY:Independent Exercise
DESCRIPTION:Stop in the Wellness Center any time today to move your body. NuStep machine\, weights and bands all available for you to use!
URL:https://urbanaplaceseniorliving.com/event-calendar/independent-exercise-5/
LOCATION:Wellness Center-2nd
CATEGORIES:Assisted Living
END:VEVENT
BEGIN:VEVENT
DTSTART;TZID=America/Chicago:20260103T090000
DTEND;TZID=America/Chicago:20260103T110000
DTSTAMP:20260421T100109
CREATED:20251205T002815Z
LAST-MODIFIED:20260103T005823Z
UID:10003742-1767430800-1767438000@urbanaplaceseniorliving.com
SUMMARY:Beth Yeshua Virtual Service
DESCRIPTION:Beth Yeshua International ties you to your roots. If you are Jewish\, our joyous worship will stir your soul. If you are Christian\, our synagogue gives you a chance to explore the Jewish roots of your faith. All are welcome!
URL:https://urbanaplaceseniorliving.com/event-calendar/beth-yeshua-virtual-service-35/
LOCATION:Wellness Center-2nd
CATEGORIES:Assisted Living
END:VEVENT
BEGIN:VEVENT
DTSTART;TZID=America/Chicago:20260102T110000
DTEND;TZID=America/Chicago:20260102T113000
DTSTAMP:20260421T100109
CREATED:20251204T002823Z
LAST-MODIFIED:20260102T005810Z
UID:10003736-1767351600-1767353400@urbanaplaceseniorliving.com
SUMMARY:Silver Sneakers Exercise Class
DESCRIPTION:All abilities will be able to participate in this Silver Sneakers exercise class!
URL:https://urbanaplaceseniorliving.com/event-calendar/silver-sneakers-exercise-class-8/
LOCATION:Wellness Center-2nd
CATEGORIES:Assisted Living
END:VEVENT
BEGIN:VEVENT
DTSTART;VALUE=DATE:20260101
DTEND;VALUE=DATE:20260102
DTSTAMP:20260421T100109
CREATED:20251224T005816Z
LAST-MODIFIED:20251231T005811Z
UID:10003843-1767225600-1767311999@urbanaplaceseniorliving.com
SUMMARY:Independent Exercise
DESCRIPTION:Stop by the 2nd floor Wellness Center anytime today to kick off the new year by moving your body!
URL:https://urbanaplaceseniorliving.com/event-calendar/independent-exercise-8/
LOCATION:Wellness Center-2nd
CATEGORIES:Assisted Living
END:VEVENT
BEGIN:VEVENT
DTSTART;TZID=America/Chicago:20251231T110000
DTEND;TZID=America/Chicago:20251231T113000
DTSTAMP:20260421T100109
CREATED:20251202T002817Z
LAST-MODIFIED:20251231T005811Z
UID:10003669-1767178800-1767180600@urbanaplaceseniorliving.com
SUMMARY:Chair Cardio w/Jackie
DESCRIPTION:This exercise class is for all abilities
URL:https://urbanaplaceseniorliving.com/event-calendar/chair-cardio-w-jackie-23/
LOCATION:Wellness Center-2nd
CATEGORIES:Assisted Living
END:VEVENT
BEGIN:VEVENT
DTSTART;TZID=America/Chicago:20251229T093000
DTEND;TZID=America/Chicago:20251229T100000
DTSTAMP:20260421T100109
CREATED:20251130T001323Z
LAST-MODIFIED:20251229T005812Z
UID:10003638-1767000600-1767002400@urbanaplaceseniorliving.com
SUMMARY:Weights and Grip Class
DESCRIPTION:Wake your body up with this morning exercise class! All abilities welcome!
URL:https://urbanaplaceseniorliving.com/event-calendar/weights-and-grip-class-31/
LOCATION:Wellness Center-2nd
CATEGORIES:Assisted Living
END:VEVENT
BEGIN:VEVENT
DTSTART;TZID=America/Chicago:20251227T090000
DTEND;TZID=America/Chicago:20251227T110000
DTSTAMP:20260421T100109
CREATED:20251128T122827Z
LAST-MODIFIED:20251227T005836Z
UID:10003617-1766826000-1766833200@urbanaplaceseniorliving.com
SUMMARY:Beth Yeshua Virtual Service
DESCRIPTION:Beth Yeshua International ties you to your roots. If you are Jewish\, our joyous worship will stir your soul. If you are Christian\, our synagogue gives you a chance to explore the Jewish roots of your faith. All are welcome!
URL:https://urbanaplaceseniorliving.com/event-calendar/beth-yeshua-virtual-service-34/
LOCATION:Wellness Center-2nd
CATEGORIES:Assisted Living
END:VEVENT
BEGIN:VEVENT
DTSTART;TZID=America/Chicago:20251226T090000
DTEND;TZID=America/Chicago:20251226T210000
DTSTAMP:20260421T100109
CREATED:20251128T122827Z
LAST-MODIFIED:20251227T005836Z
UID:10003614-1766739600-1766782800@urbanaplaceseniorliving.com
SUMMARY:Independent Exercise(all day)
DESCRIPTION:
URL:https://urbanaplaceseniorliving.com/event-calendar/independent-exerciseall-day-34/
LOCATION:Wellness Center-2nd
CATEGORIES:Assisted Living
END:VEVENT
BEGIN:VEVENT
DTSTART;TZID=America/Chicago:20251224T131500
DTEND;TZID=America/Chicago:20251224T141500
DTSTAMP:20260421T100109
CREATED:20251125T145819Z
LAST-MODIFIED:20251224T011311Z
UID:10003551-1766582100-1766585700@urbanaplaceseniorliving.com
SUMMARY:Festive Fling! Bean Bags vs Reena Senior Living
DESCRIPTION:It’s a special holiday match up! Dress in your favorite festive clothes and let’s play some bean bags virtually against Reena Senior Living in the 2nd floor Wellness Center
URL:https://urbanaplaceseniorliving.com/event-calendar/festive-fling-bean-bags-vs-reena-senior-living/
LOCATION:Wellness Center-2nd
CATEGORIES:Assisted Living,Legacy Court
END:VEVENT
BEGIN:VEVENT
DTSTART;TZID=America/Chicago:20251224T110000
DTEND;TZID=America/Chicago:20251224T113000
DTSTAMP:20260421T100109
CREATED:20251125T145819Z
LAST-MODIFIED:20251224T005814Z
UID:10003550-1766574000-1766575800@urbanaplaceseniorliving.com
SUMMARY:Chair Cardio w/Jackie
DESCRIPTION:This exercise class is for all abilities
URL:https://urbanaplaceseniorliving.com/event-calendar/chair-cardio-w-jackie-22/
LOCATION:Wellness Center-2nd
CATEGORIES:Assisted Living
END:VEVENT
BEGIN:VEVENT
DTSTART;TZID=America/Chicago:20251222T093000
DTEND;TZID=America/Chicago:20251222T100000
DTSTAMP:20260421T100109
CREATED:20251123T144316Z
LAST-MODIFIED:20251222T005810Z
UID:10003494-1766395800-1766397600@urbanaplaceseniorliving.com
SUMMARY:Weights and Grip Class
DESCRIPTION:Wake your body up with this morning exercise class! All abilities welcome!
URL:https://urbanaplaceseniorliving.com/event-calendar/weights-and-grip-class-30/
LOCATION:Wellness Center-2nd
CATEGORIES:Assisted Living
END:VEVENT
BEGIN:VEVENT
DTSTART;TZID=America/Chicago:20251220T090000
DTEND;TZID=America/Chicago:20251220T110000
DTSTAMP:20260421T100109
CREATED:20251121T144316Z
LAST-MODIFIED:20251220T004310Z
UID:10003468-1766221200-1766228400@urbanaplaceseniorliving.com
SUMMARY:Beth Yeshua Virtual Service
DESCRIPTION:Beth Yeshua International ties you to your roots. If you are Jewish\, our joyous worship will stir your soul. If you are Christian\, our synagogue gives you a chance to explore the Jewish roots of your faith. All are welcome!
URL:https://urbanaplaceseniorliving.com/event-calendar/beth-yeshua-virtual-service-33/
LOCATION:Wellness Center-2nd
CATEGORIES:Assisted Living
END:VEVENT
BEGIN:VEVENT
DTSTART;TZID=America/Chicago:20251219T110000
DTEND;TZID=America/Chicago:20251219T113000
DTSTAMP:20260421T100109
CREATED:20251120T144315Z
LAST-MODIFIED:20251219T004311Z
UID:10003456-1766142000-1766143800@urbanaplaceseniorliving.com
SUMMARY:Silver Sneakers Exercise Class
DESCRIPTION:All abilities will be able to participate in this Silver Sneakers exercise class!
URL:https://urbanaplaceseniorliving.com/event-calendar/silver-sneakers-exercise-class-7/
LOCATION:Wellness Center-2nd
CATEGORIES:Assisted Living
END:VEVENT
BEGIN:VEVENT
DTSTART;TZID=America/Chicago:20251217T110000
DTEND;TZID=America/Chicago:20251217T113000
DTSTAMP:20260421T100109
CREATED:20251119T144321Z
LAST-MODIFIED:20251217T002813Z
UID:10003444-1765969200-1765971000@urbanaplaceseniorliving.com
SUMMARY:Chair Cardio w/Jackie
DESCRIPTION:This exercise class is for all abilities
URL:https://urbanaplaceseniorliving.com/event-calendar/chair-cardio-w-jackie-21/
LOCATION:Wellness Center-2nd
CATEGORIES:Assisted Living
END:VEVENT
BEGIN:VEVENT
DTSTART;TZID=America/Chicago:20251215T093000
DTEND;TZID=America/Chicago:20251215T100000
DTSTAMP:20260421T100109
CREATED:20251116T131314Z
LAST-MODIFIED:20251215T002812Z
UID:10003413-1765791000-1765792800@urbanaplaceseniorliving.com
SUMMARY:Weights and Grip Class
DESCRIPTION:Wake your body up with this morning exercise class! All abilities welcome!
URL:https://urbanaplaceseniorliving.com/event-calendar/weights-and-grip-class-29/
LOCATION:Wellness Center-2nd
CATEGORIES:Assisted Living
END:VEVENT
BEGIN:VEVENT
DTSTART;TZID=America/Chicago:20251213T090000
DTEND;TZID=America/Chicago:20251213T110000
DTSTAMP:20260421T100109
CREATED:20251114T131316Z
LAST-MODIFIED:20251213T002817Z
UID:10003381-1765616400-1765623600@urbanaplaceseniorliving.com
SUMMARY:Beth Yeshua Virtual Service
DESCRIPTION:Beth Yeshua International ties you to your roots. If you are Jewish\, our joyous worship will stir your soul. If you are Christian\, our synagogue gives you a chance to explore the Jewish roots of your faith. All are welcome!
URL:https://urbanaplaceseniorliving.com/event-calendar/beth-yeshua-virtual-service-32/
LOCATION:Wellness Center-2nd
CATEGORIES:Assisted Living
END:VEVENT
BEGIN:VEVENT
DTSTART;TZID=America/Chicago:20251212T110000
DTEND;TZID=America/Chicago:20251212T113000
DTSTAMP:20260421T100109
CREATED:20251113T131344Z
LAST-MODIFIED:20251212T002811Z
UID:10003367-1765537200-1765539000@urbanaplaceseniorliving.com
SUMMARY:Silver Sneakers Exercise Class
DESCRIPTION:All abilities will be able to participate in this Silver Sneakers exercise class!
URL:https://urbanaplaceseniorliving.com/event-calendar/silver-sneakers-exercise-class-6/
LOCATION:Wellness Center-2nd
CATEGORIES:Assisted Living
END:VEVENT
BEGIN:VEVENT
DTSTART;TZID=America/Chicago:20251210T130000
DTEND;TZID=America/Chicago:20251210T140000
DTSTAMP:20260421T100109
CREATED:20251111T131319Z
LAST-MODIFIED:20251210T002820Z
UID:10003334-1765371600-1765375200@urbanaplaceseniorliving.com
SUMMARY:Balance Clinic w/Aegis Therapies
DESCRIPTION:Come to the 2nd floor Wellness Center for this free Balance Clinic w/ Aegis Therapies. Treats will be provided
URL:https://urbanaplaceseniorliving.com/event-calendar/balance-clinic-w-aegis-therapies/
LOCATION:Wellness Center-2nd
CATEGORIES:Assisted Living
END:VEVENT
BEGIN:VEVENT
DTSTART;TZID=America/Chicago:20251210T110000
DTEND;TZID=America/Chicago:20251210T113000
DTSTAMP:20260421T100109
CREATED:20251111T131319Z
LAST-MODIFIED:20251210T002820Z
UID:10003333-1765364400-1765366200@urbanaplaceseniorliving.com
SUMMARY:Chair Cardio w/Jackie
DESCRIPTION:This exercise class is for all abilities
URL:https://urbanaplaceseniorliving.com/event-calendar/chair-cardio-w-jackie-20/
LOCATION:Wellness Center-2nd
CATEGORIES:Assisted Living
END:VEVENT
END:VCALENDAR