BEGIN:VCALENDAR
VERSION:2.0
PRODID:-//Urbana Place Senior Living in Brooklyn Park - ECPv6.11.2.1//NONSGML v1.0//EN
CALSCALE:GREGORIAN
METHOD:PUBLISH
X-ORIGINAL-URL:https://urbanaplaceseniorliving.com
X-WR-CALDESC:Events for Urbana Place Senior Living in Brooklyn Park
REFRESH-INTERVAL;VALUE=DURATION:PT1H
X-Robots-Tag:noindex
X-PUBLISHED-TTL:PT1H
BEGIN:VTIMEZONE
TZID:America/Chicago
BEGIN:DAYLIGHT
TZOFFSETFROM:-0600
TZOFFSETTO:-0500
TZNAME:CDT
DTSTART:20260308T080000
END:DAYLIGHT
BEGIN:STANDARD
TZOFFSETFROM:-0500
TZOFFSETTO:-0600
TZNAME:CST
DTSTART:20261101T070000
END:STANDARD
END:VTIMEZONE
BEGIN:VEVENT
DTSTART;TZID=America/Chicago:20260220T110000
DTEND;TZID=America/Chicago:20260220T113000
DTSTAMP:20260421T051502
CREATED:20260122T015818Z
LAST-MODIFIED:20260203T022813Z
UID:10004421-1771585200-1771587000@urbanaplaceseniorliving.com
SUMMARY:Stretch & Strengthen Exercise Class
DESCRIPTION:All abilities are welcome for this seated group exercise class
URL:https://urbanaplaceseniorliving.com/event-calendar/stretch-strengthen-exercise-class-3/
LOCATION:Wellness Center-2nd
CATEGORIES:Assisted Living
END:VEVENT
BEGIN:VEVENT
DTSTART;VALUE=DATE:20260220
DTEND;VALUE=DATE:20260221
DTSTAMP:20260421T051502
CREATED:20260204T022813Z
LAST-MODIFIED:20260219T041317Z
UID:10004681-1771545600-1771631999@urbanaplaceseniorliving.com
SUMMARY:Independent Exercise
DESCRIPTION:
URL:https://urbanaplaceseniorliving.com/event-calendar/independent-exercise-16/
LOCATION:Wellness Center-2nd
CATEGORIES:Assisted Living
END:VEVENT
BEGIN:VEVENT
DTSTART;TZID=America/Chicago:20260218T110000
DTEND;TZID=America/Chicago:20260218T113000
DTSTAMP:20260421T051502
CREATED:20260120T014322Z
LAST-MODIFIED:20260218T035811Z
UID:10004402-1771412400-1771414200@urbanaplaceseniorliving.com
SUMMARY:Chair Cardio w/Jackie
DESCRIPTION:This exercise class is for all abilities
URL:https://urbanaplaceseniorliving.com/event-calendar/chair-cardio-w-jackie-30/
LOCATION:Wellness Center-2nd
CATEGORIES:Assisted Living
END:VEVENT
BEGIN:VEVENT
DTSTART;TZID=America/Chicago:20260216T093000
DTEND;TZID=America/Chicago:20260216T100000
DTSTAMP:20260421T051502
CREATED:20260118T014318Z
LAST-MODIFIED:20260210T031345Z
UID:10004377-1771234200-1771236000@urbanaplaceseniorliving.com
SUMMARY:Roll into Wellness Exercise Class
DESCRIPTION:Join us in the 2nd floor Wellness Center for a fun group exercise class for all abilities!
URL:https://urbanaplaceseniorliving.com/event-calendar/roll-into-wellness-exercise-class/
LOCATION:Wellness Center-2nd
CATEGORIES:Assisted Living
END:VEVENT
BEGIN:VEVENT
DTSTART;TZID=America/Chicago:20260214T090000
DTEND;TZID=America/Chicago:20260214T110000
DTSTAMP:20260421T051502
CREATED:20260116T014330Z
LAST-MODIFIED:20260214T032817Z
UID:10004346-1771059600-1771066800@urbanaplaceseniorliving.com
SUMMARY:Beth Yeshua Virtual Service
DESCRIPTION:Beth Yeshua International ties you to your roots. If you are Jewish\, our joyous worship will stir your soul. If you are Christian\, our synagogue gives you a chance to explore the Jewish roots of your faith. All are welcome!
URL:https://urbanaplaceseniorliving.com/event-calendar/beth-yeshua-virtual-service-41/
LOCATION:Wellness Center-2nd
CATEGORIES:Assisted Living
END:VEVENT
BEGIN:VEVENT
DTSTART;VALUE=DATE:20260214
DTEND;VALUE=DATE:20260215
DTSTAMP:20260421T051502
CREATED:20260128T015824Z
LAST-MODIFIED:20260213T032816Z
UID:10004545-1771027200-1771113599@urbanaplaceseniorliving.com
SUMMARY:Independent Exercise
DESCRIPTION:Stop in the Wellness Center and move your body today! All equipment is available for your use
URL:https://urbanaplaceseniorliving.com/event-calendar/independent-exercise-13/
LOCATION:Wellness Center-2nd
CATEGORIES:Assisted Living
END:VEVENT
BEGIN:VEVENT
DTSTART;TZID=America/Chicago:20260213T110000
DTEND;TZID=America/Chicago:20260213T113000
DTSTAMP:20260421T051502
CREATED:20260115T014317Z
LAST-MODIFIED:20260213T032815Z
UID:10004335-1770980400-1770982200@urbanaplaceseniorliving.com
SUMMARY:Stretch & Strengthen Exercise Class
DESCRIPTION:All abilities are welcome for this seated group exercise class
URL:https://urbanaplaceseniorliving.com/event-calendar/stretch-strengthen-exercise-class-2/
LOCATION:Wellness Center-2nd
CATEGORIES:Assisted Living
END:VEVENT
BEGIN:VEVENT
DTSTART;TZID=America/Chicago:20260211T110000
DTEND;TZID=America/Chicago:20260211T113000
DTSTAMP:20260421T051502
CREATED:20260113T012831Z
LAST-MODIFIED:20260211T031312Z
UID:10004318-1770807600-1770809400@urbanaplaceseniorliving.com
SUMMARY:Chair Cardio w/Jackie
DESCRIPTION:This exercise class is for all abilities
URL:https://urbanaplaceseniorliving.com/event-calendar/chair-cardio-w-jackie-29/
LOCATION:Wellness Center-2nd
CATEGORIES:Assisted Living
END:VEVENT
BEGIN:VEVENT
DTSTART;TZID=America/Chicago:20260209T093000
DTEND;TZID=America/Chicago:20260209T100000
DTSTAMP:20260421T051502
CREATED:20260111T012821Z
LAST-MODIFIED:20260209T031312Z
UID:10004295-1770629400-1770631200@urbanaplaceseniorliving.com
SUMMARY:Roll into Wellness Exercise Class
DESCRIPTION:Join us in the 2nd floor Wellness Center for a fun group exercise class for all abilities!
URL:https://urbanaplaceseniorliving.com/event-calendar/independent-exercise-11/
LOCATION:Wellness Center-2nd
CATEGORIES:Assisted Living
END:VEVENT
BEGIN:VEVENT
DTSTART;TZID=America/Chicago:20260207T090000
DTEND;TZID=America/Chicago:20260207T110000
DTSTAMP:20260421T051502
CREATED:20260109T011317Z
LAST-MODIFIED:20260207T024411Z
UID:10004260-1770454800-1770462000@urbanaplaceseniorliving.com
SUMMARY:Beth Yeshua Virtual Service
DESCRIPTION:Beth Yeshua International ties you to your roots. If you are Jewish\, our joyous worship will stir your soul. If you are Christian\, our synagogue gives you a chance to explore the Jewish roots of your faith. All are welcome!
URL:https://urbanaplaceseniorliving.com/event-calendar/beth-yeshua-virtual-service-40/
LOCATION:Wellness Center-2nd
CATEGORIES:Assisted Living
END:VEVENT
BEGIN:VEVENT
DTSTART;VALUE=DATE:20260207
DTEND;VALUE=DATE:20260208
DTSTAMP:20260421T051502
CREATED:20260128T015822Z
LAST-MODIFIED:20260206T024312Z
UID:10004543-1770422400-1770508799@urbanaplaceseniorliving.com
SUMMARY:Independent Exercise
DESCRIPTION:Stop in the Wellness Center and move your body today! All equipment is available for your use
URL:https://urbanaplaceseniorliving.com/event-calendar/independent-exercise-12/
LOCATION:Wellness Center-2nd
CATEGORIES:Assisted Living
END:VEVENT
BEGIN:VEVENT
DTSTART;TZID=America/Chicago:20260206T110000
DTEND;TZID=America/Chicago:20260206T113000
DTSTAMP:20260421T051502
CREATED:20260108T005817Z
LAST-MODIFIED:20260206T024311Z
UID:10004247-1770375600-1770377400@urbanaplaceseniorliving.com
SUMMARY:Stretch & Strengthen Exercise Class
DESCRIPTION:All abilities are welcome for this seated group exercise class
URL:https://urbanaplaceseniorliving.com/event-calendar/stretch-strengthen-exercise-class/
LOCATION:Wellness Center-2nd
CATEGORIES:Assisted Living
END:VEVENT
BEGIN:VEVENT
DTSTART;TZID=America/Chicago:20260204T110000
DTEND;TZID=America/Chicago:20260204T113000
DTSTAMP:20260421T051502
CREATED:20260106T005819Z
LAST-MODIFIED:20260204T022811Z
UID:10004223-1770202800-1770204600@urbanaplaceseniorliving.com
SUMMARY:Chair Cardio w/Jackie
DESCRIPTION:This exercise class is for all abilities
URL:https://urbanaplaceseniorliving.com/event-calendar/chair-cardio-w-jackie-28/
LOCATION:Wellness Center-2nd
CATEGORIES:Assisted Living
END:VEVENT
BEGIN:VEVENT
DTSTART;TZID=America/Chicago:20260202T093000
DTEND;TZID=America/Chicago:20260202T100000
DTSTAMP:20260421T051502
CREATED:20260104T005815Z
LAST-MODIFIED:20260202T022810Z
UID:10004195-1770024600-1770026400@urbanaplaceseniorliving.com
SUMMARY:Roll into Wellness Exercise Class
DESCRIPTION:Join us in the 2nd floor Wellness Center for a fun group exercise class for all abilities!
URL:https://urbanaplaceseniorliving.com/event-calendar/independent-exercise-10/
LOCATION:Wellness Center-2nd
CATEGORIES:Assisted Living
END:VEVENT
BEGIN:VEVENT
DTSTART;TZID=America/Chicago:20260131T090000
DTEND;TZID=America/Chicago:20260131T110000
DTSTAMP:20260421T051502
CREATED:20260102T005815Z
LAST-MODIFIED:20260131T022810Z
UID:10004168-1769850000-1769857200@urbanaplaceseniorliving.com
SUMMARY:Beth Yeshua Virtual Service
DESCRIPTION:Beth Yeshua International ties you to your roots. If you are Jewish\, our joyous worship will stir your soul. If you are Christian\, our synagogue gives you a chance to explore the Jewish roots of your faith. All are welcome!
URL:https://urbanaplaceseniorliving.com/event-calendar/beth-yeshua-virtual-service-39/
LOCATION:Wellness Center-2nd
CATEGORIES:Assisted Living
END:VEVENT
BEGIN:VEVENT
DTSTART;TZID=America/Chicago:20260130T110000
DTEND;TZID=America/Chicago:20260130T113000
DTSTAMP:20260421T051502
CREATED:20260101T005817Z
LAST-MODIFIED:20260130T021311Z
UID:10004111-1769770800-1769772600@urbanaplaceseniorliving.com
SUMMARY:Silver Sneakers Exercise Class
DESCRIPTION:All abilities will be able to participate in this Silver Sneakers exercise class!
URL:https://urbanaplaceseniorliving.com/event-calendar/silver-sneakers-exercise-class-12/
LOCATION:Wellness Center-2nd
CATEGORIES:Assisted Living
END:VEVENT
BEGIN:VEVENT
DTSTART;TZID=America/Chicago:20260128T110000
DTEND;TZID=America/Chicago:20260128T113000
DTSTAMP:20260421T051502
CREATED:20251230T005824Z
LAST-MODIFIED:20260128T015819Z
UID:10004082-1769598000-1769599800@urbanaplaceseniorliving.com
SUMMARY:Chair Cardio w/Jackie
DESCRIPTION:This exercise class is for all abilities
URL:https://urbanaplaceseniorliving.com/event-calendar/chair-cardio-w-jackie-27/
LOCATION:Wellness Center-2nd
CATEGORIES:Assisted Living
END:VEVENT
BEGIN:VEVENT
DTSTART;TZID=America/Chicago:20260126T090000
DTEND;TZID=America/Chicago:20260126T100000
DTSTAMP:20260421T051502
CREATED:20251228T005816Z
LAST-MODIFIED:20260126T015819Z
UID:10004062-1769418000-1769421600@urbanaplaceseniorliving.com
SUMMARY:Independent Exercise
DESCRIPTION:Stop in the Wellness Center any time today to move your body. NuStep machine\, weights and bands all available for you to use!
URL:https://urbanaplaceseniorliving.com/event-calendar/independent-exercise-9/
LOCATION:Wellness Center-2nd
CATEGORIES:Assisted Living
END:VEVENT
BEGIN:VEVENT
DTSTART;TZID=America/Chicago:20260124T090000
DTEND;TZID=America/Chicago:20260124T110000
DTSTAMP:20260421T051502
CREATED:20251226T005816Z
LAST-MODIFIED:20260124T015813Z
UID:10004036-1769245200-1769252400@urbanaplaceseniorliving.com
SUMMARY:Beth Yeshua Virtual Service
DESCRIPTION:Beth Yeshua International ties you to your roots. If you are Jewish\, our joyous worship will stir your soul. If you are Christian\, our synagogue gives you a chance to explore the Jewish roots of your faith. All are welcome!
URL:https://urbanaplaceseniorliving.com/event-calendar/beth-yeshua-virtual-service-38/
LOCATION:Wellness Center-2nd
CATEGORIES:Assisted Living
END:VEVENT
BEGIN:VEVENT
DTSTART;TZID=America/Chicago:20260123T110000
DTEND;TZID=America/Chicago:20260123T113000
DTSTAMP:20260421T051502
CREATED:20251225T005831Z
LAST-MODIFIED:20260123T015810Z
UID:10003854-1769166000-1769167800@urbanaplaceseniorliving.com
SUMMARY:Silver Sneakers Exercise Class
DESCRIPTION:All abilities will be able to participate in this Silver Sneakers exercise class!
URL:https://urbanaplaceseniorliving.com/event-calendar/silver-sneakers-exercise-class-11/
LOCATION:Wellness Center-2nd
CATEGORIES:Assisted Living
END:VEVENT
BEGIN:VEVENT
DTSTART;TZID=America/Chicago:20260121T110000
DTEND;TZID=America/Chicago:20260121T113000
DTSTAMP:20260421T051502
CREATED:20251223T005821Z
LAST-MODIFIED:20260121T015811Z
UID:10003839-1768993200-1768995000@urbanaplaceseniorliving.com
SUMMARY:Chair Cardio w/Jackie
DESCRIPTION:This exercise class is for all abilities
URL:https://urbanaplaceseniorliving.com/event-calendar/chair-cardio-w-jackie-26/
LOCATION:Wellness Center-2nd
CATEGORIES:Assisted Living
END:VEVENT
BEGIN:VEVENT
DTSTART;TZID=America/Chicago:20260119T090000
DTEND;TZID=America/Chicago:20260119T100000
DTSTAMP:20260421T051502
CREATED:20251221T004316Z
LAST-MODIFIED:20260119T014405Z
UID:10003826-1768813200-1768816800@urbanaplaceseniorliving.com
SUMMARY:Independent Exercise
DESCRIPTION:Stop in the Wellness Center any time today to move your body. NuStep machine\, weights and bands all available for you to use!
URL:https://urbanaplaceseniorliving.com/event-calendar/independent-exercise-7/
LOCATION:Wellness Center-2nd
CATEGORIES:Assisted Living
END:VEVENT
BEGIN:VEVENT
DTSTART;TZID=America/Chicago:20260117T090000
DTEND;TZID=America/Chicago:20260117T110000
DTSTAMP:20260421T051502
CREATED:20251219T004318Z
LAST-MODIFIED:20260117T014312Z
UID:10003812-1768640400-1768647600@urbanaplaceseniorliving.com
SUMMARY:Beth Yeshua Virtual Service
DESCRIPTION:Beth Yeshua International ties you to your roots. If you are Jewish\, our joyous worship will stir your soul. If you are Christian\, our synagogue gives you a chance to explore the Jewish roots of your faith. All are welcome!
URL:https://urbanaplaceseniorliving.com/event-calendar/beth-yeshua-virtual-service-37/
LOCATION:Wellness Center-2nd
CATEGORIES:Assisted Living
END:VEVENT
BEGIN:VEVENT
DTSTART;TZID=America/Chicago:20260116T110000
DTEND;TZID=America/Chicago:20260116T113000
DTSTAMP:20260421T051502
CREATED:20251218T004327Z
LAST-MODIFIED:20260116T014324Z
UID:10003809-1768561200-1768563000@urbanaplaceseniorliving.com
SUMMARY:Silver Sneakers Exercise Class
DESCRIPTION:All abilities will be able to participate in this Silver Sneakers exercise class!
URL:https://urbanaplaceseniorliving.com/event-calendar/silver-sneakers-exercise-class-10/
LOCATION:Wellness Center-2nd
CATEGORIES:Assisted Living
END:VEVENT
BEGIN:VEVENT
DTSTART;TZID=America/Chicago:20260114T110000
DTEND;TZID=America/Chicago:20260114T113000
DTSTAMP:20260421T051502
CREATED:20251216T002834Z
LAST-MODIFIED:20260114T014314Z
UID:10003800-1768388400-1768390200@urbanaplaceseniorliving.com
SUMMARY:Chair Cardio w/Jackie
DESCRIPTION:This exercise class is for all abilities
URL:https://urbanaplaceseniorliving.com/event-calendar/chair-cardio-w-jackie-25/
LOCATION:Wellness Center-2nd
CATEGORIES:Assisted Living
END:VEVENT
BEGIN:VEVENT
DTSTART;TZID=America/Chicago:20260112T093000
DTEND;TZID=America/Chicago:20260112T100000
DTSTAMP:20260421T051502
CREATED:20251214T002853Z
LAST-MODIFIED:20251216T002832Z
UID:10003790-1768210200-1768212000@urbanaplaceseniorliving.com
SUMMARY:Weights and Grip Class
DESCRIPTION:Wake your body up with this morning exercise class! All abilities welcome!
URL:https://urbanaplaceseniorliving.com/event-calendar/weights-and-grip-class-33/
LOCATION:Wellness Center-2nd
CATEGORIES:Assisted Living
END:VEVENT
BEGIN:VEVENT
DTSTART;TZID=America/Chicago:20260112T090000
DTEND;TZID=America/Chicago:20260112T100000
DTSTAMP:20260421T051502
CREATED:20251217T002831Z
LAST-MODIFIED:20260112T012811Z
UID:10003804-1768208400-1768212000@urbanaplaceseniorliving.com
SUMMARY:Independent Exercise
DESCRIPTION:Stop in the Wellness Center any time today to move your body. NuStep machine\, weights and bands all available for you to use!
URL:https://urbanaplaceseniorliving.com/event-calendar/independent-exercise-6/
LOCATION:Wellness Center-2nd
CATEGORIES:Assisted Living
END:VEVENT
BEGIN:VEVENT
DTSTART;TZID=America/Chicago:20260110T090000
DTEND;TZID=America/Chicago:20260110T110000
DTSTAMP:20260421T051502
CREATED:20251212T002815Z
LAST-MODIFIED:20260110T012815Z
UID:10003783-1768035600-1768042800@urbanaplaceseniorliving.com
SUMMARY:Beth Yeshua Virtual Service
DESCRIPTION:Beth Yeshua International ties you to your roots. If you are Jewish\, our joyous worship will stir your soul. If you are Christian\, our synagogue gives you a chance to explore the Jewish roots of your faith. All are welcome!
URL:https://urbanaplaceseniorliving.com/event-calendar/beth-yeshua-virtual-service-36/
LOCATION:Wellness Center-2nd
CATEGORIES:Assisted Living
END:VEVENT
BEGIN:VEVENT
DTSTART;TZID=America/Chicago:20260109T110000
DTEND;TZID=America/Chicago:20260109T113000
DTSTAMP:20260421T051502
CREATED:20251211T002820Z
LAST-MODIFIED:20260109T011312Z
UID:10003780-1767956400-1767958200@urbanaplaceseniorliving.com
SUMMARY:Silver Sneakers Exercise Class
DESCRIPTION:All abilities will be able to participate in this Silver Sneakers exercise class!
URL:https://urbanaplaceseniorliving.com/event-calendar/silver-sneakers-exercise-class-9/
LOCATION:Wellness Center-2nd
CATEGORIES:Assisted Living
END:VEVENT
BEGIN:VEVENT
DTSTART;TZID=America/Chicago:20260107T110000
DTEND;TZID=America/Chicago:20260107T113000
DTSTAMP:20260421T051502
CREATED:20251209T002849Z
LAST-MODIFIED:20260107T005813Z
UID:10003772-1767783600-1767785400@urbanaplaceseniorliving.com
SUMMARY:Chair Cardio w/Jackie
DESCRIPTION:This exercise class is for all abilities
URL:https://urbanaplaceseniorliving.com/event-calendar/chair-cardio-w-jackie-24/
LOCATION:Wellness Center-2nd
CATEGORIES:Assisted Living
END:VEVENT
END:VCALENDAR