BEGIN:VCALENDAR
VERSION:2.0
PRODID:-//Urbana Place Senior Living in Brooklyn Park - ECPv6.11.2.1//NONSGML v1.0//EN
CALSCALE:GREGORIAN
METHOD:PUBLISH
X-ORIGINAL-URL:https://urbanaplaceseniorliving.com
X-WR-CALDESC:Events for Urbana Place Senior Living in Brooklyn Park
REFRESH-INTERVAL;VALUE=DURATION:PT1H
X-Robots-Tag:noindex
X-PUBLISHED-TTL:PT1H
BEGIN:VTIMEZONE
TZID:America/Chicago
BEGIN:DAYLIGHT
TZOFFSETFROM:-0600
TZOFFSETTO:-0500
TZNAME:CDT
DTSTART:20260308T080000
END:DAYLIGHT
BEGIN:STANDARD
TZOFFSETFROM:-0500
TZOFFSETTO:-0600
TZNAME:CST
DTSTART:20261101T070000
END:STANDARD
END:VTIMEZONE
BEGIN:VEVENT
DTSTART;TZID=America/Chicago:20260506T091500
DTEND;TZID=America/Chicago:20260506T094500
DTSTAMP:20260420T204516
CREATED:20260416T074325Z
LAST-MODIFIED:20260420T074320Z
UID:10005753-1778058900-1778060700@urbanaplaceseniorliving.com
SUMMARY:Steady Striders Exercise Class
DESCRIPTION:New Group Exercise Class! Join us in the 2nd floor Wellness Center for a class focused on balance and mobility
URL:https://urbanaplaceseniorliving.com/event-calendar/steady-striders-exercise-class-8/
LOCATION:Wellness Center-2nd
CATEGORIES:Assisted Living
END:VEVENT
BEGIN:VEVENT
DTSTART;TZID=America/Chicago:20260506T110000
DTEND;TZID=America/Chicago:20260506T113000
DTSTAMP:20260420T204516
CREATED:20260407T065835Z
LAST-MODIFIED:20260415T074325Z
UID:10005648-1778065200-1778067000@urbanaplaceseniorliving.com
SUMMARY:Chair Cardio w/Jackie
DESCRIPTION:This exercise class is for all abilities
URL:https://urbanaplaceseniorliving.com/event-calendar/chair-cardio-w-jackie-40/
LOCATION:Wellness Center-2nd
CATEGORIES:Assisted Living
END:VEVENT
BEGIN:VEVENT
DTSTART;TZID=America/Chicago:20260507T091500
DTEND;TZID=America/Chicago:20260507T094500
DTSTAMP:20260420T204516
CREATED:20260408T065823Z
LAST-MODIFIED:20260415T074325Z
UID:10005664-1778145300-1778147100@urbanaplaceseniorliving.com
SUMMARY:Steady Striders Exercise Class
DESCRIPTION:New Group Exercise Class! Join us in the 2nd floor Wellness Center for a class focused on balance and mobility
URL:https://urbanaplaceseniorliving.com/event-calendar/steady-striders-exercise-class-6/
LOCATION:Wellness Center-2nd
CATEGORIES:Assisted Living
END:VEVENT
BEGIN:VEVENT
DTSTART;TZID=America/Chicago:20260507T110000
DTEND;TZID=America/Chicago:20260507T113000
DTSTAMP:20260420T204516
CREATED:20260416T074325Z
LAST-MODIFIED:20260420T074320Z
UID:10005754-1778151600-1778153400@urbanaplaceseniorliving.com
SUMMARY:Chair Cardio w/Jackie
DESCRIPTION:
URL:https://urbanaplaceseniorliving.com/event-calendar/chair-cardio-w-jackie-42/
LOCATION:Wellness Center-2nd
CATEGORIES:Assisted Living
END:VEVENT
BEGIN:VEVENT
DTSTART;TZID=America/Chicago:20260508T110000
DTEND;TZID=America/Chicago:20260508T113000
DTSTAMP:20260420T204516
CREATED:20260409T065921Z
LAST-MODIFIED:20260420T074321Z
UID:10005682-1778238000-1778239800@urbanaplaceseniorliving.com
SUMMARY:Stretch & Strengthen Exercise Class
DESCRIPTION:All abilities are welcome for this seated group exercise class
URL:https://urbanaplaceseniorliving.com/event-calendar/stretch-strengthen-exercise-class-14/
LOCATION:Wellness Center-2nd
CATEGORIES:Assisted Living
END:VEVENT
BEGIN:VEVENT
DTSTART;VALUE=DATE:20260509
DTEND;VALUE=DATE:20260510
DTSTAMP:20260420T204516
CREATED:20260409T065922Z
LAST-MODIFIED:20260420T074321Z
UID:10005685-1778284800-1778371199@urbanaplaceseniorliving.com
SUMMARY:Independent Exercise
DESCRIPTION:Stop in the Wellness Center and move your body today! All equipment is available for your use
URL:https://urbanaplaceseniorliving.com/event-calendar/independent-exercise-28/
LOCATION:Wellness Center-2nd
CATEGORIES:Assisted Living
END:VEVENT
BEGIN:VEVENT
DTSTART;TZID=America/Chicago:20260511T093000
DTEND;TZID=America/Chicago:20260511T100000
DTSTAMP:20260420T204516
CREATED:20260412T072825Z
LAST-MODIFIED:20260420T074322Z
UID:10005724-1778491800-1778493600@urbanaplaceseniorliving.com
SUMMARY:Roll into Wellness Exercise Class
DESCRIPTION:Join us in the 2nd floor Wellness Center for a fun group exercise class for all abilities!
URL:https://urbanaplaceseniorliving.com/event-calendar/roll-into-wellness-exercise-class-11/
LOCATION:Wellness Center-2nd
CATEGORIES:Assisted Living
END:VEVENT
BEGIN:VEVENT
DTSTART;TZID=America/Chicago:20260511T103000
DTEND;TZID=America/Chicago:20260511T113000
DTSTAMP:20260420T204516
CREATED:20260416T074327Z
LAST-MODIFIED:20260420T074322Z
UID:10005755-1778495400-1778499000@urbanaplaceseniorliving.com
SUMMARY:Wellness w/Aegis-'Dress w/Ease'
DESCRIPTION:Join Occupational Therapist Stephanie for this engaging presentation
URL:https://urbanaplaceseniorliving.com/event-calendar/wellness-w-aegis-dress-w-ease/
LOCATION:Wellness Center-2nd
CATEGORIES:Assisted Living
END:VEVENT
BEGIN:VEVENT
DTSTART;TZID=America/Chicago:20260513T091500
DTEND;TZID=America/Chicago:20260513T094500
DTSTAMP:20260420T204516
CREATED:20260416T074328Z
LAST-MODIFIED:20260420T074323Z
UID:10005758-1778663700-1778665500@urbanaplaceseniorliving.com
SUMMARY:Steady Striders Exercise Class
DESCRIPTION:New Group Exercise Class! Join us in the 2nd floor Wellness Center for a class focused on balance and mobility
URL:https://urbanaplaceseniorliving.com/event-calendar/steady-striders-exercise-class-9/
LOCATION:Wellness Center-2nd
CATEGORIES:Assisted Living
END:VEVENT
BEGIN:VEVENT
DTSTART;TZID=America/Chicago:20260513T110000
DTEND;TZID=America/Chicago:20260513T113000
DTSTAMP:20260420T204516
CREATED:20260414T074330Z
LAST-MODIFIED:20260415T074329Z
UID:10005746-1778670000-1778671800@urbanaplaceseniorliving.com
SUMMARY:Chair Cardio w/Jackie
DESCRIPTION:This exercise class is for all abilities
URL:https://urbanaplaceseniorliving.com/event-calendar/chair-cardio-w-jackie-41/
LOCATION:Wellness Center-2nd
CATEGORIES:Assisted Living
END:VEVENT
BEGIN:VEVENT
DTSTART;TZID=America/Chicago:20260514T091500
DTEND;TZID=America/Chicago:20260514T094500
DTSTAMP:20260420T204516
CREATED:20260415T074329Z
LAST-MODIFIED:20260415T074329Z
UID:10005749-1778750100-1778751900@urbanaplaceseniorliving.com
SUMMARY:Steady Striders Exercise Class
DESCRIPTION:New Group Exercise Class! Join us in the 2nd floor Wellness Center for a class focused on balance and mobility
URL:https://urbanaplaceseniorliving.com/event-calendar/steady-striders-exercise-class-7/
LOCATION:Wellness Center-2nd
CATEGORIES:Assisted Living
END:VEVENT
BEGIN:VEVENT
DTSTART;TZID=America/Chicago:20260514T110000
DTEND;TZID=America/Chicago:20260514T113000
DTSTAMP:20260420T204516
CREATED:20260416T074329Z
LAST-MODIFIED:20260420T074324Z
UID:10005760-1778756400-1778758200@urbanaplaceseniorliving.com
SUMMARY:Chair Cardio w/Jackie
DESCRIPTION:This exercise class is for all abilities
URL:https://urbanaplaceseniorliving.com/event-calendar/chair-cardio-w-jackie-43/
LOCATION:Wellness Center-2nd
CATEGORIES:Assisted Living
END:VEVENT
BEGIN:VEVENT
DTSTART;VALUE=DATE:20260516
DTEND;VALUE=DATE:20260517
DTSTAMP:20260420T204516
CREATED:20260416T074330Z
LAST-MODIFIED:20260420T074325Z
UID:10005764-1778889600-1778975999@urbanaplaceseniorliving.com
SUMMARY:Independent Exercise
DESCRIPTION:Stop in the Wellness Center and move your body today! All equipment is available for your use
URL:https://urbanaplaceseniorliving.com/event-calendar/independent-exercise-29/
LOCATION:Wellness Center-2nd
CATEGORIES:Assisted Living
END:VEVENT
BEGIN:VEVENT
DTSTART;TZID=America/Chicago:20260518T093000
DTEND;TZID=America/Chicago:20260518T100000
DTSTAMP:20260420T204516
CREATED:20260419T074340Z
LAST-MODIFIED:20260420T074325Z
UID:10005775-1779096600-1779098400@urbanaplaceseniorliving.com
SUMMARY:Roll into Wellness Exercise Class
DESCRIPTION:Join us in the 2nd floor Wellness Center for a fun group exercise class for all abilities!
URL:https://urbanaplaceseniorliving.com/event-calendar/roll-into-wellness-exercise-class-12/
LOCATION:Wellness Center-2nd
CATEGORIES:Assisted Living
END:VEVENT
END:VCALENDAR