BEGIN:VCALENDAR
VERSION:2.0
PRODID:-//Urbana Place Senior Living in Brooklyn Park - ECPv6.11.2.1//NONSGML v1.0//EN
CALSCALE:GREGORIAN
METHOD:PUBLISH
X-WR-CALNAME:Urbana Place Senior Living in Brooklyn Park
X-ORIGINAL-URL:https://urbanaplaceseniorliving.com
X-WR-CALDESC:Events for Urbana Place Senior Living in Brooklyn Park
REFRESH-INTERVAL;VALUE=DURATION:PT1H
X-Robots-Tag:noindex
X-PUBLISHED-TTL:PT1H
BEGIN:VTIMEZONE
TZID:America/Chicago
BEGIN:DAYLIGHT
TZOFFSETFROM:-0600
TZOFFSETTO:-0500
TZNAME:CDT
DTSTART:20260308T080000
END:DAYLIGHT
BEGIN:STANDARD
TZOFFSETFROM:-0500
TZOFFSETTO:-0600
TZNAME:CST
DTSTART:20261101T070000
END:STANDARD
END:VTIMEZONE
BEGIN:VEVENT
DTSTART;TZID=America/Chicago:20260410T110000
DTEND;TZID=America/Chicago:20260410T113000
DTSTAMP:20260420T221026
CREATED:20260312T061525Z
LAST-MODIFIED:20260410T071311Z
UID:10005215-1775818800-1775820600@urbanaplaceseniorliving.com
SUMMARY:Stretch & Strengthen Exercise Class
DESCRIPTION:All abilities are welcome for this seated group exercise class
URL:https://urbanaplaceseniorliving.com/event-calendar/stretch-strengthen-exercise-class-10/
LOCATION:Wellness Center-2nd
CATEGORIES:Assisted Living
END:VEVENT
BEGIN:VEVENT
DTSTART;TZID=America/Chicago:20260410T100000
DTEND;TZID=America/Chicago:20260410T110000
DTSTAMP:20260420T221026
CREATED:20260402T064314Z
LAST-MODIFIED:20260410T071311Z
UID:10005588-1775815200-1775818800@urbanaplaceseniorliving.com
SUMMARY:Meet the New Occupational Therapist
DESCRIPTION:All are welcome to come meet Stephanie our new OT from Aegis Therapies. Snack and door prize! Must be present to win!
URL:https://urbanaplaceseniorliving.com/event-calendar/meet-the-new-occupational-therapist/
LOCATION:Wellness Center-2nd
CATEGORIES:Assisted Living
END:VEVENT
BEGIN:VEVENT
DTSTART;TZID=America/Chicago:20260409T091500
DTEND;TZID=America/Chicago:20260409T094500
DTSTAMP:20260420T221026
CREATED:20260322T064335Z
LAST-MODIFIED:20260409T065856Z
UID:10005341-1775726100-1775727900@urbanaplaceseniorliving.com
SUMMARY:Steady Striders Exercise Class
DESCRIPTION:New Group Exercise Class! Join us in the 2nd floor Wellness Center for a class focused on balance and mobility
URL:https://urbanaplaceseniorliving.com/event-calendar/steady-striders-exercise-class-2/
LOCATION:Wellness Center-2nd
CATEGORIES:Assisted Living
END:VEVENT
BEGIN:VEVENT
DTSTART;TZID=America/Chicago:20260408T110000
DTEND;TZID=America/Chicago:20260408T113000
DTSTAMP:20260420T221026
CREATED:20260310T061328Z
LAST-MODIFIED:20260408T065811Z
UID:10005163-1775646000-1775647800@urbanaplaceseniorliving.com
SUMMARY:Chair Cardio w/Jackie
DESCRIPTION:This exercise class is for all abilities
URL:https://urbanaplaceseniorliving.com/event-calendar/chair-cardio-w-jackie-36/
LOCATION:Wellness Center-2nd
CATEGORIES:Assisted Living
END:VEVENT
BEGIN:VEVENT
DTSTART;TZID=America/Chicago:20260406T093000
DTEND;TZID=America/Chicago:20260406T100000
DTSTAMP:20260420T221026
CREATED:20260308T060137Z
LAST-MODIFIED:20260406T065811Z
UID:10005152-1775467800-1775469600@urbanaplaceseniorliving.com
SUMMARY:Roll into Wellness Exercise Class
DESCRIPTION:Join us in the 2nd floor Wellness Center for a fun group exercise class for all abilities!
URL:https://urbanaplaceseniorliving.com/event-calendar/roll-into-wellness-exercise-class-7/
LOCATION:Wellness Center-2nd
CATEGORIES:Assisted Living
END:VEVENT
BEGIN:VEVENT
DTSTART;TZID=America/Chicago:20260404T090000
DTEND;TZID=America/Chicago:20260404T110000
DTSTAMP:20260420T221026
CREATED:20260306T052840Z
LAST-MODIFIED:20260404T065811Z
UID:10005135-1775293200-1775300400@urbanaplaceseniorliving.com
SUMMARY:Beth Yeshua Virtual Service
DESCRIPTION:Beth Yeshua International ties you to your roots. If you are Jewish\, our joyous worship will stir your soul. If you are Christian\, our synagogue gives you a chance to explore the Jewish roots of your faith. All are welcome!
URL:https://urbanaplaceseniorliving.com/event-calendar/beth-yeshua-virtual-service-48/
LOCATION:Wellness Center-2nd
CATEGORIES:Assisted Living
END:VEVENT
BEGIN:VEVENT
DTSTART;VALUE=DATE:20260404
DTEND;VALUE=DATE:20260405
DTSTAMP:20260420T221026
CREATED:20260305T052823Z
LAST-MODIFIED:20260403T064407Z
UID:10005122-1775260800-1775347199@urbanaplaceseniorliving.com
SUMMARY:Independent Exercise
DESCRIPTION:Stop in the Wellness Center and move your body today! All equipment is available for your use
URL:https://urbanaplaceseniorliving.com/event-calendar/independent-exercise-23/
LOCATION:Wellness Center-2nd
CATEGORIES:Assisted Living
END:VEVENT
BEGIN:VEVENT
DTSTART;TZID=America/Chicago:20260403T110000
DTEND;TZID=America/Chicago:20260403T113000
DTSTAMP:20260420T221026
CREATED:20260305T052823Z
LAST-MODIFIED:20260403T064406Z
UID:10005119-1775214000-1775215800@urbanaplaceseniorliving.com
SUMMARY:Stretch & Strengthen Exercise Class
DESCRIPTION:All abilities are welcome for this seated group exercise class
URL:https://urbanaplaceseniorliving.com/event-calendar/stretch-strengthen-exercise-class-9/
LOCATION:Wellness Center-2nd
CATEGORIES:Assisted Living
END:VEVENT
BEGIN:VEVENT
DTSTART;TZID=America/Chicago:20260402T091500
DTEND;TZID=America/Chicago:20260402T094500
DTSTAMP:20260420T221026
CREATED:20260322T064321Z
LAST-MODIFIED:20260402T064314Z
UID:10005340-1775121300-1775123100@urbanaplaceseniorliving.com
SUMMARY:Steady Striders Exercise Class
DESCRIPTION:New Group Exercise Class! Join us in the 2nd floor Wellness Center for a class focused on balance and mobility
URL:https://urbanaplaceseniorliving.com/event-calendar/steady-striders-exercise-class/
LOCATION:Wellness Center-2nd
CATEGORIES:Assisted Living
END:VEVENT
BEGIN:VEVENT
DTSTART;TZID=America/Chicago:20260401T110000
DTEND;TZID=America/Chicago:20260401T113000
DTSTAMP:20260420T221026
CREATED:20260303T045929Z
LAST-MODIFIED:20260401T064316Z
UID:10005105-1775041200-1775043000@urbanaplaceseniorliving.com
SUMMARY:Chair Cardio w/Jackie
DESCRIPTION:This exercise class is for all abilities
URL:https://urbanaplaceseniorliving.com/event-calendar/chair-cardio-w-jackie-35/
LOCATION:Wellness Center-2nd
CATEGORIES:Assisted Living
END:VEVENT
BEGIN:VEVENT
DTSTART;TZID=America/Chicago:20260330T093000
DTEND;TZID=America/Chicago:20260330T100000
DTSTAMP:20260420T221026
CREATED:20260301T045833Z
LAST-MODIFIED:20260330T064314Z
UID:10005039-1774863000-1774864800@urbanaplaceseniorliving.com
SUMMARY:Roll into Wellness Exercise Class
DESCRIPTION:Join us in the 2nd floor Wellness Center for a fun group exercise class for all abilities!
URL:https://urbanaplaceseniorliving.com/event-calendar/roll-into-wellness-exercise-class-6/
LOCATION:Wellness Center-2nd
CATEGORIES:Assisted Living
END:VEVENT
BEGIN:VEVENT
DTSTART;TZID=America/Chicago:20260328T090000
DTEND;TZID=America/Chicago:20260328T110000
DTSTAMP:20260420T221026
CREATED:20260227T044330Z
LAST-MODIFIED:20260328T064316Z
UID:10004987-1774688400-1774695600@urbanaplaceseniorliving.com
SUMMARY:Beth Yeshua Virtual Service
DESCRIPTION:Beth Yeshua International ties you to your roots. If you are Jewish\, our joyous worship will stir your soul. If you are Christian\, our synagogue gives you a chance to explore the Jewish roots of your faith. All are welcome!
URL:https://urbanaplaceseniorliving.com/event-calendar/beth-yeshua-virtual-service-47/
LOCATION:Wellness Center-2nd
CATEGORIES:Assisted Living
END:VEVENT
BEGIN:VEVENT
DTSTART;VALUE=DATE:20260328
DTEND;VALUE=DATE:20260329
DTSTAMP:20260420T221026
CREATED:20260227T044330Z
LAST-MODIFIED:20260327T064312Z
UID:10004986-1774656000-1774742399@urbanaplaceseniorliving.com
SUMMARY:Independent Exercise
DESCRIPTION:Stop in the Wellness Center and move your body today! All equipment is available for your use
URL:https://urbanaplaceseniorliving.com/event-calendar/independent-exercise-22/
LOCATION:Wellness Center-2nd
CATEGORIES:Assisted Living
END:VEVENT
BEGIN:VEVENT
DTSTART;TZID=America/Chicago:20260327T110000
DTEND;TZID=America/Chicago:20260327T113000
DTSTAMP:20260420T221026
CREATED:20260226T044319Z
LAST-MODIFIED:20260327T064312Z
UID:10004973-1774609200-1774611000@urbanaplaceseniorliving.com
SUMMARY:Stretch & Strengthen Exercise Class
DESCRIPTION:All abilities are welcome for this seated group exercise class
URL:https://urbanaplaceseniorliving.com/event-calendar/stretch-strengthen-exercise-class-8/
LOCATION:Wellness Center-2nd
CATEGORIES:Assisted Living
END:VEVENT
BEGIN:VEVENT
DTSTART;TZID=America/Chicago:20260325T110000
DTEND;TZID=America/Chicago:20260325T113000
DTSTAMP:20260420T221026
CREATED:20260224T044322Z
LAST-MODIFIED:20260325T064313Z
UID:10004955-1774436400-1774438200@urbanaplaceseniorliving.com
SUMMARY:Chair Cardio w/Corrie
DESCRIPTION:This exercise class is for all abilities
URL:https://urbanaplaceseniorliving.com/event-calendar/chair-cardio-w-corrie/
LOCATION:Wellness Center-2nd
CATEGORIES:Assisted Living
END:VEVENT
BEGIN:VEVENT
DTSTART;VALUE=DATE:20260323
DTEND;VALUE=DATE:20260324
DTSTAMP:20260420T221026
CREATED:20260222T044341Z
LAST-MODIFIED:20260322T064314Z
UID:10004926-1774224000-1774310399@urbanaplaceseniorliving.com
SUMMARY:Independent Exercise
DESCRIPTION:
URL:https://urbanaplaceseniorliving.com/event-calendar/independent-exercise-21/
LOCATION:Wellness Center-2nd
CATEGORIES:Assisted Living
END:VEVENT
BEGIN:VEVENT
DTSTART;TZID=America/Chicago:20260321T090000
DTEND;TZID=America/Chicago:20260321T110000
DTSTAMP:20260420T221026
CREATED:20260220T041816Z
LAST-MODIFIED:20260321T062910Z
UID:10004893-1774083600-1774090800@urbanaplaceseniorliving.com
SUMMARY:Beth Yeshua Virtual Service
DESCRIPTION:Beth Yeshua International ties you to your roots. If you are Jewish\, our joyous worship will stir your soul. If you are Christian\, our synagogue gives you a chance to explore the Jewish roots of your faith. All are welcome!
URL:https://urbanaplaceseniorliving.com/event-calendar/beth-yeshua-virtual-service-46/
LOCATION:Wellness Center-2nd
CATEGORIES:Assisted Living
END:VEVENT
BEGIN:VEVENT
DTSTART;VALUE=DATE:20260321
DTEND;VALUE=DATE:20260322
DTSTAMP:20260420T221026
CREATED:20260220T041815Z
LAST-MODIFIED:20260320T062811Z
UID:10004892-1774051200-1774137599@urbanaplaceseniorliving.com
SUMMARY:Independent Exercise
DESCRIPTION:Stop in the Wellness Center and move your body today! All equipment is available for your use
URL:https://urbanaplaceseniorliving.com/event-calendar/independent-exercise-20/
LOCATION:Wellness Center-2nd
CATEGORIES:Assisted Living
END:VEVENT
BEGIN:VEVENT
DTSTART;TZID=America/Chicago:20260320T110000
DTEND;TZID=America/Chicago:20260320T113000
DTSTAMP:20260420T221026
CREATED:20260219T041410Z
LAST-MODIFIED:20260320T062811Z
UID:10004871-1774004400-1774006200@urbanaplaceseniorliving.com
SUMMARY:Stretch & Strengthen Exercise Class
DESCRIPTION:All abilities are welcome for this seated group exercise class
URL:https://urbanaplaceseniorliving.com/event-calendar/stretch-strengthen-exercise-class-7/
LOCATION:Wellness Center-2nd
CATEGORIES:Assisted Living
END:VEVENT
BEGIN:VEVENT
DTSTART;TZID=America/Chicago:20260318T110000
DTEND;TZID=America/Chicago:20260318T113000
DTSTAMP:20260420T221026
CREATED:20260217T034348Z
LAST-MODIFIED:20260318T062812Z
UID:10004844-1773831600-1773833400@urbanaplaceseniorliving.com
SUMMARY:Chair Cardio w/Jackie
DESCRIPTION:This exercise class is for all abilities
URL:https://urbanaplaceseniorliving.com/event-calendar/chair-cardio-w-jackie-34/
LOCATION:Wellness Center-2nd
CATEGORIES:Assisted Living
END:VEVENT
BEGIN:VEVENT
DTSTART;TZID=America/Chicago:20260316T093000
DTEND;TZID=America/Chicago:20260316T100000
DTSTAMP:20260420T221026
CREATED:20260215T032843Z
LAST-MODIFIED:20260316T062910Z
UID:10004818-1773653400-1773655200@urbanaplaceseniorliving.com
SUMMARY:Roll into Wellness Exercise Class
DESCRIPTION:Join us in the 2nd floor Wellness Center for a fun group exercise class for all abilities!
URL:https://urbanaplaceseniorliving.com/event-calendar/roll-into-wellness-exercise-class-5/
LOCATION:Wellness Center-2nd
CATEGORIES:Assisted Living
END:VEVENT
BEGIN:VEVENT
DTSTART;TZID=America/Chicago:20260314T090000
DTEND;TZID=America/Chicago:20260314T110000
DTSTAMP:20260420T221026
CREATED:20260213T032849Z
LAST-MODIFIED:20260314T061314Z
UID:10004792-1773478800-1773486000@urbanaplaceseniorliving.com
SUMMARY:Beth Yeshua Virtual Service
DESCRIPTION:Beth Yeshua International ties you to your roots. If you are Jewish\, our joyous worship will stir your soul. If you are Christian\, our synagogue gives you a chance to explore the Jewish roots of your faith. All are welcome!
URL:https://urbanaplaceseniorliving.com/event-calendar/beth-yeshua-virtual-service-45/
LOCATION:Wellness Center-2nd
CATEGORIES:Assisted Living
END:VEVENT
BEGIN:VEVENT
DTSTART;VALUE=DATE:20260314
DTEND;VALUE=DATE:20260315
DTSTAMP:20260420T221026
CREATED:20260213T032848Z
LAST-MODIFIED:20260313T061427Z
UID:10004791-1773446400-1773532799@urbanaplaceseniorliving.com
SUMMARY:Independent Exercise
DESCRIPTION:Stop in the Wellness Center and move your body today! All equipment is available for your use
URL:https://urbanaplaceseniorliving.com/event-calendar/independent-exercise-18/
LOCATION:Wellness Center-2nd
CATEGORIES:Assisted Living
END:VEVENT
BEGIN:VEVENT
DTSTART;TZID=America/Chicago:20260313T110000
DTEND;TZID=America/Chicago:20260313T113000
DTSTAMP:20260420T221026
CREATED:20260212T031334Z
LAST-MODIFIED:20260217T034339Z
UID:10004779-1773399600-1773401400@urbanaplaceseniorliving.com
SUMMARY:Stretch & Strengthen Exercise Class
DESCRIPTION:All abilities are welcome for this seated group exercise class
URL:https://urbanaplaceseniorliving.com/event-calendar/stretch-strengthen-exercise-class-6/
LOCATION:Wellness Center-2nd
CATEGORIES:Assisted Living
END:VEVENT
BEGIN:VEVENT
DTSTART;VALUE=DATE:20260313
DTEND;VALUE=DATE:20260314
DTSTAMP:20260420T221026
CREATED:20260218T035834Z
LAST-MODIFIED:20260312T061413Z
UID:10004856-1773360000-1773446399@urbanaplaceseniorliving.com
SUMMARY:Independent Exercise
DESCRIPTION:
URL:https://urbanaplaceseniorliving.com/event-calendar/independent-exercise-19/
LOCATION:Wellness Center-2nd
CATEGORIES:Assisted Living
END:VEVENT
BEGIN:VEVENT
DTSTART;TZID=America/Chicago:20260311T110000
DTEND;TZID=America/Chicago:20260311T113000
DTSTAMP:20260420T221026
CREATED:20260210T031350Z
LAST-MODIFIED:20260311T061314Z
UID:10004757-1773226800-1773228600@urbanaplaceseniorliving.com
SUMMARY:Chair Cardio w/Jackie
DESCRIPTION:This exercise class is for all abilities
URL:https://urbanaplaceseniorliving.com/event-calendar/chair-cardio-w-jackie-33/
LOCATION:Wellness Center-2nd
CATEGORIES:Assisted Living
END:VEVENT
BEGIN:VEVENT
DTSTART;TZID=America/Chicago:20260309T153000
DTEND;TZID=America/Chicago:20260309T163000
DTSTAMP:20260420T221026
CREATED:20260218T035832Z
LAST-MODIFIED:20260309T061319Z
UID:10004853-1773070200-1773073800@urbanaplaceseniorliving.com
SUMMARY:Wii Bowling
DESCRIPTION:Everyone is able to participate in this kind of Bowling! Come to the 2nd floor Wellness Center to check it out!
URL:https://urbanaplaceseniorliving.com/event-calendar/wii-bowling/
LOCATION:Wellness Center-2nd
CATEGORIES:Assisted Living
END:VEVENT
BEGIN:VEVENT
DTSTART;TZID=America/Chicago:20260309T093000
DTEND;TZID=America/Chicago:20260309T100000
DTSTAMP:20260420T221026
CREATED:20260208T025821Z
LAST-MODIFIED:20260309T061318Z
UID:10004725-1773048600-1773050400@urbanaplaceseniorliving.com
SUMMARY:Roll into Wellness Exercise Class
DESCRIPTION:Join us in the 2nd floor Wellness Center for a fun group exercise class for all abilities!
URL:https://urbanaplaceseniorliving.com/event-calendar/roll-into-wellness-exercise-class-4/
LOCATION:Wellness Center-2nd
CATEGORIES:Assisted Living
END:VEVENT
BEGIN:VEVENT
DTSTART;TZID=America/Chicago:20260307T090000
DTEND;TZID=America/Chicago:20260307T110000
DTSTAMP:20260420T221026
CREATED:20260206T024326Z
LAST-MODIFIED:20260307T054425Z
UID:10004698-1772874000-1772881200@urbanaplaceseniorliving.com
SUMMARY:Beth Yeshua Virtual Service
DESCRIPTION:Beth Yeshua International ties you to your roots. If you are Jewish\, our joyous worship will stir your soul. If you are Christian\, our synagogue gives you a chance to explore the Jewish roots of your faith. All are welcome!
URL:https://urbanaplaceseniorliving.com/event-calendar/beth-yeshua-virtual-service-44/
LOCATION:Wellness Center-2nd
CATEGORIES:Assisted Living
END:VEVENT
BEGIN:VEVENT
DTSTART;VALUE=DATE:20260307
DTEND;VALUE=DATE:20260308
DTSTAMP:20260420T221026
CREATED:20260206T024326Z
LAST-MODIFIED:20260306T052831Z
UID:10004697-1772841600-1772927999@urbanaplaceseniorliving.com
SUMMARY:Independent Exercise
DESCRIPTION:Stop in the Wellness Center and move your body today! All equipment is available for your use
URL:https://urbanaplaceseniorliving.com/event-calendar/independent-exercise-17/
LOCATION:Wellness Center-2nd
CATEGORIES:Assisted Living
END:VEVENT
END:VCALENDAR