BEGIN:VCALENDAR
VERSION:2.0
PRODID:-//Urbana Place Senior Living in Brooklyn Park - ECPv6.11.2.1//NONSGML v1.0//EN
CALSCALE:GREGORIAN
METHOD:PUBLISH
X-ORIGINAL-URL:https://urbanaplaceseniorliving.com
X-WR-CALDESC:Events for Urbana Place Senior Living in Brooklyn Park
REFRESH-INTERVAL;VALUE=DURATION:PT1H
X-Robots-Tag:noindex
X-PUBLISHED-TTL:PT1H
BEGIN:VTIMEZONE
TZID:America/Chicago
BEGIN:DAYLIGHT
TZOFFSETFROM:-0600
TZOFFSETTO:-0500
TZNAME:CDT
DTSTART:20250309T080000
END:DAYLIGHT
BEGIN:STANDARD
TZOFFSETFROM:-0500
TZOFFSETTO:-0600
TZNAME:CST
DTSTART:20251102T070000
END:STANDARD
END:VTIMEZONE
BEGIN:VEVENT
DTSTART;VALUE=DATE:20250808
DTEND;VALUE=DATE:20250809
DTSTAMP:20260421T233437
CREATED:20250721T101326Z
LAST-MODIFIED:20250807T101324Z
UID:10001457-1754611200-1754697599@urbanaplaceseniorliving.com
SUMMARY:Independent Exercise
DESCRIPTION:
URL:https://urbanaplaceseniorliving.com/event-calendar/independent-exercise-2/
LOCATION:Wellness Center-2nd
CATEGORIES:Assisted Living
END:VEVENT
BEGIN:VEVENT
DTSTART;TZID=America/Chicago:20250806T130000
DTEND;TZID=America/Chicago:20250806T133000
DTSTAMP:20260421T233437
CREATED:20250721T101326Z
LAST-MODIFIED:20250806T101312Z
UID:10001455-1754485200-1754487000@urbanaplaceseniorliving.com
SUMMARY:Chair Cardio w/Jackie
DESCRIPTION:This exercise class is for all abilities
URL:https://urbanaplaceseniorliving.com/event-calendar/chair-cardio-w-jackie/
LOCATION:Wellness Center-2nd
CATEGORIES:Assisted Living
END:VEVENT
BEGIN:VEVENT
DTSTART;TZID=America/Chicago:20250804T093000
DTEND;TZID=America/Chicago:20250804T100000
DTSTAMP:20260421T233437
CREATED:20250706T091343Z
LAST-MODIFIED:20250804T101317Z
UID:10001225-1754299800-1754301600@urbanaplaceseniorliving.com
SUMMARY:Weights and Grip Class
DESCRIPTION:Wake your body up with this morning exercise class! All abilities welcome!
URL:https://urbanaplaceseniorliving.com/event-calendar/weights-and-grip-class-10/
LOCATION:Wellness Center-2nd
CATEGORIES:Assisted Living
END:VEVENT
BEGIN:VEVENT
DTSTART;TZID=America/Chicago:20250801T110000
DTEND;TZID=America/Chicago:20250801T120000
DTSTAMP:20260421T233437
CREATED:20250703T091313Z
LAST-MODIFIED:20250801T101310Z
UID:10001178-1754046000-1754049600@urbanaplaceseniorliving.com
SUMMARY:Fitness Drumming
DESCRIPTION:
URL:https://urbanaplaceseniorliving.com/event-calendar/fitness-drumming-11/
LOCATION:Wellness Center-2nd
CATEGORIES:Assisted Living
END:VEVENT
END:VCALENDAR