BEGIN:VCALENDAR
VERSION:2.0
PRODID:-//Urbana Place Senior Living in Brooklyn Park - ECPv6.11.2.1//NONSGML v1.0//EN
CALSCALE:GREGORIAN
METHOD:PUBLISH
X-ORIGINAL-URL:https://urbanaplaceseniorliving.com
X-WR-CALDESC:Events for Urbana Place Senior Living in Brooklyn Park
REFRESH-INTERVAL;VALUE=DURATION:PT1H
X-Robots-Tag:noindex
X-PUBLISHED-TTL:PT1H
BEGIN:VTIMEZONE
TZID:America/Chicago
BEGIN:DAYLIGHT
TZOFFSETFROM:-0600
TZOFFSETTO:-0500
TZNAME:CDT
DTSTART:20250309T080000
END:DAYLIGHT
BEGIN:STANDARD
TZOFFSETFROM:-0500
TZOFFSETTO:-0600
TZNAME:CST
DTSTART:20251102T070000
END:STANDARD
END:VTIMEZONE
BEGIN:VEVENT
DTSTART;TZID=America/Chicago:20251001T110000
DTEND;TZID=America/Chicago:20251001T113000
DTSTAMP:20260421T194046
CREATED:20250902T105819Z
LAST-MODIFIED:20251001T114320Z
UID:10002188-1759316400-1759318200@urbanaplaceseniorliving.com
SUMMARY:Chair Cardio w/Jackie
DESCRIPTION:This exercise class is for all abilities
URL:https://urbanaplaceseniorliving.com/event-calendar/chair-cardio-w-jackie-9/
LOCATION:Wellness Center-2nd
CATEGORIES:Assisted Living
END:VEVENT
BEGIN:VEVENT
DTSTART;TZID=America/Chicago:20250929T093000
DTEND;TZID=America/Chicago:20250929T100000
DTSTAMP:20260421T194046
CREATED:20250831T105823Z
LAST-MODIFIED:20250929T114311Z
UID:10002104-1759138200-1759140000@urbanaplaceseniorliving.com
SUMMARY:Weights and Grip Class
DESCRIPTION:Wake your body up with this morning exercise class! All abilities welcome!
URL:https://urbanaplaceseniorliving.com/event-calendar/weights-and-grip-class-18/
LOCATION:Wellness Center-2nd
CATEGORIES:Assisted Living
END:VEVENT
BEGIN:VEVENT
DTSTART;TZID=America/Chicago:20250927T090000
DTEND;TZID=America/Chicago:20250927T110000
DTSTAMP:20260421T194046
CREATED:20250829T105822Z
LAST-MODIFIED:20250927T114323Z
UID:10002079-1758963600-1758970800@urbanaplaceseniorliving.com
SUMMARY:Beth Yeshua Virtual Service
DESCRIPTION:Beth Yeshua International ties you to your roots. If you are Jewish\, our joyous worship will stir your soul. If you are Christian\, our synagogue gives you a chance to explore the Jewish roots of your faith. All are welcome!
URL:https://urbanaplaceseniorliving.com/event-calendar/beth-yeshua-virtual-service-21/
LOCATION:Wellness Center-2nd
CATEGORIES:Assisted Living
END:VEVENT
BEGIN:VEVENT
DTSTART;TZID=America/Chicago:20250926T110000
DTEND;TZID=America/Chicago:20250926T120000
DTSTAMP:20260421T194046
CREATED:20250828T105826Z
LAST-MODIFIED:20250926T114311Z
UID:10002067-1758884400-1758888000@urbanaplaceseniorliving.com
SUMMARY:Fitness Drumming
DESCRIPTION:
URL:https://urbanaplaceseniorliving.com/event-calendar/fitness-drumming-19/
LOCATION:Wellness Center-2nd
CATEGORIES:Assisted Living
END:VEVENT
BEGIN:VEVENT
DTSTART;TZID=America/Chicago:20250924T130000
DTEND;TZID=America/Chicago:20250924T133000
DTSTAMP:20260421T194046
CREATED:20250912T105811Z
LAST-MODIFIED:20250924T114311Z
UID:10002357-1758718800-1758720600@urbanaplaceseniorliving.com
SUMMARY:Chair Cardio w/Jackie
DESCRIPTION:
URL:https://urbanaplaceseniorliving.com/event-calendar/chair-cardio-w-jackie-12/
LOCATION:Wellness Center-2nd
CATEGORIES:Assisted Living
END:VEVENT
BEGIN:VEVENT
DTSTART;TZID=America/Chicago:20250924T130000
DTEND;TZID=America/Chicago:20250924T133000
DTSTAMP:20260421T194046
CREATED:20250826T105819Z
LAST-MODIFIED:20250911T105812Z
UID:10002049-1758718800-1758720600@urbanaplaceseniorliving.com
SUMMARY:Chair Cardio w/Jackie
DESCRIPTION:This exercise class is for all abilities
URL:https://urbanaplaceseniorliving.com/event-calendar/chair-cardio-w-jackie-8/
LOCATION:Wellness Center-2nd
CATEGORIES:Assisted Living
END:VEVENT
BEGIN:VEVENT
DTSTART;TZID=America/Chicago:20250922T093000
DTEND;TZID=America/Chicago:20250922T100000
DTSTAMP:20260421T194046
CREATED:20250824T105814Z
LAST-MODIFIED:20250922T114317Z
UID:10002015-1758533400-1758535200@urbanaplaceseniorliving.com
SUMMARY:Weights and Grip Class
DESCRIPTION:Wake your body up with this morning exercise class! All abilities welcome!
URL:https://urbanaplaceseniorliving.com/event-calendar/weights-and-grip-class-17/
LOCATION:Wellness Center-2nd
CATEGORIES:Assisted Living
END:VEVENT
BEGIN:VEVENT
DTSTART;TZID=America/Chicago:20250920T090000
DTEND;TZID=America/Chicago:20250920T110000
DTSTAMP:20260421T194046
CREATED:20250822T105817Z
LAST-MODIFIED:20250920T114312Z
UID:10001990-1758358800-1758366000@urbanaplaceseniorliving.com
SUMMARY:Beth Yeshua Virtual Service
DESCRIPTION:Beth Yeshua International ties you to your roots. If you are Jewish\, our joyous worship will stir your soul. If you are Christian\, our synagogue gives you a chance to explore the Jewish roots of your faith. All are welcome!
URL:https://urbanaplaceseniorliving.com/event-calendar/beth-yeshua-virtual-service-20/
LOCATION:Wellness Center-2nd
CATEGORIES:Assisted Living
END:VEVENT
BEGIN:VEVENT
DTSTART;TZID=America/Chicago:20250919T110000
DTEND;TZID=America/Chicago:20250919T120000
DTSTAMP:20260421T194046
CREATED:20250821T105834Z
LAST-MODIFIED:20250821T105834Z
UID:10001977-1758279600-1758283200@urbanaplaceseniorliving.com
SUMMARY:Fitness Drumming
DESCRIPTION:
URL:https://urbanaplaceseniorliving.com/event-calendar/fitness-drumming-18/
LOCATION:Wellness Center-2nd
CATEGORIES:Assisted Living
END:VEVENT
BEGIN:VEVENT
DTSTART;TZID=America/Chicago:20250919T090000
DTEND;TZID=America/Chicago:20250919T205900
DTSTAMP:20260421T194046
CREATED:20250822T105817Z
LAST-MODIFIED:20250919T114315Z
UID:10001988-1758272400-1758315540@urbanaplaceseniorliving.com
SUMMARY:Independent Exercise (all day)
DESCRIPTION:
URL:https://urbanaplaceseniorliving.com/event-calendar/independent-exercise-all-day-2/
LOCATION:Wellness Center-2nd
CATEGORIES:Assisted Living
END:VEVENT
BEGIN:VEVENT
DTSTART;TZID=America/Chicago:20250917T130000
DTEND;TZID=America/Chicago:20250917T133000
DTSTAMP:20260421T194046
CREATED:20250912T105809Z
LAST-MODIFIED:20250917T112811Z
UID:10002356-1758114000-1758115800@urbanaplaceseniorliving.com
SUMMARY:Chair Cardio w/Jackie
DESCRIPTION:
URL:https://urbanaplaceseniorliving.com/event-calendar/chair-cardio-w-jackie-11/
LOCATION:Wellness Center-2nd
CATEGORIES:Assisted Living
END:VEVENT
BEGIN:VEVENT
DTSTART;TZID=America/Chicago:20250917T130000
DTEND;TZID=America/Chicago:20250917T133000
DTSTAMP:20260421T194046
CREATED:20250819T105815Z
LAST-MODIFIED:20250911T105810Z
UID:10001956-1758114000-1758115800@urbanaplaceseniorliving.com
SUMMARY:Chair Cardio w/Jackie
DESCRIPTION:This exercise class is for all abilities
URL:https://urbanaplaceseniorliving.com/event-calendar/chair-cardio-w-jackie-7/
LOCATION:Wellness Center-2nd
CATEGORIES:Assisted Living
END:VEVENT
BEGIN:VEVENT
DTSTART;TZID=America/Chicago:20250915T093000
DTEND;TZID=America/Chicago:20250915T100000
DTSTAMP:20260421T194046
CREATED:20250817T105815Z
LAST-MODIFIED:20250915T111328Z
UID:10001916-1757928600-1757930400@urbanaplaceseniorliving.com
SUMMARY:Weights and Grip Class
DESCRIPTION:Wake your body up with this morning exercise class! All abilities welcome!
URL:https://urbanaplaceseniorliving.com/event-calendar/weights-and-grip-class-16/
LOCATION:Wellness Center-2nd
CATEGORIES:Assisted Living
END:VEVENT
BEGIN:VEVENT
DTSTART;TZID=America/Chicago:20250913T090000
DTEND;TZID=America/Chicago:20250913T110000
DTSTAMP:20260421T194046
CREATED:20250815T104317Z
LAST-MODIFIED:20250913T105821Z
UID:10001889-1757754000-1757761200@urbanaplaceseniorliving.com
SUMMARY:Beth Yeshua Virtual Service
DESCRIPTION:Beth Yeshua International ties you to your roots. If you are Jewish\, our joyous worship will stir your soul. If you are Christian\, our synagogue gives you a chance to explore the Jewish roots of your faith. All are welcome!
URL:https://urbanaplaceseniorliving.com/event-calendar/beth-yeshua-virtual-service-19/
LOCATION:Wellness Center-2nd
CATEGORIES:Assisted Living
END:VEVENT
BEGIN:VEVENT
DTSTART;TZID=America/Chicago:20250912T110000
DTEND;TZID=America/Chicago:20250912T120000
DTSTAMP:20260421T194046
CREATED:20250814T102830Z
LAST-MODIFIED:20250912T105810Z
UID:10001869-1757674800-1757678400@urbanaplaceseniorliving.com
SUMMARY:Fitness Drumming
DESCRIPTION:
URL:https://urbanaplaceseniorliving.com/event-calendar/fitness-drumming-17/
LOCATION:Wellness Center-2nd
CATEGORIES:Assisted Living
END:VEVENT
BEGIN:VEVENT
DTSTART;TZID=America/Chicago:20250910T130000
DTEND;TZID=America/Chicago:20250910T133000
DTSTAMP:20260421T194046
CREATED:20250812T101315Z
LAST-MODIFIED:20250910T105811Z
UID:10001835-1757509200-1757511000@urbanaplaceseniorliving.com
SUMMARY:Chair Cardio w/Jackie
DESCRIPTION:This exercise class is for all abilities
URL:https://urbanaplaceseniorliving.com/event-calendar/chair-cardio-w-jackie-6/
LOCATION:Wellness Center-2nd
CATEGORIES:Assisted Living
END:VEVENT
BEGIN:VEVENT
DTSTART;TZID=America/Chicago:20250908T093000
DTEND;TZID=America/Chicago:20250908T100000
DTSTAMP:20260421T194046
CREATED:20250810T101319Z
LAST-MODIFIED:20250908T105816Z
UID:10001804-1757323800-1757325600@urbanaplaceseniorliving.com
SUMMARY:Weights and Grip Class
DESCRIPTION:Wake your body up with this morning exercise class! All abilities welcome!
URL:https://urbanaplaceseniorliving.com/event-calendar/weights-and-grip-class-15/
LOCATION:Wellness Center-2nd
CATEGORIES:Assisted Living
END:VEVENT
BEGIN:VEVENT
DTSTART;TZID=America/Chicago:20250906T090000
DTEND;TZID=America/Chicago:20250906T110000
DTSTAMP:20260421T194046
CREATED:20250808T101335Z
LAST-MODIFIED:20250906T105823Z
UID:10001772-1757149200-1757156400@urbanaplaceseniorliving.com
SUMMARY:Beth Yeshua Virtual Service
DESCRIPTION:Beth Yeshua International ties you to your roots. If you are Jewish\, our joyous worship will stir your soul. If you are Christian\, our synagogue gives you a chance to explore the Jewish roots of your faith. All are welcome!
URL:https://urbanaplaceseniorliving.com/event-calendar/beth-yeshua-virtual-service-18/
LOCATION:Wellness Center-2nd
CATEGORIES:Assisted Living
END:VEVENT
BEGIN:VEVENT
DTSTART;TZID=America/Chicago:20250905T110000
DTEND;TZID=America/Chicago:20250905T120000
DTSTAMP:20260421T194046
CREATED:20250807T101328Z
LAST-MODIFIED:20250905T105810Z
UID:10001755-1757070000-1757073600@urbanaplaceseniorliving.com
SUMMARY:Fitness Drumming
DESCRIPTION:
URL:https://urbanaplaceseniorliving.com/event-calendar/fitness-drumming-16/
LOCATION:Wellness Center-2nd
CATEGORIES:Assisted Living
END:VEVENT
BEGIN:VEVENT
DTSTART;TZID=America/Chicago:20250903T130000
DTEND;TZID=America/Chicago:20250903T133000
DTSTAMP:20260421T194046
CREATED:20250805T101420Z
LAST-MODIFIED:20250903T105815Z
UID:10001735-1756904400-1756906200@urbanaplaceseniorliving.com
SUMMARY:Chair Cardio w/Jackie
DESCRIPTION:This exercise class is for all abilities
URL:https://urbanaplaceseniorliving.com/event-calendar/chair-cardio-w-jackie-5/
LOCATION:Wellness Center-2nd
CATEGORIES:Assisted Living
END:VEVENT
BEGIN:VEVENT
DTSTART;TZID=America/Chicago:20250901T093000
DTEND;TZID=America/Chicago:20250901T100000
DTSTAMP:20260421T194046
CREATED:20250803T101357Z
LAST-MODIFIED:20250901T105822Z
UID:10001713-1756719000-1756720800@urbanaplaceseniorliving.com
SUMMARY:Weights and Grip Class
DESCRIPTION:Wake your body up with this morning exercise class! All abilities welcome!
URL:https://urbanaplaceseniorliving.com/event-calendar/weights-and-grip-class-14/
LOCATION:Wellness Center-2nd
CATEGORIES:Assisted Living
END:VEVENT
BEGIN:VEVENT
DTSTART;TZID=America/Chicago:20250829T110000
DTEND;TZID=America/Chicago:20250829T120000
DTSTAMP:20260421T194046
CREATED:20250731T101325Z
LAST-MODIFIED:20250829T105816Z
UID:10001601-1756465200-1756468800@urbanaplaceseniorliving.com
SUMMARY:Fitness Drumming
DESCRIPTION:
URL:https://urbanaplaceseniorliving.com/event-calendar/fitness-drumming-15/
LOCATION:Wellness Center-2nd
CATEGORIES:Assisted Living
END:VEVENT
BEGIN:VEVENT
DTSTART;TZID=America/Chicago:20250827T130000
DTEND;TZID=America/Chicago:20250827T133000
DTSTAMP:20260421T194046
CREATED:20250729T101324Z
LAST-MODIFIED:20250827T105820Z
UID:10001585-1756299600-1756301400@urbanaplaceseniorliving.com
SUMMARY:Chair Cardio w/Jackie
DESCRIPTION:This exercise class is for all abilities
URL:https://urbanaplaceseniorliving.com/event-calendar/chair-cardio-w-jackie-4/
LOCATION:Wellness Center-2nd
CATEGORIES:Assisted Living
END:VEVENT
BEGIN:VEVENT
DTSTART;TZID=America/Chicago:20250825T093000
DTEND;TZID=America/Chicago:20250825T100000
DTSTAMP:20260421T194046
CREATED:20250727T101315Z
LAST-MODIFIED:20250825T105818Z
UID:10001541-1756114200-1756116000@urbanaplaceseniorliving.com
SUMMARY:Weights and Grip Class
DESCRIPTION:Wake your body up with this morning exercise class! All abilities welcome!
URL:https://urbanaplaceseniorliving.com/event-calendar/weights-and-grip-class-13/
LOCATION:Wellness Center-2nd
CATEGORIES:Assisted Living
END:VEVENT
BEGIN:VEVENT
DTSTART;VALUE=DATE:20250822
DTEND;VALUE=DATE:20250823
DTSTAMP:20260421T194046
CREATED:20250723T101324Z
LAST-MODIFIED:20250821T105830Z
UID:10001492-1755820800-1755907199@urbanaplaceseniorliving.com
SUMMARY:Independent Exercise
DESCRIPTION:
URL:https://urbanaplaceseniorliving.com/event-calendar/independent-exercise-3/
LOCATION:Wellness Center-2nd
CATEGORIES:Assisted Living
END:VEVENT
BEGIN:VEVENT
DTSTART;TZID=America/Chicago:20250820T130000
DTEND;TZID=America/Chicago:20250820T133000
DTSTAMP:20260421T194046
CREATED:20250722T101337Z
LAST-MODIFIED:20250724T101334Z
UID:10001479-1755694800-1755696600@urbanaplaceseniorliving.com
SUMMARY:Chair Cardio w/Jackie
DESCRIPTION:This exercise class is for all abilities
URL:https://urbanaplaceseniorliving.com/event-calendar/chair-cardio-w-jackie-3/
LOCATION:Wellness Center-2nd
CATEGORIES:Assisted Living
END:VEVENT
BEGIN:VEVENT
DTSTART;TZID=America/Chicago:20250818T093000
DTEND;TZID=America/Chicago:20250818T100000
DTSTAMP:20260421T194046
CREATED:20250720T095825Z
LAST-MODIFIED:20250818T105814Z
UID:10001435-1755509400-1755511200@urbanaplaceseniorliving.com
SUMMARY:Weights and Grip Class
DESCRIPTION:Wake your body up with this morning exercise class! All abilities welcome!
URL:https://urbanaplaceseniorliving.com/event-calendar/weights-and-grip-class-12/
LOCATION:Wellness Center-2nd
CATEGORIES:Assisted Living
END:VEVENT
BEGIN:VEVENT
DTSTART;TZID=America/Chicago:20250815T110000
DTEND;TZID=America/Chicago:20250815T120000
DTSTAMP:20260421T194046
CREATED:20250717T095920Z
LAST-MODIFIED:20250815T104312Z
UID:10001393-1755255600-1755259200@urbanaplaceseniorliving.com
SUMMARY:Fitness Drumming
DESCRIPTION:
URL:https://urbanaplaceseniorliving.com/event-calendar/fitness-drumming-14/
LOCATION:Wellness Center-2nd
CATEGORIES:Assisted Living
END:VEVENT
BEGIN:VEVENT
DTSTART;TZID=America/Chicago:20250813T130000
DTEND;TZID=America/Chicago:20250813T133000
DTSTAMP:20260421T194046
CREATED:20250721T101327Z
LAST-MODIFIED:20250813T102822Z
UID:10001460-1755090000-1755091800@urbanaplaceseniorliving.com
SUMMARY:Chair Cardio w/Jackie
DESCRIPTION:This exercise class is for all abilities
URL:https://urbanaplaceseniorliving.com/event-calendar/chair-cardio-w-jackie-2/
LOCATION:Wellness Center-2nd
CATEGORIES:Assisted Living
END:VEVENT
BEGIN:VEVENT
DTSTART;TZID=America/Chicago:20250811T093000
DTEND;TZID=America/Chicago:20250811T100000
DTSTAMP:20260421T194046
CREATED:20250713T094315Z
LAST-MODIFIED:20250811T101310Z
UID:10001331-1754904600-1754906400@urbanaplaceseniorliving.com
SUMMARY:Weights and Grip Class
DESCRIPTION:Wake your body up with this morning exercise class! All abilities welcome!
URL:https://urbanaplaceseniorliving.com/event-calendar/weights-and-grip-class-11/
LOCATION:Wellness Center-2nd
CATEGORIES:Assisted Living
END:VEVENT
END:VCALENDAR