BEGIN:VCALENDAR
VERSION:2.0
PRODID:-//Urbana Place Senior Living in Brooklyn Park - ECPv6.11.2.1//NONSGML v1.0//EN
CALSCALE:GREGORIAN
METHOD:PUBLISH
X-WR-CALNAME:Urbana Place Senior Living in Brooklyn Park
X-ORIGINAL-URL:https://urbanaplaceseniorliving.com
X-WR-CALDESC:Events for Urbana Place Senior Living in Brooklyn Park
REFRESH-INTERVAL;VALUE=DURATION:PT1H
X-Robots-Tag:noindex
X-PUBLISHED-TTL:PT1H
BEGIN:VTIMEZONE
TZID:America/Chicago
BEGIN:DAYLIGHT
TZOFFSETFROM:-0600
TZOFFSETTO:-0500
TZNAME:CDT
DTSTART:20250309T080000
END:DAYLIGHT
BEGIN:STANDARD
TZOFFSETFROM:-0500
TZOFFSETTO:-0600
TZNAME:CST
DTSTART:20251102T070000
END:STANDARD
END:VTIMEZONE
BEGIN:VEVENT
DTSTART;TZID=America/Chicago:20251224T110000
DTEND;TZID=America/Chicago:20251224T113000
DTSTAMP:20260421T125501
CREATED:20251125T145819Z
LAST-MODIFIED:20251224T005814Z
UID:10003550-1766574000-1766575800@urbanaplaceseniorliving.com
SUMMARY:Chair Cardio w/Jackie
DESCRIPTION:This exercise class is for all abilities
URL:https://urbanaplaceseniorliving.com/event-calendar/chair-cardio-w-jackie-22/
LOCATION:Wellness Center-2nd
CATEGORIES:Assisted Living
END:VEVENT
BEGIN:VEVENT
DTSTART;TZID=America/Chicago:20251222T093000
DTEND;TZID=America/Chicago:20251222T100000
DTSTAMP:20260421T125501
CREATED:20251123T144316Z
LAST-MODIFIED:20251222T005810Z
UID:10003494-1766395800-1766397600@urbanaplaceseniorliving.com
SUMMARY:Weights and Grip Class
DESCRIPTION:Wake your body up with this morning exercise class! All abilities welcome!
URL:https://urbanaplaceseniorliving.com/event-calendar/weights-and-grip-class-30/
LOCATION:Wellness Center-2nd
CATEGORIES:Assisted Living
END:VEVENT
BEGIN:VEVENT
DTSTART;TZID=America/Chicago:20251220T090000
DTEND;TZID=America/Chicago:20251220T110000
DTSTAMP:20260421T125501
CREATED:20251121T144316Z
LAST-MODIFIED:20251220T004310Z
UID:10003468-1766221200-1766228400@urbanaplaceseniorliving.com
SUMMARY:Beth Yeshua Virtual Service
DESCRIPTION:Beth Yeshua International ties you to your roots. If you are Jewish\, our joyous worship will stir your soul. If you are Christian\, our synagogue gives you a chance to explore the Jewish roots of your faith. All are welcome!
URL:https://urbanaplaceseniorliving.com/event-calendar/beth-yeshua-virtual-service-33/
LOCATION:Wellness Center-2nd
CATEGORIES:Assisted Living
END:VEVENT
BEGIN:VEVENT
DTSTART;TZID=America/Chicago:20251219T110000
DTEND;TZID=America/Chicago:20251219T113000
DTSTAMP:20260421T125501
CREATED:20251120T144315Z
LAST-MODIFIED:20251219T004311Z
UID:10003456-1766142000-1766143800@urbanaplaceseniorliving.com
SUMMARY:Silver Sneakers Exercise Class
DESCRIPTION:All abilities will be able to participate in this Silver Sneakers exercise class!
URL:https://urbanaplaceseniorliving.com/event-calendar/silver-sneakers-exercise-class-7/
LOCATION:Wellness Center-2nd
CATEGORIES:Assisted Living
END:VEVENT
BEGIN:VEVENT
DTSTART;TZID=America/Chicago:20251217T110000
DTEND;TZID=America/Chicago:20251217T113000
DTSTAMP:20260421T125501
CREATED:20251119T144321Z
LAST-MODIFIED:20251217T002813Z
UID:10003444-1765969200-1765971000@urbanaplaceseniorliving.com
SUMMARY:Chair Cardio w/Jackie
DESCRIPTION:This exercise class is for all abilities
URL:https://urbanaplaceseniorliving.com/event-calendar/chair-cardio-w-jackie-21/
LOCATION:Wellness Center-2nd
CATEGORIES:Assisted Living
END:VEVENT
BEGIN:VEVENT
DTSTART;TZID=America/Chicago:20251215T093000
DTEND;TZID=America/Chicago:20251215T100000
DTSTAMP:20260421T125501
CREATED:20251116T131314Z
LAST-MODIFIED:20251215T002812Z
UID:10003413-1765791000-1765792800@urbanaplaceseniorliving.com
SUMMARY:Weights and Grip Class
DESCRIPTION:Wake your body up with this morning exercise class! All abilities welcome!
URL:https://urbanaplaceseniorliving.com/event-calendar/weights-and-grip-class-29/
LOCATION:Wellness Center-2nd
CATEGORIES:Assisted Living
END:VEVENT
BEGIN:VEVENT
DTSTART;TZID=America/Chicago:20251213T090000
DTEND;TZID=America/Chicago:20251213T110000
DTSTAMP:20260421T125501
CREATED:20251114T131316Z
LAST-MODIFIED:20251213T002817Z
UID:10003381-1765616400-1765623600@urbanaplaceseniorliving.com
SUMMARY:Beth Yeshua Virtual Service
DESCRIPTION:Beth Yeshua International ties you to your roots. If you are Jewish\, our joyous worship will stir your soul. If you are Christian\, our synagogue gives you a chance to explore the Jewish roots of your faith. All are welcome!
URL:https://urbanaplaceseniorliving.com/event-calendar/beth-yeshua-virtual-service-32/
LOCATION:Wellness Center-2nd
CATEGORIES:Assisted Living
END:VEVENT
BEGIN:VEVENT
DTSTART;TZID=America/Chicago:20251212T110000
DTEND;TZID=America/Chicago:20251212T113000
DTSTAMP:20260421T125501
CREATED:20251113T131344Z
LAST-MODIFIED:20251212T002811Z
UID:10003367-1765537200-1765539000@urbanaplaceseniorliving.com
SUMMARY:Silver Sneakers Exercise Class
DESCRIPTION:All abilities will be able to participate in this Silver Sneakers exercise class!
URL:https://urbanaplaceseniorliving.com/event-calendar/silver-sneakers-exercise-class-6/
LOCATION:Wellness Center-2nd
CATEGORIES:Assisted Living
END:VEVENT
BEGIN:VEVENT
DTSTART;TZID=America/Chicago:20251210T130000
DTEND;TZID=America/Chicago:20251210T140000
DTSTAMP:20260421T125501
CREATED:20251111T131319Z
LAST-MODIFIED:20251210T002820Z
UID:10003334-1765371600-1765375200@urbanaplaceseniorliving.com
SUMMARY:Balance Clinic w/Aegis Therapies
DESCRIPTION:Come to the 2nd floor Wellness Center for this free Balance Clinic w/ Aegis Therapies. Treats will be provided
URL:https://urbanaplaceseniorliving.com/event-calendar/balance-clinic-w-aegis-therapies/
LOCATION:Wellness Center-2nd
CATEGORIES:Assisted Living
END:VEVENT
BEGIN:VEVENT
DTSTART;TZID=America/Chicago:20251210T110000
DTEND;TZID=America/Chicago:20251210T113000
DTSTAMP:20260421T125501
CREATED:20251111T131319Z
LAST-MODIFIED:20251210T002820Z
UID:10003333-1765364400-1765366200@urbanaplaceseniorliving.com
SUMMARY:Chair Cardio w/Jackie
DESCRIPTION:This exercise class is for all abilities
URL:https://urbanaplaceseniorliving.com/event-calendar/chair-cardio-w-jackie-20/
LOCATION:Wellness Center-2nd
CATEGORIES:Assisted Living
END:VEVENT
BEGIN:VEVENT
DTSTART;TZID=America/Chicago:20251208T093000
DTEND;TZID=America/Chicago:20251208T100000
DTSTAMP:20260421T125501
CREATED:20251109T125816Z
LAST-MODIFIED:20251208T002819Z
UID:10003303-1765186200-1765188000@urbanaplaceseniorliving.com
SUMMARY:Weights and Grip Class
DESCRIPTION:Wake your body up with this morning exercise class! All abilities welcome!
URL:https://urbanaplaceseniorliving.com/event-calendar/weights-and-grip-class-28/
LOCATION:Wellness Center-2nd
CATEGORIES:Assisted Living
END:VEVENT
BEGIN:VEVENT
DTSTART;TZID=America/Chicago:20251206T090000
DTEND;TZID=America/Chicago:20251206T110000
DTSTAMP:20260421T125501
CREATED:20251107T125822Z
LAST-MODIFIED:20251206T002811Z
UID:10003272-1765011600-1765018800@urbanaplaceseniorliving.com
SUMMARY:Beth Yeshua Virtual Service
DESCRIPTION:Beth Yeshua International ties you to your roots. If you are Jewish\, our joyous worship will stir your soul. If you are Christian\, our synagogue gives you a chance to explore the Jewish roots of your faith. All are welcome!
URL:https://urbanaplaceseniorliving.com/event-calendar/beth-yeshua-virtual-service-31/
LOCATION:Wellness Center-2nd
CATEGORIES:Assisted Living
END:VEVENT
BEGIN:VEVENT
DTSTART;TZID=America/Chicago:20251205T110000
DTEND;TZID=America/Chicago:20251205T113000
DTSTAMP:20260421T125501
CREATED:20251106T125816Z
LAST-MODIFIED:20251205T002811Z
UID:10003255-1764932400-1764934200@urbanaplaceseniorliving.com
SUMMARY:Silver Sneakers Exercise Class
DESCRIPTION:All abilities will be able to participate in this Silver Sneakers exercise class!
URL:https://urbanaplaceseniorliving.com/event-calendar/silver-sneakers-exercise-class-5/
LOCATION:Wellness Center-2nd
CATEGORIES:Assisted Living
END:VEVENT
BEGIN:VEVENT
DTSTART;TZID=America/Chicago:20251203T110000
DTEND;TZID=America/Chicago:20251203T113000
DTSTAMP:20260421T125501
CREATED:20251104T125818Z
LAST-MODIFIED:20251203T002813Z
UID:10003238-1764759600-1764761400@urbanaplaceseniorliving.com
SUMMARY:Chair Cardio w/Jackie
DESCRIPTION:This exercise class is for all abilities
URL:https://urbanaplaceseniorliving.com/event-calendar/chair-cardio-w-jackie-19/
LOCATION:Wellness Center-2nd
CATEGORIES:Assisted Living
END:VEVENT
BEGIN:VEVENT
DTSTART;TZID=America/Chicago:20251201T093000
DTEND;TZID=America/Chicago:20251201T100000
DTSTAMP:20260421T125501
CREATED:20251102T125819Z
LAST-MODIFIED:20251201T002813Z
UID:10003200-1764581400-1764583200@urbanaplaceseniorliving.com
SUMMARY:Weights and Grip Class
DESCRIPTION:Wake your body up with this morning exercise class! All abilities welcome!
URL:https://urbanaplaceseniorliving.com/event-calendar/weights-and-grip-class-27/
LOCATION:Wellness Center-2nd
CATEGORIES:Assisted Living
END:VEVENT
BEGIN:VEVENT
DTSTART;TZID=America/Chicago:20251129T090000
DTEND;TZID=America/Chicago:20251129T110000
DTSTAMP:20260421T125501
CREATED:20251031T125825Z
LAST-MODIFIED:20251128T125845Z
UID:10003112-1764406800-1764414000@urbanaplaceseniorliving.com
SUMMARY:Beth Yeshua Virtual Service
DESCRIPTION:Beth Yeshua International ties you to your roots. If you are Jewish\, our joyous worship will stir your soul. If you are Christian\, our synagogue gives you a chance to explore the Jewish roots of your faith. All are welcome!
URL:https://urbanaplaceseniorliving.com/event-calendar/beth-yeshua-virtual-service-30/
LOCATION:Wellness Center-2nd
CATEGORIES:Assisted Living
END:VEVENT
BEGIN:VEVENT
DTSTART;TZID=America/Chicago:20251128T110000
DTEND;TZID=America/Chicago:20251128T113000
DTSTAMP:20260421T125501
CREATED:20251030T125821Z
LAST-MODIFIED:20251128T125845Z
UID:10003103-1764327600-1764329400@urbanaplaceseniorliving.com
SUMMARY:Silver Sneakers Exercise Class
DESCRIPTION:All abilities will be able to participate in this Silver Sneakers exercise class!
URL:https://urbanaplaceseniorliving.com/event-calendar/silver-sneakers-exercise-class-4/
LOCATION:Wellness Center-2nd
CATEGORIES:Assisted Living
END:VEVENT
BEGIN:VEVENT
DTSTART;TZID=America/Chicago:20251126T110000
DTEND;TZID=America/Chicago:20251126T113000
DTSTAMP:20260421T125501
CREATED:20251028T124316Z
LAST-MODIFIED:20251125T145813Z
UID:10003087-1764154800-1764156600@urbanaplaceseniorliving.com
SUMMARY:Chair Cardio w/Jackie
DESCRIPTION:This exercise class is for all abilities
URL:https://urbanaplaceseniorliving.com/event-calendar/chair-cardio-w-jackie-18/
LOCATION:Wellness Center-2nd
CATEGORIES:Assisted Living
END:VEVENT
BEGIN:VEVENT
DTSTART;TZID=America/Chicago:20251124T093000
DTEND;TZID=America/Chicago:20251124T100000
DTSTAMP:20260421T125501
CREATED:20251026T124328Z
LAST-MODIFIED:20251124T144311Z
UID:10003034-1763976600-1763978400@urbanaplaceseniorliving.com
SUMMARY:Weights and Grip Class
DESCRIPTION:Wake your body up with this morning exercise class! All abilities welcome!
URL:https://urbanaplaceseniorliving.com/event-calendar/weights-and-grip-class-26/
LOCATION:Wellness Center-2nd
CATEGORIES:Assisted Living
END:VEVENT
BEGIN:VEVENT
DTSTART;TZID=America/Chicago:20251122T090000
DTEND;TZID=America/Chicago:20251122T110000
DTSTAMP:20260421T125501
CREATED:20251024T124328Z
LAST-MODIFIED:20251122T144315Z
UID:10003010-1763802000-1763809200@urbanaplaceseniorliving.com
SUMMARY:Beth Yeshua Virtual Service
DESCRIPTION:Beth Yeshua International ties you to your roots. If you are Jewish\, our joyous worship will stir your soul. If you are Christian\, our synagogue gives you a chance to explore the Jewish roots of your faith. All are welcome!
URL:https://urbanaplaceseniorliving.com/event-calendar/beth-yeshua-virtual-service-29/
LOCATION:Wellness Center-2nd
CATEGORIES:Assisted Living
END:VEVENT
BEGIN:VEVENT
DTSTART;TZID=America/Chicago:20251121T110000
DTEND;TZID=America/Chicago:20251121T113000
DTSTAMP:20260421T125501
CREATED:20251023T122832Z
LAST-MODIFIED:20251121T144312Z
UID:10002994-1763722800-1763724600@urbanaplaceseniorliving.com
SUMMARY:Silver Sneakers Exercise Class
DESCRIPTION:All abilities will be able to participate in this Silver Sneakers exercise class!
URL:https://urbanaplaceseniorliving.com/event-calendar/silver-sneakers-exercise-class-3/
LOCATION:Wellness Center-2nd
CATEGORIES:Assisted Living
END:VEVENT
BEGIN:VEVENT
DTSTART;TZID=America/Chicago:20251119T110000
DTEND;TZID=America/Chicago:20251119T113000
DTSTAMP:20260421T125501
CREATED:20251021T121316Z
LAST-MODIFIED:20251119T144317Z
UID:10002977-1763550000-1763551800@urbanaplaceseniorliving.com
SUMMARY:Chair Cardio w/Jackie
DESCRIPTION:This exercise class is for all abilities
URL:https://urbanaplaceseniorliving.com/event-calendar/chair-cardio-w-jackie-17/
LOCATION:Wellness Center-2nd
CATEGORIES:Assisted Living
END:VEVENT
BEGIN:VEVENT
DTSTART;TZID=America/Chicago:20251117T093000
DTEND;TZID=America/Chicago:20251117T100000
DTSTAMP:20260421T125501
CREATED:20251019T121317Z
LAST-MODIFIED:20251117T131312Z
UID:10002949-1763371800-1763373600@urbanaplaceseniorliving.com
SUMMARY:Weights and Grip Class
DESCRIPTION:Wake your body up with this morning exercise class! All abilities welcome!
URL:https://urbanaplaceseniorliving.com/event-calendar/weights-and-grip-class-25/
LOCATION:Wellness Center-2nd
CATEGORIES:Assisted Living
END:VEVENT
BEGIN:VEVENT
DTSTART;TZID=America/Chicago:20251115T090000
DTEND;TZID=America/Chicago:20251115T110000
DTSTAMP:20260421T125501
CREATED:20251017T121314Z
LAST-MODIFIED:20251115T131313Z
UID:10002923-1763197200-1763204400@urbanaplaceseniorliving.com
SUMMARY:Beth Yeshua Virtual Service
DESCRIPTION:Beth Yeshua International ties you to your roots. If you are Jewish\, our joyous worship will stir your soul. If you are Christian\, our synagogue gives you a chance to explore the Jewish roots of your faith. All are welcome!
URL:https://urbanaplaceseniorliving.com/event-calendar/beth-yeshua-virtual-service-28/
LOCATION:Wellness Center-2nd
CATEGORIES:Assisted Living
END:VEVENT
BEGIN:VEVENT
DTSTART;TZID=America/Chicago:20251114T110000
DTEND;TZID=America/Chicago:20251114T113000
DTSTAMP:20260421T125501
CREATED:20251016T121316Z
LAST-MODIFIED:20251114T131313Z
UID:10002914-1763118000-1763119800@urbanaplaceseniorliving.com
SUMMARY:Silver Sneakers Exercise Class
DESCRIPTION:All abilities will be able to participate in this Silver Sneakers exercise class!
URL:https://urbanaplaceseniorliving.com/event-calendar/silver-sneakers-exercise-class-2/
LOCATION:Wellness Center-2nd
CATEGORIES:Assisted Living
END:VEVENT
BEGIN:VEVENT
DTSTART;TZID=America/Chicago:20251112T110000
DTEND;TZID=America/Chicago:20251112T113000
DTSTAMP:20260421T125502
CREATED:20251014T115832Z
LAST-MODIFIED:20251112T131339Z
UID:10002891-1762945200-1762947000@urbanaplaceseniorliving.com
SUMMARY:Chair Cardio w/Jackie
DESCRIPTION:This exercise class is for all abilities
URL:https://urbanaplaceseniorliving.com/event-calendar/chair-cardio-w-jackie-16/
LOCATION:Wellness Center-2nd
CATEGORIES:Assisted Living
END:VEVENT
BEGIN:VEVENT
DTSTART;TZID=America/Chicago:20251110T093000
DTEND;TZID=America/Chicago:20251110T100000
DTSTAMP:20260421T125502
CREATED:20251012T114316Z
LAST-MODIFIED:20251110T125811Z
UID:10002854-1762767000-1762768800@urbanaplaceseniorliving.com
SUMMARY:Weights and Grip Class
DESCRIPTION:Wake your body up with this morning exercise class! All abilities welcome!
URL:https://urbanaplaceseniorliving.com/event-calendar/weights-and-grip-class-24/
LOCATION:Wellness Center-2nd
CATEGORIES:Assisted Living
END:VEVENT
BEGIN:VEVENT
DTSTART;TZID=America/Chicago:20251108T090000
DTEND;TZID=America/Chicago:20251108T110000
DTSTAMP:20260421T125502
CREATED:20251010T114340Z
LAST-MODIFIED:20251108T125812Z
UID:10002822-1762592400-1762599600@urbanaplaceseniorliving.com
SUMMARY:Beth Yeshua Virtual Service
DESCRIPTION:Beth Yeshua International ties you to your roots. If you are Jewish\, our joyous worship will stir your soul. If you are Christian\, our synagogue gives you a chance to explore the Jewish roots of your faith. All are welcome!
URL:https://urbanaplaceseniorliving.com/event-calendar/beth-yeshua-virtual-service-27/
LOCATION:Wellness Center-2nd
CATEGORIES:Assisted Living
END:VEVENT
BEGIN:VEVENT
DTSTART;TZID=America/Chicago:20251107T110000
DTEND;TZID=America/Chicago:20251107T120000
DTSTAMP:20260421T125502
CREATED:20251009T114327Z
LAST-MODIFIED:20251010T114340Z
UID:10002806-1762513200-1762516800@urbanaplaceseniorliving.com
SUMMARY:Fitness Drumming
DESCRIPTION:
URL:https://urbanaplaceseniorliving.com/event-calendar/fitness-drumming-26/
LOCATION:Wellness Center-2nd
CATEGORIES:Assisted Living
END:VEVENT
BEGIN:VEVENT
DTSTART;TZID=America/Chicago:20251107T110000
DTEND;TZID=America/Chicago:20251107T113000
DTSTAMP:20260421T125502
CREATED:20251011T114315Z
LAST-MODIFIED:20251107T125814Z
UID:10002840-1762513200-1762515000@urbanaplaceseniorliving.com
SUMMARY:Silver Sneakers Exercise Class
DESCRIPTION:All abilities will be able to participate in this Silver Sneakers exercise class!
URL:https://urbanaplaceseniorliving.com/event-calendar/silver-sneakers-exercise-class/
LOCATION:Wellness Center-2nd
CATEGORIES:Assisted Living
END:VEVENT
END:VCALENDAR