BEGIN:VCALENDAR
VERSION:2.0
PRODID:-//Urbana Place Senior Living in Brooklyn Park - ECPv6.11.2.1//NONSGML v1.0//EN
CALSCALE:GREGORIAN
METHOD:PUBLISH
X-ORIGINAL-URL:https://urbanaplaceseniorliving.com
X-WR-CALDESC:Events for Urbana Place Senior Living in Brooklyn Park
REFRESH-INTERVAL;VALUE=DURATION:PT1H
X-Robots-Tag:noindex
X-PUBLISHED-TTL:PT1H
BEGIN:VTIMEZONE
TZID:America/Chicago
BEGIN:DAYLIGHT
TZOFFSETFROM:-0600
TZOFFSETTO:-0500
TZNAME:CDT
DTSTART:20260308T080000
END:DAYLIGHT
BEGIN:STANDARD
TZOFFSETFROM:-0500
TZOFFSETTO:-0600
TZNAME:CST
DTSTART:20261101T070000
END:STANDARD
END:VTIMEZONE
BEGIN:VEVENT
DTSTART;TZID=America/Chicago:20260303T153000
DTEND;TZID=America/Chicago:20260303T163000
DTSTAMP:20260419T224951
CREATED:20260202T022815Z
LAST-MODIFIED:20260303T045820Z
UID:10004633-1772551800-1772555400@urbanaplaceseniorliving.com
SUMMARY:Play Wheel of Fortune
DESCRIPTION:
URL:https://urbanaplaceseniorliving.com/event-calendar/play-wheel-of-fortune-44/
LOCATION:Pub-2nd
CATEGORIES:Assisted Living
END:VEVENT
BEGIN:VEVENT
DTSTART;TZID=America/Chicago:20260301T150000
DTEND;TZID=America/Chicago:20260301T163000
DTSTAMP:20260419T224951
CREATED:20260131T022818Z
LAST-MODIFIED:20260301T045812Z
UID:10004606-1772377200-1772382600@urbanaplaceseniorliving.com
SUMMARY:Play Cribbage
DESCRIPTION:Dust off your cribbage skills! Invite a partner to come to the Pub to play some cribbage.
URL:https://urbanaplaceseniorliving.com/event-calendar/play-cribbage-9/
LOCATION:Pub-2nd
CATEGORIES:Assisted Living
END:VEVENT
BEGIN:VEVENT
DTSTART;TZID=America/Chicago:20260228T181500
DTEND;TZID=America/Chicago:20260228T201500
DTSTAMP:20260419T224951
CREATED:20260130T021321Z
LAST-MODIFIED:20260228T044315Z
UID:10004586-1772302500-1772309700@urbanaplaceseniorliving.com
SUMMARY:Movie 'Crazy Heart'
DESCRIPTION:
URL:https://urbanaplaceseniorliving.com/event-calendar/movie-crazy-heart-2/
LOCATION:Pub-2nd
CATEGORIES:Assisted Living
END:VEVENT
BEGIN:VEVENT
DTSTART;TZID=America/Chicago:20260228T130000
DTEND;TZID=America/Chicago:20260228T140000
DTSTAMP:20260419T224951
CREATED:20260130T021321Z
LAST-MODIFIED:20260228T044314Z
UID:10004584-1772283600-1772287200@urbanaplaceseniorliving.com
SUMMARY:500 Card Club
DESCRIPTION:Calling all 500 card players! Come to the 2nd floor Pub to play some 500!
URL:https://urbanaplaceseniorliving.com/event-calendar/500-card-club-28/
LOCATION:Pub-2nd
CATEGORIES:Assisted Living
END:VEVENT
BEGIN:VEVENT
DTSTART;TZID=America/Chicago:20260228T100000
DTEND;TZID=America/Chicago:20260228T110000
DTSTAMP:20260419T224951
CREATED:20260130T021321Z
LAST-MODIFIED:20260228T044314Z
UID:10004583-1772272800-1772276400@urbanaplaceseniorliving.com
SUMMARY:Word Games & Puzzles
DESCRIPTION:Join your friends and neighbors in the 2nd floor Pub to challenge your brain
URL:https://urbanaplaceseniorliving.com/event-calendar/word-games-puzzles-43/
LOCATION:Pub-2nd
CATEGORIES:Assisted Living
END:VEVENT
BEGIN:VEVENT
DTSTART;TZID=America/Chicago:20260227T140000
DTEND;TZID=America/Chicago:20260227T150000
DTSTAMP:20260419T224951
CREATED:20260129T021345Z
LAST-MODIFIED:20260227T044312Z
UID:10004568-1772200800-1772204400@urbanaplaceseniorliving.com
SUMMARY:Happy Hour 'Bloody Mary'
DESCRIPTION:Join the fun in the Pub. Non alcoholic drinks always available
URL:https://urbanaplaceseniorliving.com/event-calendar/happy-hour-bloody-mary/
LOCATION:Pub-2nd
CATEGORIES:Assisted Living
END:VEVENT
BEGIN:VEVENT
DTSTART;TZID=America/Chicago:20260226T181500
DTEND;TZID=America/Chicago:20260226T191500
DTSTAMP:20260419T224951
CREATED:20260128T015830Z
LAST-MODIFIED:20260226T044311Z
UID:10004550-1772129700-1772133300@urbanaplaceseniorliving.com
SUMMARY:Featured Movie
DESCRIPTION:
URL:https://urbanaplaceseniorliving.com/event-calendar/featured-movie-40/
LOCATION:Pub-2nd
CATEGORIES:Assisted Living
END:VEVENT
BEGIN:VEVENT
DTSTART;TZID=America/Chicago:20260225T153000
DTEND;TZID=America/Chicago:20260225T163000
DTSTAMP:20260419T224951
CREATED:20260127T015844Z
LAST-MODIFIED:20260225T044311Z
UID:10004533-1772033400-1772037000@urbanaplaceseniorliving.com
SUMMARY:Women's Group Pampering
DESCRIPTION:Calling all the women of Urbana for our monthly pampering!
URL:https://urbanaplaceseniorliving.com/event-calendar/womens-group-pampering-5/
LOCATION:Pub-2nd
CATEGORIES:Assisted Living
END:VEVENT
BEGIN:VEVENT
DTSTART;TZID=America/Chicago:20260222T150000
DTEND;TZID=America/Chicago:20260222T163000
DTSTAMP:20260419T224951
CREATED:20260124T015817Z
LAST-MODIFIED:20260222T044330Z
UID:10004449-1771772400-1771777800@urbanaplaceseniorliving.com
SUMMARY:Play Cribbage
DESCRIPTION:Dust off your cribbage skills! Invite a partner to come to the Pub to play some cribbage. We will be having a cribbage tournament in February!
URL:https://urbanaplaceseniorliving.com/event-calendar/play-cribbage-8/
LOCATION:Pub-2nd
CATEGORIES:Assisted Living
END:VEVENT
BEGIN:VEVENT
DTSTART;TZID=America/Chicago:20260221T181500
DTEND;TZID=America/Chicago:20260221T201500
DTSTAMP:20260419T224951
CREATED:20260123T015819Z
LAST-MODIFIED:20260221T042914Z
UID:10004436-1771697700-1771704900@urbanaplaceseniorliving.com
SUMMARY:Movie 'Hello\, Dolly!'
DESCRIPTION:
URL:https://urbanaplaceseniorliving.com/event-calendar/movie-hello-dolly/
LOCATION:Pub-2nd
CATEGORIES:Assisted Living
END:VEVENT
BEGIN:VEVENT
DTSTART;TZID=America/Chicago:20260221T130000
DTEND;TZID=America/Chicago:20260221T140000
DTSTAMP:20260419T224951
CREATED:20260123T015818Z
LAST-MODIFIED:20260221T042914Z
UID:10004434-1771678800-1771682400@urbanaplaceseniorliving.com
SUMMARY:500 Card Club
DESCRIPTION:Calling all 500 card players! Come to the 2nd floor Pub to play some 500!
URL:https://urbanaplaceseniorliving.com/event-calendar/500-card-club-27/
LOCATION:Pub-2nd
CATEGORIES:Assisted Living
END:VEVENT
BEGIN:VEVENT
DTSTART;TZID=America/Chicago:20260221T100000
DTEND;TZID=America/Chicago:20260221T110000
DTSTAMP:20260419T224951
CREATED:20260123T015818Z
LAST-MODIFIED:20260221T042914Z
UID:10004433-1771668000-1771671600@urbanaplaceseniorliving.com
SUMMARY:Word Games & Puzzles
DESCRIPTION:Join your friends and neighbors in the 2nd floor Pub to challenge your brain
URL:https://urbanaplaceseniorliving.com/event-calendar/word-games-puzzles-42/
LOCATION:Pub-2nd
CATEGORIES:Assisted Living
END:VEVENT
BEGIN:VEVENT
DTSTART;TZID=America/Chicago:20260220T140000
DTEND;TZID=America/Chicago:20260220T150000
DTSTAMP:20260419T224951
CREATED:20260122T015818Z
LAST-MODIFIED:20260220T041712Z
UID:10004423-1771596000-1771599600@urbanaplaceseniorliving.com
SUMMARY:Happy Hour 'Rum Punch'
DESCRIPTION:Join the fun in the Pub. Non alcoholic drinks always available
URL:https://urbanaplaceseniorliving.com/event-calendar/happy-hour-rum-punch-2/
LOCATION:Pub-2nd
CATEGORIES:Assisted Living
END:VEVENT
BEGIN:VEVENT
DTSTART;TZID=America/Chicago:20260219T181500
DTEND;TZID=America/Chicago:20260219T191500
DTSTAMP:20260419T224951
CREATED:20260121T015817Z
LAST-MODIFIED:20260219T041317Z
UID:10004414-1771524900-1771528500@urbanaplaceseniorliving.com
SUMMARY:Featured Movie
DESCRIPTION:
URL:https://urbanaplaceseniorliving.com/event-calendar/featured-movie-39/
LOCATION:Pub-2nd
CATEGORIES:Assisted Living
END:VEVENT
BEGIN:VEVENT
DTSTART;TZID=America/Chicago:20260217T153000
DTEND;TZID=America/Chicago:20260217T163000
DTSTAMP:20260419T224951
CREATED:20260119T014410Z
LAST-MODIFIED:20260217T034312Z
UID:10004393-1771342200-1771345800@urbanaplaceseniorliving.com
SUMMARY:Play Wheel of Fortune
DESCRIPTION:
URL:https://urbanaplaceseniorliving.com/event-calendar/play-wheel-of-fortune-42/
LOCATION:Pub-2nd
CATEGORIES:Assisted Living
END:VEVENT
BEGIN:VEVENT
DTSTART;TZID=America/Chicago:20260215T150000
DTEND;TZID=America/Chicago:20260215T163000
DTSTAMP:20260419T224951
CREATED:20260117T014317Z
LAST-MODIFIED:20260215T032815Z
UID:10004366-1771167600-1771173000@urbanaplaceseniorliving.com
SUMMARY:Play Cribbage
DESCRIPTION:Dust off your cribbage skills! Invite a partner to come to the Pub to play some cribbage. We will be having a cribbage tournament in February!
URL:https://urbanaplaceseniorliving.com/event-calendar/play-cribbage-7/
LOCATION:Pub-2nd
CATEGORIES:Assisted Living
END:VEVENT
BEGIN:VEVENT
DTSTART;TZID=America/Chicago:20260214T181500
DTEND;TZID=America/Chicago:20260214T201500
DTSTAMP:20260419T224951
CREATED:20260116T014330Z
LAST-MODIFIED:20260214T032819Z
UID:10004350-1771092900-1771100100@urbanaplaceseniorliving.com
SUMMARY:Movie 'Nights in Rodanthe'
DESCRIPTION:
URL:https://urbanaplaceseniorliving.com/event-calendar/movie-mamma-mia-p-17/
LOCATION:Pub-2nd
CATEGORIES:Assisted Living
END:VEVENT
BEGIN:VEVENT
DTSTART;TZID=America/Chicago:20260214T130000
DTEND;TZID=America/Chicago:20260214T140000
DTSTAMP:20260419T224951
CREATED:20260116T014330Z
LAST-MODIFIED:20260214T032818Z
UID:10004348-1771074000-1771077600@urbanaplaceseniorliving.com
SUMMARY:500 Card Club
DESCRIPTION:Calling all 500 card players! Come to the 2nd floor Pub to play some 500!
URL:https://urbanaplaceseniorliving.com/event-calendar/500-card-club-26/
LOCATION:Pub-2nd
CATEGORIES:Assisted Living
END:VEVENT
BEGIN:VEVENT
DTSTART;TZID=America/Chicago:20260214T100000
DTEND;TZID=America/Chicago:20260214T110000
DTSTAMP:20260419T224951
CREATED:20260116T014330Z
LAST-MODIFIED:20260214T032818Z
UID:10004347-1771063200-1771066800@urbanaplaceseniorliving.com
SUMMARY:Word Games & Puzzles
DESCRIPTION:Join your friends and neighbors in the 2nd floor Pub to challenge your brain
URL:https://urbanaplaceseniorliving.com/event-calendar/word-games-puzzles-41/
LOCATION:Pub-2nd
CATEGORIES:Assisted Living
END:VEVENT
BEGIN:VEVENT
DTSTART;TZID=America/Chicago:20260213T140000
DTEND;TZID=America/Chicago:20260213T150000
DTSTAMP:20260419T224951
CREATED:20260115T014317Z
LAST-MODIFIED:20260213T032816Z
UID:10004337-1770991200-1770994800@urbanaplaceseniorliving.com
SUMMARY:Happy Hour 'Love Bug Cocktail'
DESCRIPTION:Join the fun in the Pub. Non alcoholic drinks always available
URL:https://urbanaplaceseniorliving.com/event-calendar/happy-hour-p-13/
LOCATION:Pub-2nd
CATEGORIES:Assisted Living
END:VEVENT
BEGIN:VEVENT
DTSTART;TZID=America/Chicago:20260212T181500
DTEND;TZID=America/Chicago:20260212T191500
DTSTAMP:20260419T224951
CREATED:20260114T014325Z
LAST-MODIFIED:20260212T031314Z
UID:10004328-1770920100-1770923700@urbanaplaceseniorliving.com
SUMMARY:Featured Movie
DESCRIPTION:
URL:https://urbanaplaceseniorliving.com/event-calendar/featured-movie-38/
LOCATION:Pub-2nd
CATEGORIES:Assisted Living
END:VEVENT
BEGIN:VEVENT
DTSTART;TZID=America/Chicago:20260208T173000
DTEND;TZID=America/Chicago:20260208T183000
DTSTAMP:20260419T224951
CREATED:20260110T012822Z
LAST-MODIFIED:20260208T025812Z
UID:10004279-1770571800-1770575400@urbanaplaceseniorliving.com
SUMMARY:Superbowl
DESCRIPTION:Come to the 2nd floor Pub to watch the Superbowl!
URL:https://urbanaplaceseniorliving.com/event-calendar/superbowl/
LOCATION:Pub-2nd
CATEGORIES:Assisted Living
END:VEVENT
BEGIN:VEVENT
DTSTART;TZID=America/Chicago:20260208T150000
DTEND;TZID=America/Chicago:20260208T163000
DTSTAMP:20260419T224951
CREATED:20260110T012821Z
LAST-MODIFIED:20260208T025812Z
UID:10004277-1770562800-1770568200@urbanaplaceseniorliving.com
SUMMARY:Play Cribbage
DESCRIPTION:Dust off your cribbage skills! Invite a partner to come to the Pub to play some cribbage. We will be having a cribbage tournament in February!
URL:https://urbanaplaceseniorliving.com/event-calendar/play-cribbage-6/
LOCATION:Pub-2nd
CATEGORIES:Assisted Living
END:VEVENT
BEGIN:VEVENT
DTSTART;TZID=America/Chicago:20260207T181500
DTEND;TZID=America/Chicago:20260207T201500
DTSTAMP:20260419T224951
CREATED:20260109T011317Z
LAST-MODIFIED:20260207T024412Z
UID:10004263-1770488100-1770495300@urbanaplaceseniorliving.com
SUMMARY:Movie 'Atonement'
DESCRIPTION:
URL:https://urbanaplaceseniorliving.com/event-calendar/movie-mamma-mia-p-16/
LOCATION:Pub-2nd
CATEGORIES:Assisted Living
END:VEVENT
BEGIN:VEVENT
DTSTART;TZID=America/Chicago:20260207T130000
DTEND;TZID=America/Chicago:20260207T140000
DTSTAMP:20260419T224951
CREATED:20260109T011317Z
LAST-MODIFIED:20260207T024411Z
UID:10004262-1770469200-1770472800@urbanaplaceseniorliving.com
SUMMARY:500 Card Club
DESCRIPTION:Calling all 500 card players! Come to the 2nd floor Pub to play some 500!
URL:https://urbanaplaceseniorliving.com/event-calendar/500-card-club-25/
LOCATION:Pub-2nd
CATEGORIES:Assisted Living
END:VEVENT
BEGIN:VEVENT
DTSTART;TZID=America/Chicago:20260207T100000
DTEND;TZID=America/Chicago:20260207T110000
DTSTAMP:20260419T224951
CREATED:20260109T011317Z
LAST-MODIFIED:20260207T024411Z
UID:10004261-1770458400-1770462000@urbanaplaceseniorliving.com
SUMMARY:Word Games & Puzzles
DESCRIPTION:Join your friends and neighbors in the 2nd floor Pub to challenge your brain
URL:https://urbanaplaceseniorliving.com/event-calendar/word-games-puzzles-40/
LOCATION:Pub-2nd
CATEGORIES:Assisted Living
END:VEVENT
BEGIN:VEVENT
DTSTART;TZID=America/Chicago:20260206T140000
DTEND;TZID=America/Chicago:20260206T150000
DTSTAMP:20260419T224951
CREATED:20260108T005817Z
LAST-MODIFIED:20260206T024312Z
UID:10004249-1770386400-1770390000@urbanaplaceseniorliving.com
SUMMARY:Happy Hour 'Margaritas'
DESCRIPTION:Join the fun in the Pub. Non alcoholic drinks always available
URL:https://urbanaplaceseniorliving.com/event-calendar/happy-hour-p-12/
LOCATION:Pub-2nd
CATEGORIES:Assisted Living
END:VEVENT
BEGIN:VEVENT
DTSTART;TZID=America/Chicago:20260205T181500
DTEND;TZID=America/Chicago:20260205T191500
DTSTAMP:20260419T224951
CREATED:20260107T005818Z
LAST-MODIFIED:20260205T022811Z
UID:10004237-1770315300-1770318900@urbanaplaceseniorliving.com
SUMMARY:Featured Movie
DESCRIPTION:
URL:https://urbanaplaceseniorliving.com/event-calendar/featured-movie-37/
LOCATION:Pub-2nd
CATEGORIES:Assisted Living
END:VEVENT
BEGIN:VEVENT
DTSTART;TZID=America/Chicago:20260205T141500
DTEND;TZID=America/Chicago:20260205T151500
DTSTAMP:20260419T224951
CREATED:20260110T012821Z
LAST-MODIFIED:20260205T022811Z
UID:10004274-1770300900-1770304500@urbanaplaceseniorliving.com
SUMMARY:Cribbage Tournament
DESCRIPTION:Come to the 2nd floor Pub to play or watch. Prize for the Champ!
URL:https://urbanaplaceseniorliving.com/event-calendar/cribbage-tournament/
LOCATION:Pub-2nd
CATEGORIES:Assisted Living
END:VEVENT
BEGIN:VEVENT
DTSTART;TZID=America/Chicago:20260203T153000
DTEND;TZID=America/Chicago:20260203T163000
DTSTAMP:20260419T224951
CREATED:20260105T005818Z
LAST-MODIFIED:20260203T022811Z
UID:10004210-1770132600-1770136200@urbanaplaceseniorliving.com
SUMMARY:Play Wheel of Fortune
DESCRIPTION:
URL:https://urbanaplaceseniorliving.com/event-calendar/play-wheel-of-fortune-41/
LOCATION:Pub-2nd
CATEGORIES:Assisted Living
END:VEVENT
END:VCALENDAR