BEGIN:VCALENDAR
VERSION:2.0
PRODID:-//Urbana Place Senior Living in Brooklyn Park - ECPv6.11.2.1//NONSGML v1.0//EN
CALSCALE:GREGORIAN
METHOD:PUBLISH
X-WR-CALNAME:Urbana Place Senior Living in Brooklyn Park
X-ORIGINAL-URL:https://urbanaplaceseniorliving.com
X-WR-CALDESC:Events for Urbana Place Senior Living in Brooklyn Park
REFRESH-INTERVAL;VALUE=DURATION:PT1H
X-Robots-Tag:noindex
X-PUBLISHED-TTL:PT1H
BEGIN:VTIMEZONE
TZID:America/Chicago
BEGIN:DAYLIGHT
TZOFFSETFROM:-0600
TZOFFSETTO:-0500
TZNAME:CDT
DTSTART:20260308T080000
END:DAYLIGHT
BEGIN:STANDARD
TZOFFSETFROM:-0500
TZOFFSETTO:-0600
TZNAME:CST
DTSTART:20261101T070000
END:STANDARD
END:VTIMEZONE
BEGIN:VEVENT
DTSTART;TZID=America/Chicago:20260508T140000
DTEND;TZID=America/Chicago:20260508T150000
DTSTAMP:20260419T170843
CREATED:20260409T065922Z
LAST-MODIFIED:20260419T074335Z
UID:10005684-1778248800-1778252400@urbanaplaceseniorliving.com
SUMMARY:Happy Hour 'Spiked lemonade'
DESCRIPTION:Join the fun in the Pub. Non alcoholic drinks always available
URL:https://urbanaplaceseniorliving.com/event-calendar/happy-hour-spiked-lemonade/
LOCATION:Pub-2nd
CATEGORIES:Assisted Living
END:VEVENT
BEGIN:VEVENT
DTSTART;TZID=America/Chicago:20260508T150000
DTEND;TZID=America/Chicago:20260508T160000
DTSTAMP:20260419T170843
CREATED:20260418T074332Z
LAST-MODIFIED:20260419T074335Z
UID:10005770-1778252400-1778256000@urbanaplaceseniorliving.com
SUMMARY:Cribbage/Cards
DESCRIPTION:Grab a partner for a game of cribbage or play some cards!
URL:https://urbanaplaceseniorliving.com/event-calendar/cribbage-cards-2/
LOCATION:Pub-2nd
CATEGORIES:Assisted Living
END:VEVENT
BEGIN:VEVENT
DTSTART;TZID=America/Chicago:20260509T130000
DTEND;TZID=America/Chicago:20260509T140000
DTSTAMP:20260419T170843
CREATED:20260410T071336Z
LAST-MODIFIED:20260419T074335Z
UID:10005698-1778331600-1778335200@urbanaplaceseniorliving.com
SUMMARY:500 Card Club
DESCRIPTION:Calling all 500 card players! Come to the 2nd floor Pub to play some 500!
URL:https://urbanaplaceseniorliving.com/event-calendar/500-card-club-38/
LOCATION:Pub-2nd
CATEGORIES:Assisted Living
END:VEVENT
BEGIN:VEVENT
DTSTART;TZID=America/Chicago:20260509T181500
DTEND;TZID=America/Chicago:20260509T201500
DTSTAMP:20260419T170843
CREATED:20260410T071337Z
LAST-MODIFIED:20260419T074336Z
UID:10005700-1778350500-1778357700@urbanaplaceseniorliving.com
SUMMARY:Movie 'The Wizard of Oz''
DESCRIPTION:
URL:https://urbanaplaceseniorliving.com/event-calendar/movie-the-wizard-of-oz/
LOCATION:Pub-2nd
CATEGORIES:Assisted Living
END:VEVENT
BEGIN:VEVENT
DTSTART;TZID=America/Chicago:20260511T150000
DTEND;TZID=America/Chicago:20260511T160000
DTSTAMP:20260419T170843
CREATED:20260416T074327Z
LAST-MODIFIED:20260419T074336Z
UID:10005756-1778511600-1778515200@urbanaplaceseniorliving.com
SUMMARY:Paint & Sip
DESCRIPTION:Join Laurie in the Pub to paint a canvas picture and enjoy a beverage. Wine and non-alcoholic drinks will be served. This is open to all abilities!
URL:https://urbanaplaceseniorliving.com/event-calendar/paint-sip-3/
LOCATION:Pub-2nd
CATEGORIES:Assisted Living
END:VEVENT
BEGIN:VEVENT
DTSTART;TZID=America/Chicago:20260512T141500
DTEND;TZID=America/Chicago:20260512T151500
DTSTAMP:20260419T170843
CREATED:20260413T074321Z
LAST-MODIFIED:20260415T074328Z
UID:10005740-1778595300-1778598900@urbanaplaceseniorliving.com
SUMMARY:??Paint & Sip
DESCRIPTION:
URL:https://urbanaplaceseniorliving.com/event-calendar/paint-sip-2/
LOCATION:Pub-2nd
CATEGORIES:Assisted Living
END:VEVENT
BEGIN:VEVENT
DTSTART;TZID=America/Chicago:20260512T153000
DTEND;TZID=America/Chicago:20260512T163000
DTSTAMP:20260419T170843
CREATED:20260413T074322Z
LAST-MODIFIED:20260419T074337Z
UID:10005741-1778599800-1778603400@urbanaplaceseniorliving.com
SUMMARY:Left Center Right Dice Game
DESCRIPTION:Come to the Pub to play this fun\, easy dice game
URL:https://urbanaplaceseniorliving.com/event-calendar/left-center-right-dice-game-4/
LOCATION:Pub-2nd
CATEGORIES:Assisted Living
END:VEVENT
BEGIN:VEVENT
DTSTART;TZID=America/Chicago:20260512T180000
DTEND;TZID=America/Chicago:20260512T190000
DTSTAMP:20260419T170843
CREATED:20260413T074322Z
LAST-MODIFIED:20260419T074337Z
UID:10005742-1778608800-1778612400@urbanaplaceseniorliving.com
SUMMARY:Chat & Color
DESCRIPTION:Come to the 2nd floor Lounge after dinner to relax\, chat and color. Supplies will be provided
URL:https://urbanaplaceseniorliving.com/event-calendar/chat-color-15/
LOCATION:Pub-2nd
CATEGORIES:Assisted Living
END:VEVENT
BEGIN:VEVENT
DTSTART;TZID=America/Chicago:20260513T181500
DTEND;TZID=America/Chicago:20260513T191500
DTSTAMP:20260419T170843
CREATED:20260416T074329Z
LAST-MODIFIED:20260419T074338Z
UID:10005759-1778696100-1778699700@urbanaplaceseniorliving.com
SUMMARY:Featured Movie
DESCRIPTION:
URL:https://urbanaplaceseniorliving.com/event-calendar/featured-movie-52/
LOCATION:Pub-2nd
CATEGORIES:Assisted Living
END:VEVENT
BEGIN:VEVENT
DTSTART;TZID=America/Chicago:20260514T124000
DTEND;TZID=America/Chicago:20260514T134000
DTSTAMP:20260419T170843
CREATED:20260415T074329Z
LAST-MODIFIED:20260419T074338Z
UID:10005751-1778762400-1778766000@urbanaplaceseniorliving.com
SUMMARY:Twins Game
DESCRIPTION:Let’s go Twins!
URL:https://urbanaplaceseniorliving.com/event-calendar/twins-game/
LOCATION:Pub-2nd
CATEGORIES:Assisted Living
END:VEVENT
BEGIN:VEVENT
DTSTART;TZID=America/Chicago:20260514T181500
DTEND;TZID=America/Chicago:20260514T191500
DTSTAMP:20260419T170843
CREATED:20260415T074329Z
LAST-MODIFIED:20260415T074329Z
UID:10005752-1778782500-1778786100@urbanaplaceseniorliving.com
SUMMARY:Featured Movie
DESCRIPTION:
URL:https://urbanaplaceseniorliving.com/event-calendar/featured-movie-51/
LOCATION:Pub-2nd
CATEGORIES:Assisted Living
END:VEVENT
BEGIN:VEVENT
DTSTART;TZID=America/Chicago:20260515T140000
DTEND;TZID=America/Chicago:20260515T150000
DTSTAMP:20260419T170843
CREATED:20260416T074330Z
LAST-MODIFIED:20260419T074339Z
UID:10005763-1778853600-1778857200@urbanaplaceseniorliving.com
SUMMARY:Happy Hour 'Boozy Root Beer Floats'
DESCRIPTION:Join the fun in the Pub. Non alcoholic drinks always available
URL:https://urbanaplaceseniorliving.com/event-calendar/happy-hour-boozy-root-beer-floats-6/
LOCATION:Pub-2nd
CATEGORIES:Assisted Living
END:VEVENT
BEGIN:VEVENT
DTSTART;TZID=America/Chicago:20260515T150000
DTEND;TZID=America/Chicago:20260515T160000
DTSTAMP:20260419T170843
CREATED:20260418T074338Z
LAST-MODIFIED:20260419T074339Z
UID:10005771-1778857200-1778860800@urbanaplaceseniorliving.com
SUMMARY:Cribbage/Cards
DESCRIPTION:Grab a partner for a game of cribbage or play some cards!
URL:https://urbanaplaceseniorliving.com/event-calendar/cribbage-cards-3/
LOCATION:Pub-2nd
CATEGORIES:Assisted Living
END:VEVENT
BEGIN:VEVENT
DTSTART;TZID=America/Chicago:20260516T130000
DTEND;TZID=America/Chicago:20260516T140000
DTSTAMP:20260419T170843
CREATED:20260417T074328Z
LAST-MODIFIED:20260419T074340Z
UID:10005766-1778936400-1778940000@urbanaplaceseniorliving.com
SUMMARY:500 Card Club
DESCRIPTION:Calling all 500 card players! Come to the 2nd floor Pub to play some 500!
URL:https://urbanaplaceseniorliving.com/event-calendar/500-card-club-39/
LOCATION:Pub-2nd
CATEGORIES:Assisted Living
END:VEVENT
BEGIN:VEVENT
DTSTART;TZID=America/Chicago:20260516T181500
DTEND;TZID=America/Chicago:20260516T201500
DTSTAMP:20260419T170843
CREATED:20260417T074328Z
LAST-MODIFIED:20260419T074340Z
UID:10005768-1778955300-1778962500@urbanaplaceseniorliving.com
SUMMARY:Movie 'Soul Surfer''
DESCRIPTION:
URL:https://urbanaplaceseniorliving.com/event-calendar/movie-soul-surfer/
LOCATION:Pub-2nd
CATEGORIES:Assisted Living
END:VEVENT
END:VCALENDAR