BEGIN:VCALENDAR
VERSION:2.0
PRODID:-//Urbana Place Senior Living in Brooklyn Park - ECPv6.11.2.1//NONSGML v1.0//EN
CALSCALE:GREGORIAN
METHOD:PUBLISH
X-WR-CALNAME:Urbana Place Senior Living in Brooklyn Park
X-ORIGINAL-URL:https://urbanaplaceseniorliving.com
X-WR-CALDESC:Events for Urbana Place Senior Living in Brooklyn Park
REFRESH-INTERVAL;VALUE=DURATION:PT1H
X-Robots-Tag:noindex
X-PUBLISHED-TTL:PT1H
BEGIN:VTIMEZONE
TZID:America/Chicago
BEGIN:DAYLIGHT
TZOFFSETFROM:-0600
TZOFFSETTO:-0500
TZNAME:CDT
DTSTART:20250309T080000
END:DAYLIGHT
BEGIN:STANDARD
TZOFFSETFROM:-0500
TZOFFSETTO:-0600
TZNAME:CST
DTSTART:20251102T070000
END:STANDARD
END:VTIMEZONE
BEGIN:VEVENT
DTSTART;TZID=America/Chicago:20251114T140000
DTEND;TZID=America/Chicago:20251114T150000
DTSTAMP:20260420T141429
CREATED:20251016T121316Z
LAST-MODIFIED:20251114T131313Z
UID:10002916-1763128800-1763132400@urbanaplaceseniorliving.com
SUMMARY:Happy Hour 'Bloody Marys'
DESCRIPTION:Join the fun in the Pub. Non alcoholic drinks always available
URL:https://urbanaplaceseniorliving.com/event-calendar/happy-hour-bloody-marys/
LOCATION:Pub-2nd
CATEGORIES:Assisted Living
END:VEVENT
BEGIN:VEVENT
DTSTART;TZID=America/Chicago:20251113T181500
DTEND;TZID=America/Chicago:20251113T191500
DTSTAMP:20260420T141429
CREATED:20251015T115833Z
LAST-MODIFIED:20251113T131339Z
UID:10002908-1763057700-1763061300@urbanaplaceseniorliving.com
SUMMARY:Featured Movie
DESCRIPTION:
URL:https://urbanaplaceseniorliving.com/event-calendar/featured-movie-26/
LOCATION:Pub-2nd
CATEGORIES:Assisted Living
END:VEVENT
BEGIN:VEVENT
DTSTART;TZID=America/Chicago:20251113T154500
DTEND;TZID=America/Chicago:20251113T164500
DTSTAMP:20260420T141429
CREATED:20251015T115833Z
LAST-MODIFIED:20251113T144312Z
UID:10002907-1763048700-1763052300@urbanaplaceseniorliving.com
SUMMARY:Women's Group Cider Social
DESCRIPTION:Calling all the women of Urbana! Join us in the Bistro to sample a few different seasonal hard ciders. Non alcoholic beverages will also be available
URL:https://urbanaplaceseniorliving.com/event-calendar/womens-group-berry-good-beer-tasting/
LOCATION:Pub-2nd
CATEGORIES:Assisted Living,Legacy Court
END:VEVENT
BEGIN:VEVENT
DTSTART;TZID=America/Chicago:20251111T153000
DTEND;TZID=America/Chicago:20251111T163000
DTSTAMP:20260420T141429
CREATED:20251013T115815Z
LAST-MODIFIED:20251111T131315Z
UID:10002874-1762875000-1762878600@urbanaplaceseniorliving.com
SUMMARY:Play Wheel of Fortune
DESCRIPTION:
URL:https://urbanaplaceseniorliving.com/event-calendar/play-wheel-of-fortune-27/
LOCATION:Pub-2nd
CATEGORIES:Assisted Living
END:VEVENT
BEGIN:VEVENT
DTSTART;TZID=America/Chicago:20251111T140000
DTEND;TZID=America/Chicago:20251111T150000
DTSTAMP:20260420T141429
CREATED:20251013T115814Z
LAST-MODIFIED:20251111T131315Z
UID:10002872-1762869600-1762873200@urbanaplaceseniorliving.com
SUMMARY:Veterans Recognition & Cake
DESCRIPTION:Join us in the 2nd floor Pub to recognize our Veterans
URL:https://urbanaplaceseniorliving.com/event-calendar/veterans-recognition-cake/
LOCATION:Pub-2nd
CATEGORIES:Assisted Living,Legacy Court
END:VEVENT
BEGIN:VEVENT
DTSTART;TZID=America/Chicago:20251108T181500
DTEND;TZID=America/Chicago:20251108T201500
DTSTAMP:20260420T141429
CREATED:20251010T114340Z
LAST-MODIFIED:20251108T125812Z
UID:10002826-1762625700-1762632900@urbanaplaceseniorliving.com
SUMMARY:Movie 'Zoo Keeper'
DESCRIPTION:
URL:https://urbanaplaceseniorliving.com/event-calendar/movie-mamma-mia-p-11/
LOCATION:Pub-2nd
CATEGORIES:Assisted Living
END:VEVENT
BEGIN:VEVENT
DTSTART;TZID=America/Chicago:20251108T100000
DTEND;TZID=America/Chicago:20251108T110000
DTSTAMP:20260420T141429
CREATED:20251010T114340Z
LAST-MODIFIED:20251108T125812Z
UID:10002823-1762596000-1762599600@urbanaplaceseniorliving.com
SUMMARY:Word Games & Puzzles
DESCRIPTION:Join your friends and neighbors in the 2nd floor Pub to challenge your brain
URL:https://urbanaplaceseniorliving.com/event-calendar/word-games-puzzles-27/
LOCATION:Pub-2nd
CATEGORIES:Assisted Living
END:VEVENT
BEGIN:VEVENT
DTSTART;TZID=America/Chicago:20251107T140000
DTEND;TZID=America/Chicago:20251107T150000
DTSTAMP:20260420T141429
CREATED:20251009T114327Z
LAST-MODIFIED:20251107T125814Z
UID:10002808-1762524000-1762527600@urbanaplaceseniorliving.com
SUMMARY:Happy Hour 'Margaritas'
DESCRIPTION:Join the fun in the Pub. Non alcoholic drinks always available
URL:https://urbanaplaceseniorliving.com/event-calendar/happy-hour-margaritas-2/
LOCATION:Pub-2nd
CATEGORIES:Assisted Living
END:VEVENT
BEGIN:VEVENT
DTSTART;TZID=America/Chicago:20251106T181500
DTEND;TZID=America/Chicago:20251106T191500
DTSTAMP:20260420T141429
CREATED:20251008T114315Z
LAST-MODIFIED:20251106T125810Z
UID:10002792-1762452900-1762456500@urbanaplaceseniorliving.com
SUMMARY:Featured Movie
DESCRIPTION:
URL:https://urbanaplaceseniorliving.com/event-calendar/featured-movie-25/
LOCATION:Pub-2nd
CATEGORIES:Assisted Living
END:VEVENT
BEGIN:VEVENT
DTSTART;TZID=America/Chicago:20251102T120000
DTEND;TZID=America/Chicago:20251102T130000
DTSTAMP:20260420T141429
CREATED:20251008T114314Z
LAST-MODIFIED:20251102T125811Z
UID:10002788-1762084800-1762088400@urbanaplaceseniorliving.com
SUMMARY:Vikings vs Lions
DESCRIPTION:Let’s go Vikes!
URL:https://urbanaplaceseniorliving.com/event-calendar/vikings-vs/
LOCATION:Pub-2nd
CATEGORIES:Assisted Living
END:VEVENT
BEGIN:VEVENT
DTSTART;TZID=America/Chicago:20251101T181500
DTEND;TZID=America/Chicago:20251101T201500
DTSTAMP:20260420T141429
CREATED:20251003T114323Z
LAST-MODIFIED:20251101T125811Z
UID:10002735-1762020900-1762028100@urbanaplaceseniorliving.com
SUMMARY:Movie 'The James Dean Story'
DESCRIPTION:
URL:https://urbanaplaceseniorliving.com/event-calendar/movie-mamma-mia-p-10/
LOCATION:Pub-2nd
CATEGORIES:Assisted Living
END:VEVENT
BEGIN:VEVENT
DTSTART;TZID=America/Chicago:20251101T100000
DTEND;TZID=America/Chicago:20251101T110000
DTSTAMP:20260420T141429
CREATED:20251003T114323Z
LAST-MODIFIED:20251101T125811Z
UID:10002733-1761991200-1761994800@urbanaplaceseniorliving.com
SUMMARY:Word Games & Puzzles
DESCRIPTION:Join your friends and neighbors in the 2nd floor Pub to challenge your brain
URL:https://urbanaplaceseniorliving.com/event-calendar/word-games-puzzles-26/
LOCATION:Pub-2nd
CATEGORIES:Assisted Living
END:VEVENT
BEGIN:VEVENT
DTSTART;TZID=America/Chicago:20251031T140000
DTEND;TZID=America/Chicago:20251031T150000
DTSTAMP:20260420T141429
CREATED:20251002T114324Z
LAST-MODIFIED:20251031T125817Z
UID:10002726-1761919200-1761922800@urbanaplaceseniorliving.com
SUMMARY:Happy Hour 'Witches Brew'
DESCRIPTION:Join the fun in the Pub. Non alcoholic drinks always available
URL:https://urbanaplaceseniorliving.com/event-calendar/happy-hour-witches-brew/
LOCATION:Pub-2nd
CATEGORIES:Assisted Living
END:VEVENT
BEGIN:VEVENT
DTSTART;TZID=America/Chicago:20251030T181500
DTEND;TZID=America/Chicago:20251030T191500
DTSTAMP:20260420T141429
CREATED:20251001T114325Z
LAST-MODIFIED:20251030T125816Z
UID:10002620-1761848100-1761851700@urbanaplaceseniorliving.com
SUMMARY:Featured Movie
DESCRIPTION:
URL:https://urbanaplaceseniorliving.com/event-calendar/featured-movie-24/
LOCATION:Pub-2nd
CATEGORIES:Assisted Living
END:VEVENT
BEGIN:VEVENT
DTSTART;TZID=America/Chicago:20251028T153000
DTEND;TZID=America/Chicago:20251028T163000
DTSTAMP:20260420T141429
CREATED:20250929T114313Z
LAST-MODIFIED:20251028T124312Z
UID:10002601-1761665400-1761669000@urbanaplaceseniorliving.com
SUMMARY:Play Wheel of Fortune
DESCRIPTION:
URL:https://urbanaplaceseniorliving.com/event-calendar/play-wheel-of-fortune-23/
LOCATION:Pub-2nd
CATEGORIES:Assisted Living
END:VEVENT
BEGIN:VEVENT
DTSTART;TZID=America/Chicago:20251025T181500
DTEND;TZID=America/Chicago:20251025T201500
DTSTAMP:20260420T141429
CREATED:20250926T114316Z
LAST-MODIFIED:20251025T124324Z
UID:10002542-1761416100-1761423300@urbanaplaceseniorliving.com
SUMMARY:Movie 'Young Frankenstein'
DESCRIPTION:
URL:https://urbanaplaceseniorliving.com/event-calendar/movie-young-frankenstein/
LOCATION:Pub-2nd
CATEGORIES:Assisted Living
END:VEVENT
BEGIN:VEVENT
DTSTART;TZID=America/Chicago:20251025T100000
DTEND;TZID=America/Chicago:20251025T110000
DTSTAMP:20260420T141429
CREATED:20250926T114316Z
LAST-MODIFIED:20251025T124324Z
UID:10002539-1761386400-1761390000@urbanaplaceseniorliving.com
SUMMARY:Word Games & Puzzles
DESCRIPTION:Join your friends and neighbors in the 2nd floor Pub to challenge your brain
URL:https://urbanaplaceseniorliving.com/event-calendar/word-games-puzzles-25/
LOCATION:Pub-2nd
CATEGORIES:Assisted Living
END:VEVENT
BEGIN:VEVENT
DTSTART;TZID=America/Chicago:20251024T140000
DTEND;TZID=America/Chicago:20251024T150000
DTSTAMP:20260420T141429
CREATED:20250925T114314Z
LAST-MODIFIED:20251024T124324Z
UID:10002530-1761314400-1761318000@urbanaplaceseniorliving.com
SUMMARY:Happy Hour 'Boozy Root Beer Floats'
DESCRIPTION:Join the fun in the Pub. Non alcoholic drinks always available
URL:https://urbanaplaceseniorliving.com/event-calendar/happy-hour-boozy-root-beer-floats-3/
LOCATION:Pub-2nd
CATEGORIES:Assisted Living
END:VEVENT
BEGIN:VEVENT
DTSTART;TZID=America/Chicago:20251023T181500
DTEND;TZID=America/Chicago:20251023T191500
DTSTAMP:20260420T141429
CREATED:20250924T114315Z
LAST-MODIFIED:20251023T122828Z
UID:10002522-1761243300-1761246900@urbanaplaceseniorliving.com
SUMMARY:Featured Movie
DESCRIPTION:
URL:https://urbanaplaceseniorliving.com/event-calendar/featured-movie-23/
LOCATION:Pub-2nd
CATEGORIES:Assisted Living
END:VEVENT
BEGIN:VEVENT
DTSTART;TZID=America/Chicago:20251019T120000
DTEND;TZID=America/Chicago:20251019T150000
DTSTAMP:20260420T141429
CREATED:20250920T114316Z
LAST-MODIFIED:20251019T121311Z
UID:10002469-1760875200-1760886000@urbanaplaceseniorliving.com
SUMMARY:Vikings vs Eagles
DESCRIPTION:Let’s Go Vikes!
URL:https://urbanaplaceseniorliving.com/event-calendar/vikings-vs-eagles/
LOCATION:Pub-2nd
CATEGORIES:Assisted Living
END:VEVENT
BEGIN:VEVENT
DTSTART;TZID=America/Chicago:20251018T181500
DTEND;TZID=America/Chicago:20251018T201500
DTSTAMP:20260420T141429
CREATED:20250919T114319Z
LAST-MODIFIED:20251018T121310Z
UID:10002458-1760811300-1760818500@urbanaplaceseniorliving.com
SUMMARY:Movie 'Friday Night Lights'
DESCRIPTION:
URL:https://urbanaplaceseniorliving.com/event-calendar/movie-friday-night-lights/
LOCATION:Pub-2nd
CATEGORIES:Assisted Living
END:VEVENT
BEGIN:VEVENT
DTSTART;TZID=America/Chicago:20251018T100000
DTEND;TZID=America/Chicago:20251018T110000
DTSTAMP:20260420T141429
CREATED:20250919T114319Z
LAST-MODIFIED:20251018T121310Z
UID:10002456-1760781600-1760785200@urbanaplaceseniorliving.com
SUMMARY:Word Games & Puzzles
DESCRIPTION:Join your friends and neighbors in the 2nd floor Pub to challenge your brain
URL:https://urbanaplaceseniorliving.com/event-calendar/word-games-puzzles-24/
LOCATION:Pub-2nd
CATEGORIES:Assisted Living
END:VEVENT
BEGIN:VEVENT
DTSTART;TZID=America/Chicago:20251017T140000
DTEND;TZID=America/Chicago:20251017T150000
DTSTAMP:20260420T141429
CREATED:20250918T112820Z
LAST-MODIFIED:20251017T121310Z
UID:10002446-1760709600-1760713200@urbanaplaceseniorliving.com
SUMMARY:Happy Hour 'Fall Rum Punch'
DESCRIPTION:Join the fun in the Pub. Non alcoholic drinks always available
URL:https://urbanaplaceseniorliving.com/event-calendar/happy-hour-vodka-cranberry-3/
LOCATION:Pub-2nd
CATEGORIES:Assisted Living
END:VEVENT
BEGIN:VEVENT
DTSTART;TZID=America/Chicago:20251016T181500
DTEND;TZID=America/Chicago:20251016T191500
DTSTAMP:20260420T141429
CREATED:20250917T112816Z
LAST-MODIFIED:20251016T121311Z
UID:10002437-1760638500-1760642100@urbanaplaceseniorliving.com
SUMMARY:Featured Movie
DESCRIPTION:
URL:https://urbanaplaceseniorliving.com/event-calendar/featured-movie-22/
LOCATION:Pub-2nd
CATEGORIES:Assisted Living
END:VEVENT
BEGIN:VEVENT
DTSTART;TZID=America/Chicago:20251014T153000
DTEND;TZID=America/Chicago:20251014T163000
DTSTAMP:20260420T141429
CREATED:20250915T111334Z
LAST-MODIFIED:20251014T115828Z
UID:10002415-1760455800-1760459400@urbanaplaceseniorliving.com
SUMMARY:Play Wheel of Fortune
DESCRIPTION:
URL:https://urbanaplaceseniorliving.com/event-calendar/play-wheel-of-fortune-22/
LOCATION:Pub-2nd
CATEGORIES:Assisted Living
END:VEVENT
BEGIN:VEVENT
DTSTART;TZID=America/Chicago:20251011T181500
DTEND;TZID=America/Chicago:20251011T201500
DTSTAMP:20260420T141429
CREATED:20250912T105813Z
LAST-MODIFIED:20251011T114311Z
UID:10002366-1760206500-1760213700@urbanaplaceseniorliving.com
SUMMARY:Movie 'The Lake House'
DESCRIPTION:
URL:https://urbanaplaceseniorliving.com/event-calendar/movie-mamma-mia-p-9/
LOCATION:Pub-2nd
CATEGORIES:Assisted Living
END:VEVENT
BEGIN:VEVENT
DTSTART;TZID=America/Chicago:20251011T100000
DTEND;TZID=America/Chicago:20251011T110000
DTSTAMP:20260420T141429
CREATED:20250912T105813Z
LAST-MODIFIED:20251011T114311Z
UID:10002363-1760176800-1760180400@urbanaplaceseniorliving.com
SUMMARY:Word Games & Puzzles
DESCRIPTION:Join your friends and neighbors in the 2nd floor Pub to challenge your brain
URL:https://urbanaplaceseniorliving.com/event-calendar/word-games-puzzles-23/
LOCATION:Pub-2nd
CATEGORIES:Assisted Living
END:VEVENT
BEGIN:VEVENT
DTSTART;TZID=America/Chicago:20251010T140000
DTEND;TZID=America/Chicago:20251010T150000
DTSTAMP:20260420T141429
CREATED:20250911T105815Z
LAST-MODIFIED:20251010T114335Z
UID:10002342-1760104800-1760108400@urbanaplaceseniorliving.com
SUMMARY:Happy Hour 'Tequila Sunrise'
DESCRIPTION:Join the fun in the Pub. Non alcoholic drinks always available
URL:https://urbanaplaceseniorliving.com/event-calendar/happy-hour-p-8/
LOCATION:Pub-2nd
CATEGORIES:Assisted Living
END:VEVENT
BEGIN:VEVENT
DTSTART;TZID=America/Chicago:20251009T181500
DTEND;TZID=America/Chicago:20251009T191500
DTSTAMP:20260420T141429
CREATED:20250910T105816Z
LAST-MODIFIED:20251009T114323Z
UID:10002327-1760033700-1760037300@urbanaplaceseniorliving.com
SUMMARY:Featured Movie
DESCRIPTION:
URL:https://urbanaplaceseniorliving.com/event-calendar/featured-movie-21/
LOCATION:Pub-2nd
CATEGORIES:Assisted Living
END:VEVENT
BEGIN:VEVENT
DTSTART;TZID=America/Chicago:20251009T154500
DTEND;TZID=America/Chicago:20251009T163000
DTSTAMP:20260420T141429
CREATED:20250912T105813Z
LAST-MODIFIED:20251009T114323Z
UID:10002360-1760024700-1760027400@urbanaplaceseniorliving.com
SUMMARY:Women's Group Pampering & Poems
DESCRIPTION:
URL:https://urbanaplaceseniorliving.com/event-calendar/womens-group-pampering-poems/
LOCATION:Pub-2nd
CATEGORIES:Assisted Living
END:VEVENT
END:VCALENDAR