BEGIN:VCALENDAR
VERSION:2.0
PRODID:-//Urbana Place Senior Living in Brooklyn Park - ECPv6.11.2.1//NONSGML v1.0//EN
CALSCALE:GREGORIAN
METHOD:PUBLISH
X-ORIGINAL-URL:https://urbanaplaceseniorliving.com
X-WR-CALDESC:Events for Urbana Place Senior Living in Brooklyn Park
REFRESH-INTERVAL;VALUE=DURATION:PT1H
X-Robots-Tag:noindex
X-PUBLISHED-TTL:PT1H
BEGIN:VTIMEZONE
TZID:America/Chicago
BEGIN:DAYLIGHT
TZOFFSETFROM:-0600
TZOFFSETTO:-0500
TZNAME:CDT
DTSTART:20250309T080000
END:DAYLIGHT
BEGIN:STANDARD
TZOFFSETFROM:-0500
TZOFFSETTO:-0600
TZNAME:CST
DTSTART:20251102T070000
END:STANDARD
END:VTIMEZONE
BEGIN:VEVENT
DTSTART;TZID=America/Chicago:20251211T181500
DTEND;TZID=America/Chicago:20251211T191500
DTSTAMP:20260420T111110
CREATED:20251112T131346Z
LAST-MODIFIED:20251212T002811Z
UID:10003354-1765476900-1765480500@urbanaplaceseniorliving.com
SUMMARY:Featured Movie
DESCRIPTION:
URL:https://urbanaplaceseniorliving.com/event-calendar/featured-movie-29/
LOCATION:Pub-2nd
CATEGORIES:Assisted Living
END:VEVENT
BEGIN:VEVENT
DTSTART;TZID=America/Chicago:20251211T153000
DTEND;TZID=America/Chicago:20251211T163000
DTSTAMP:20260420T111110
CREATED:20251112T131346Z
LAST-MODIFIED:20251211T002815Z
UID:10003353-1765467000-1765470600@urbanaplaceseniorliving.com
SUMMARY:Women's Group Pampering
DESCRIPTION:Calling all ladies or Urbana! Come to the 2nd floor Pub for some holiday pampering
URL:https://urbanaplaceseniorliving.com/event-calendar/womens-group-pampering-3/
LOCATION:Pub-2nd
CATEGORIES:Assisted Living
END:VEVENT
BEGIN:VEVENT
DTSTART;TZID=America/Chicago:20251209T153000
DTEND;TZID=America/Chicago:20251209T163000
DTSTAMP:20260420T111110
CREATED:20251110T125823Z
LAST-MODIFIED:20251209T002845Z
UID:10003318-1765294200-1765297800@urbanaplaceseniorliving.com
SUMMARY:Play Wheel of Fortune
DESCRIPTION:
URL:https://urbanaplaceseniorliving.com/event-calendar/play-wheel-of-fortune-32/
LOCATION:Pub-2nd
CATEGORIES:Assisted Living
END:VEVENT
BEGIN:VEVENT
DTSTART;TZID=America/Chicago:20251206T181500
DTEND;TZID=America/Chicago:20251206T201500
DTSTAMP:20260420T111110
CREATED:20251107T125823Z
LAST-MODIFIED:20251207T002810Z
UID:10003277-1765044900-1765052100@urbanaplaceseniorliving.com
SUMMARY:Movie 'A Very Merry Mix-up'
DESCRIPTION:
URL:https://urbanaplaceseniorliving.com/event-calendar/movie-mamma-mia-p-12/
LOCATION:Pub-2nd
CATEGORIES:Assisted Living
END:VEVENT
BEGIN:VEVENT
DTSTART;TZID=America/Chicago:20251206T130000
DTEND;TZID=America/Chicago:20251206T140000
DTSTAMP:20260420T111110
CREATED:20251107T125822Z
LAST-MODIFIED:20251206T002811Z
UID:10003274-1765026000-1765029600@urbanaplaceseniorliving.com
SUMMARY:500 Card Club
DESCRIPTION:Calling all 500 card players! Come to the 2nd floor Pub to play some 500!
URL:https://urbanaplaceseniorliving.com/event-calendar/500-card-club-17/
LOCATION:Pub-2nd
CATEGORIES:Assisted Living
END:VEVENT
BEGIN:VEVENT
DTSTART;TZID=America/Chicago:20251206T100000
DTEND;TZID=America/Chicago:20251206T110000
DTSTAMP:20260420T111110
CREATED:20251107T125822Z
LAST-MODIFIED:20251206T002811Z
UID:10003273-1765015200-1765018800@urbanaplaceseniorliving.com
SUMMARY:Word Games & Puzzles
DESCRIPTION:Join your friends and neighbors in the 2nd floor Pub to challenge your brain
URL:https://urbanaplaceseniorliving.com/event-calendar/word-games-puzzles-31/
LOCATION:Pub-2nd
CATEGORIES:Assisted Living
END:VEVENT
BEGIN:VEVENT
DTSTART;TZID=America/Chicago:20251205T140000
DTEND;TZID=America/Chicago:20251205T150000
DTSTAMP:20260420T111110
CREATED:20251106T125816Z
LAST-MODIFIED:20251205T002811Z
UID:10003257-1764943200-1764946800@urbanaplaceseniorliving.com
SUMMARY:Happy Hour 'Margaritas'
DESCRIPTION:Join the fun in the Pub. Non alcoholic drinks always available
URL:https://urbanaplaceseniorliving.com/event-calendar/happy-hour-p-9/
LOCATION:Pub-2nd
CATEGORIES:Assisted Living
END:VEVENT
BEGIN:VEVENT
DTSTART;TZID=America/Chicago:20251204T181500
DTEND;TZID=America/Chicago:20251204T191500
DTSTAMP:20260420T111110
CREATED:20251105T125817Z
LAST-MODIFIED:20251205T002811Z
UID:10003243-1764872100-1764875700@urbanaplaceseniorliving.com
SUMMARY:Featured Movie
DESCRIPTION:
URL:https://urbanaplaceseniorliving.com/event-calendar/featured-movie-28/
LOCATION:Pub-2nd
CATEGORIES:Assisted Living
END:VEVENT
BEGIN:VEVENT
DTSTART;TZID=America/Chicago:20251129T181500
DTEND;TZID=America/Chicago:20251129T201500
DTSTAMP:20260420T111110
CREATED:20251031T125825Z
LAST-MODIFIED:20251130T002829Z
UID:10003115-1764440100-1764447300@urbanaplaceseniorliving.com
SUMMARY:Movie 'The Help'
DESCRIPTION:
URL:https://urbanaplaceseniorliving.com/event-calendar/movie-the-help/
LOCATION:Pub-2nd
CATEGORIES:Assisted Living
END:VEVENT
BEGIN:VEVENT
DTSTART;TZID=America/Chicago:20251129T100000
DTEND;TZID=America/Chicago:20251129T110000
DTSTAMP:20260420T111110
CREATED:20251031T125825Z
LAST-MODIFIED:20251128T125845Z
UID:10003113-1764410400-1764414000@urbanaplaceseniorliving.com
SUMMARY:Word Games & Puzzles
DESCRIPTION:Join your friends and neighbors in the 2nd floor Pub to challenge your brain
URL:https://urbanaplaceseniorliving.com/event-calendar/word-games-puzzles-30/
LOCATION:Pub-2nd
CATEGORIES:Assisted Living
END:VEVENT
BEGIN:VEVENT
DTSTART;TZID=America/Chicago:20251128T140000
DTEND;TZID=America/Chicago:20251128T150000
DTSTAMP:20260420T111110
CREATED:20251030T125821Z
LAST-MODIFIED:20251128T125845Z
UID:10003104-1764338400-1764342000@urbanaplaceseniorliving.com
SUMMARY:Happy Hour 'Boozy Root Beer Floats'
DESCRIPTION:Join the fun in the Pub. Non alcoholic drinks always available
URL:https://urbanaplaceseniorliving.com/event-calendar/happy-hour-boozy-root-beer-floats-4/
LOCATION:Pub-2nd
CATEGORIES:Assisted Living
END:VEVENT
BEGIN:VEVENT
DTSTART;TZID=America/Chicago:20251127T181500
DTEND;TZID=America/Chicago:20251127T191500
DTSTAMP:20260420T111110
CREATED:20251029T125815Z
LAST-MODIFIED:20251125T145812Z
UID:10003097-1764267300-1764270900@urbanaplaceseniorliving.com
SUMMARY:Featured Movie
DESCRIPTION:
URL:https://urbanaplaceseniorliving.com/event-calendar/featured-movie-27/
LOCATION:Pub-2nd
CATEGORIES:Assisted Living
END:VEVENT
BEGIN:VEVENT
DTSTART;TZID=America/Chicago:20251127T130000
DTEND;TZID=America/Chicago:20251127T140000
DTSTAMP:20260420T111110
CREATED:20251029T125815Z
LAST-MODIFIED:20251125T145813Z
UID:10003096-1764248400-1764252000@urbanaplaceseniorliving.com
SUMMARY:Turkey Word Games
DESCRIPTION:Stop by the Pub to grab some fun Turkey Word Games today!
URL:https://urbanaplaceseniorliving.com/event-calendar/turkey-word-games/
LOCATION:Pub-2nd
CATEGORIES:Assisted Living
END:VEVENT
BEGIN:VEVENT
DTSTART;TZID=America/Chicago:20251127T073000
DTEND;TZID=America/Chicago:20251127T093000
DTSTAMP:20260420T111110
CREATED:20251028T135821Z
LAST-MODIFIED:20251125T151314Z
UID:10003094-1764228600-1764235800@urbanaplaceseniorliving.com
SUMMARY:Macy's Thanksgiving Parade
DESCRIPTION:Come to the Pub to watch the legendary Macy’s Thanksgiving Day Parade!
URL:https://urbanaplaceseniorliving.com/event-calendar/macys-thanksgiving-parade/
LOCATION:Pub-2nd
CATEGORIES:Assisted Living,Legacy Court
END:VEVENT
BEGIN:VEVENT
DTSTART;TZID=America/Chicago:20251125T153000
DTEND;TZID=America/Chicago:20251125T163000
DTSTAMP:20260420T111110
CREATED:20251027T124316Z
LAST-MODIFIED:20251125T145812Z
UID:10003049-1764084600-1764088200@urbanaplaceseniorliving.com
SUMMARY:Play Wheel of Fortune
DESCRIPTION:
URL:https://urbanaplaceseniorliving.com/event-calendar/play-wheel-of-fortune-28/
LOCATION:Pub-2nd
CATEGORIES:Assisted Living
END:VEVENT
BEGIN:VEVENT
DTSTART;TZID=America/Chicago:20251122T181500
DTEND;TZID=America/Chicago:20251122T201500
DTSTAMP:20260420T111110
CREATED:20251024T124329Z
LAST-MODIFIED:20251122T144315Z
UID:10003014-1763835300-1763842500@urbanaplaceseniorliving.com
SUMMARY:Movie 'Beyond the Sea'
DESCRIPTION:
URL:https://urbanaplaceseniorliving.com/event-calendar/movie-beyond-the-sea/
LOCATION:Pub-2nd
CATEGORIES:Assisted Living
END:VEVENT
BEGIN:VEVENT
DTSTART;TZID=America/Chicago:20251122T100000
DTEND;TZID=America/Chicago:20251122T110000
DTSTAMP:20260420T111110
CREATED:20251024T124329Z
LAST-MODIFIED:20251122T144315Z
UID:10003011-1763805600-1763809200@urbanaplaceseniorliving.com
SUMMARY:Word Games & Puzzles
DESCRIPTION:Join your friends and neighbors in the 2nd floor Pub to challenge your brain
URL:https://urbanaplaceseniorliving.com/event-calendar/word-games-puzzles-29/
LOCATION:Pub-2nd
CATEGORIES:Assisted Living
END:VEVENT
BEGIN:VEVENT
DTSTART;TZID=America/Chicago:20251121T140000
DTEND;TZID=America/Chicago:20251121T150000
DTSTAMP:20260420T111110
CREATED:20251023T122832Z
LAST-MODIFIED:20251121T144312Z
UID:10002996-1763733600-1763737200@urbanaplaceseniorliving.com
SUMMARY:Happy Hour 'Cuba Libre'
DESCRIPTION:Join the fun in the Pub. Non alcoholic drinks always available
URL:https://urbanaplaceseniorliving.com/event-calendar/happy-hour-cuba-libre/
LOCATION:Pub-2nd
CATEGORIES:Assisted Living
END:VEVENT
BEGIN:VEVENT
DTSTART;TZID=America/Chicago:20251115T181500
DTEND;TZID=America/Chicago:20251115T201500
DTSTAMP:20260420T111110
CREATED:20251017T121314Z
LAST-MODIFIED:20251115T131313Z
UID:10002926-1763230500-1763237700@urbanaplaceseniorliving.com
SUMMARY:Movie 'The Moth Man Prophecies'
DESCRIPTION:
URL:https://urbanaplaceseniorliving.com/event-calendar/movie-the-moth-man-prophecies/
LOCATION:Pub-2nd
CATEGORIES:Assisted Living
END:VEVENT
BEGIN:VEVENT
DTSTART;TZID=America/Chicago:20251115T100000
DTEND;TZID=America/Chicago:20251115T110000
DTSTAMP:20260420T111110
CREATED:20251017T121314Z
LAST-MODIFIED:20251115T131313Z
UID:10002924-1763200800-1763204400@urbanaplaceseniorliving.com
SUMMARY:Word Games & Puzzles
DESCRIPTION:Join your friends and neighbors in the 2nd floor Pub to challenge your brain
URL:https://urbanaplaceseniorliving.com/event-calendar/word-games-puzzles-28/
LOCATION:Pub-2nd
CATEGORIES:Assisted Living
END:VEVENT
BEGIN:VEVENT
DTSTART;TZID=America/Chicago:20251114T140000
DTEND;TZID=America/Chicago:20251114T150000
DTSTAMP:20260420T111110
CREATED:20251016T121316Z
LAST-MODIFIED:20251114T131313Z
UID:10002916-1763128800-1763132400@urbanaplaceseniorliving.com
SUMMARY:Happy Hour 'Bloody Marys'
DESCRIPTION:Join the fun in the Pub. Non alcoholic drinks always available
URL:https://urbanaplaceseniorliving.com/event-calendar/happy-hour-bloody-marys/
LOCATION:Pub-2nd
CATEGORIES:Assisted Living
END:VEVENT
BEGIN:VEVENT
DTSTART;TZID=America/Chicago:20251113T181500
DTEND;TZID=America/Chicago:20251113T191500
DTSTAMP:20260420T111110
CREATED:20251015T115833Z
LAST-MODIFIED:20251113T131339Z
UID:10002908-1763057700-1763061300@urbanaplaceseniorliving.com
SUMMARY:Featured Movie
DESCRIPTION:
URL:https://urbanaplaceseniorliving.com/event-calendar/featured-movie-26/
LOCATION:Pub-2nd
CATEGORIES:Assisted Living
END:VEVENT
BEGIN:VEVENT
DTSTART;TZID=America/Chicago:20251113T154500
DTEND;TZID=America/Chicago:20251113T164500
DTSTAMP:20260420T111110
CREATED:20251015T115833Z
LAST-MODIFIED:20251113T144312Z
UID:10002907-1763048700-1763052300@urbanaplaceseniorliving.com
SUMMARY:Women's Group Cider Social
DESCRIPTION:Calling all the women of Urbana! Join us in the Bistro to sample a few different seasonal hard ciders. Non alcoholic beverages will also be available
URL:https://urbanaplaceseniorliving.com/event-calendar/womens-group-berry-good-beer-tasting/
LOCATION:Pub-2nd
CATEGORIES:Assisted Living,Legacy Court
END:VEVENT
BEGIN:VEVENT
DTSTART;TZID=America/Chicago:20251111T153000
DTEND;TZID=America/Chicago:20251111T163000
DTSTAMP:20260420T111110
CREATED:20251013T115815Z
LAST-MODIFIED:20251111T131315Z
UID:10002874-1762875000-1762878600@urbanaplaceseniorliving.com
SUMMARY:Play Wheel of Fortune
DESCRIPTION:
URL:https://urbanaplaceseniorliving.com/event-calendar/play-wheel-of-fortune-27/
LOCATION:Pub-2nd
CATEGORIES:Assisted Living
END:VEVENT
BEGIN:VEVENT
DTSTART;TZID=America/Chicago:20251111T140000
DTEND;TZID=America/Chicago:20251111T150000
DTSTAMP:20260420T111110
CREATED:20251013T115814Z
LAST-MODIFIED:20251111T131315Z
UID:10002872-1762869600-1762873200@urbanaplaceseniorliving.com
SUMMARY:Veterans Recognition & Cake
DESCRIPTION:Join us in the 2nd floor Pub to recognize our Veterans
URL:https://urbanaplaceseniorliving.com/event-calendar/veterans-recognition-cake/
LOCATION:Pub-2nd
CATEGORIES:Assisted Living,Legacy Court
END:VEVENT
BEGIN:VEVENT
DTSTART;TZID=America/Chicago:20251108T181500
DTEND;TZID=America/Chicago:20251108T201500
DTSTAMP:20260420T111110
CREATED:20251010T114340Z
LAST-MODIFIED:20251108T125812Z
UID:10002826-1762625700-1762632900@urbanaplaceseniorliving.com
SUMMARY:Movie 'Zoo Keeper'
DESCRIPTION:
URL:https://urbanaplaceseniorliving.com/event-calendar/movie-mamma-mia-p-11/
LOCATION:Pub-2nd
CATEGORIES:Assisted Living
END:VEVENT
BEGIN:VEVENT
DTSTART;TZID=America/Chicago:20251108T100000
DTEND;TZID=America/Chicago:20251108T110000
DTSTAMP:20260420T111110
CREATED:20251010T114340Z
LAST-MODIFIED:20251108T125812Z
UID:10002823-1762596000-1762599600@urbanaplaceseniorliving.com
SUMMARY:Word Games & Puzzles
DESCRIPTION:Join your friends and neighbors in the 2nd floor Pub to challenge your brain
URL:https://urbanaplaceseniorliving.com/event-calendar/word-games-puzzles-27/
LOCATION:Pub-2nd
CATEGORIES:Assisted Living
END:VEVENT
BEGIN:VEVENT
DTSTART;TZID=America/Chicago:20251107T140000
DTEND;TZID=America/Chicago:20251107T150000
DTSTAMP:20260420T111110
CREATED:20251009T114327Z
LAST-MODIFIED:20251107T125814Z
UID:10002808-1762524000-1762527600@urbanaplaceseniorliving.com
SUMMARY:Happy Hour 'Margaritas'
DESCRIPTION:Join the fun in the Pub. Non alcoholic drinks always available
URL:https://urbanaplaceseniorliving.com/event-calendar/happy-hour-margaritas-2/
LOCATION:Pub-2nd
CATEGORIES:Assisted Living
END:VEVENT
BEGIN:VEVENT
DTSTART;TZID=America/Chicago:20251106T181500
DTEND;TZID=America/Chicago:20251106T191500
DTSTAMP:20260420T111110
CREATED:20251008T114315Z
LAST-MODIFIED:20251106T125810Z
UID:10002792-1762452900-1762456500@urbanaplaceseniorliving.com
SUMMARY:Featured Movie
DESCRIPTION:
URL:https://urbanaplaceseniorliving.com/event-calendar/featured-movie-25/
LOCATION:Pub-2nd
CATEGORIES:Assisted Living
END:VEVENT
BEGIN:VEVENT
DTSTART;TZID=America/Chicago:20251102T120000
DTEND;TZID=America/Chicago:20251102T130000
DTSTAMP:20260420T111110
CREATED:20251008T114314Z
LAST-MODIFIED:20251102T125811Z
UID:10002788-1762084800-1762088400@urbanaplaceseniorliving.com
SUMMARY:Vikings vs Lions
DESCRIPTION:Let’s go Vikes!
URL:https://urbanaplaceseniorliving.com/event-calendar/vikings-vs/
LOCATION:Pub-2nd
CATEGORIES:Assisted Living
END:VEVENT
END:VCALENDAR