BEGIN:VCALENDAR
VERSION:2.0
PRODID:-//Urbana Place Senior Living in Brooklyn Park - ECPv6.11.2.1//NONSGML v1.0//EN
CALSCALE:GREGORIAN
METHOD:PUBLISH
X-WR-CALNAME:Urbana Place Senior Living in Brooklyn Park
X-ORIGINAL-URL:https://urbanaplaceseniorliving.com
X-WR-CALDESC:Events for Urbana Place Senior Living in Brooklyn Park
REFRESH-INTERVAL;VALUE=DURATION:PT1H
X-Robots-Tag:noindex
X-PUBLISHED-TTL:PT1H
BEGIN:VTIMEZONE
TZID:America/Chicago
BEGIN:DAYLIGHT
TZOFFSETFROM:-0600
TZOFFSETTO:-0500
TZNAME:CDT
DTSTART:20250309T080000
END:DAYLIGHT
BEGIN:STANDARD
TZOFFSETFROM:-0500
TZOFFSETTO:-0600
TZNAME:CST
DTSTART:20251102T070000
END:STANDARD
BEGIN:DAYLIGHT
TZOFFSETFROM:-0600
TZOFFSETTO:-0500
TZNAME:CDT
DTSTART:20260308T080000
END:DAYLIGHT
BEGIN:STANDARD
TZOFFSETFROM:-0500
TZOFFSETTO:-0600
TZNAME:CST
DTSTART:20261101T070000
END:STANDARD
END:VTIMEZONE
BEGIN:VEVENT
DTSTART;TZID=America/Chicago:20260123T140000
DTEND;TZID=America/Chicago:20260123T150000
DTSTAMP:20260420T050648
CREATED:20251225T005831Z
LAST-MODIFIED:20260123T015810Z
UID:10003856-1769176800-1769180400@urbanaplaceseniorliving.com
SUMMARY:Happy Hour 'Cuba Libre'
DESCRIPTION:Join the fun in the Pub. Non alcoholic drinks always available
URL:https://urbanaplaceseniorliving.com/event-calendar/happy-hour-cuba-libre-2/
LOCATION:Pub-2nd
CATEGORIES:Assisted Living
END:VEVENT
BEGIN:VEVENT
DTSTART;TZID=America/Chicago:20260122T181500
DTEND;TZID=America/Chicago:20260122T191500
DTSTAMP:20260420T050648
CREATED:20251224T005823Z
LAST-MODIFIED:20260122T015812Z
UID:10003850-1769105700-1769109300@urbanaplaceseniorliving.com
SUMMARY:Featured Movie
DESCRIPTION:
URL:https://urbanaplaceseniorliving.com/event-calendar/featured-movie-35/
LOCATION:Pub-2nd
CATEGORIES:Assisted Living
END:VEVENT
BEGIN:VEVENT
DTSTART;TZID=America/Chicago:20260122T153000
DTEND;TZID=America/Chicago:20260122T163000
DTSTAMP:20260420T050648
CREATED:20251225T005831Z
LAST-MODIFIED:20260122T015812Z
UID:10003853-1769095800-1769099400@urbanaplaceseniorliving.com
SUMMARY:Women's Group Pampering
DESCRIPTION:Calling all the ladies of Urbana Place! Join us in the Pub for our monthly pampering!
URL:https://urbanaplaceseniorliving.com/event-calendar/womens-group-pampering-4/
LOCATION:Pub-2nd
CATEGORIES:Assisted Living,Legacy Court
END:VEVENT
BEGIN:VEVENT
DTSTART;TZID=America/Chicago:20260120T153000
DTEND;TZID=America/Chicago:20260120T163000
DTSTAMP:20260420T050648
CREATED:20251222T005815Z
LAST-MODIFIED:20260120T014315Z
UID:10003835-1768923000-1768926600@urbanaplaceseniorliving.com
SUMMARY:Play Wheel of Fortune
DESCRIPTION:
URL:https://urbanaplaceseniorliving.com/event-calendar/play-wheel-of-fortune-38/
LOCATION:Pub-2nd
CATEGORIES:Assisted Living
END:VEVENT
BEGIN:VEVENT
DTSTART;TZID=America/Chicago:20260118T150000
DTEND;TZID=America/Chicago:20260118T163000
DTSTAMP:20260420T050648
CREATED:20251224T005820Z
LAST-MODIFIED:20260118T014312Z
UID:10003846-1768748400-1768753800@urbanaplaceseniorliving.com
SUMMARY:Play Cribbage
DESCRIPTION:Dust off your cribbage skills! Invite a partner to come to the Pub to play some cribbage. We will be having a cribbage tournament in February!
URL:https://urbanaplaceseniorliving.com/event-calendar/play-cribbage-3/
LOCATION:Pub-2nd
CATEGORIES:Assisted Living
END:VEVENT
BEGIN:VEVENT
DTSTART;TZID=America/Chicago:20260117T181500
DTEND;TZID=America/Chicago:20260117T201500
DTSTAMP:20260420T050648
CREATED:20251219T004318Z
LAST-MODIFIED:20260118T014312Z
UID:10003816-1768673700-1768680900@urbanaplaceseniorliving.com
SUMMARY:Movie 'Miracle'
DESCRIPTION:
URL:https://urbanaplaceseniorliving.com/event-calendar/movie-mamma-mia-p-15/
LOCATION:Pub-2nd
CATEGORIES:Assisted Living
END:VEVENT
BEGIN:VEVENT
DTSTART;TZID=America/Chicago:20260117T130000
DTEND;TZID=America/Chicago:20260117T140000
DTSTAMP:20260420T050648
CREATED:20251219T004318Z
LAST-MODIFIED:20260117T014312Z
UID:10003814-1768654800-1768658400@urbanaplaceseniorliving.com
SUMMARY:500 Card Club
DESCRIPTION:Calling all 500 card players! Come to the 2nd floor Pub to play some 500!
URL:https://urbanaplaceseniorliving.com/event-calendar/500-card-club-23/
LOCATION:Pub-2nd
CATEGORIES:Assisted Living
END:VEVENT
BEGIN:VEVENT
DTSTART;TZID=America/Chicago:20260117T100000
DTEND;TZID=America/Chicago:20260117T110000
DTSTAMP:20260420T050648
CREATED:20251219T004318Z
LAST-MODIFIED:20260117T014312Z
UID:10003813-1768644000-1768647600@urbanaplaceseniorliving.com
SUMMARY:Word Games & Puzzles
DESCRIPTION:Join your friends and neighbors in the 2nd floor Pub to challenge your brain
URL:https://urbanaplaceseniorliving.com/event-calendar/word-games-puzzles-37/
LOCATION:Pub-2nd
CATEGORIES:Assisted Living
END:VEVENT
BEGIN:VEVENT
DTSTART;TZID=America/Chicago:20260116T140000
DTEND;TZID=America/Chicago:20260116T150000
DTSTAMP:20260420T050648
CREATED:20251218T004328Z
LAST-MODIFIED:20260116T014324Z
UID:10003811-1768572000-1768575600@urbanaplaceseniorliving.com
SUMMARY:Happy Hour 'Boozy Root Beer Floats'
DESCRIPTION:Join the fun in the Pub. Non alcoholic drinks always available
URL:https://urbanaplaceseniorliving.com/event-calendar/happy-hour-p-11/
LOCATION:Pub-2nd
CATEGORIES:Assisted Living
END:VEVENT
BEGIN:VEVENT
DTSTART;TZID=America/Chicago:20260115T181500
DTEND;TZID=America/Chicago:20260115T191500
DTSTAMP:20260420T050648
CREATED:20251217T002834Z
LAST-MODIFIED:20260115T014310Z
UID:10003808-1768500900-1768504500@urbanaplaceseniorliving.com
SUMMARY:Featured Movie
DESCRIPTION:
URL:https://urbanaplaceseniorliving.com/event-calendar/featured-movie-34/
LOCATION:Pub-2nd
CATEGORIES:Assisted Living
END:VEVENT
BEGIN:VEVENT
DTSTART;TZID=America/Chicago:20260111T150000
DTEND;TZID=America/Chicago:20260111T163000
DTSTAMP:20260420T050648
CREATED:20251224T005818Z
LAST-MODIFIED:20260111T012817Z
UID:10003845-1768143600-1768149000@urbanaplaceseniorliving.com
SUMMARY:Play Cribbage
DESCRIPTION:Dust off your cribbage skills! Invite a partner to come to the Pub to play some cribbage. We will be having a cribbage tournament in February!
URL:https://urbanaplaceseniorliving.com/event-calendar/play-cribbage-2/
LOCATION:Pub-2nd
CATEGORIES:Assisted Living
END:VEVENT
BEGIN:VEVENT
DTSTART;TZID=America/Chicago:20260110T181500
DTEND;TZID=America/Chicago:20260110T201500
DTSTAMP:20260420T050648
CREATED:20251212T002815Z
LAST-MODIFIED:20260111T012816Z
UID:10003786-1768068900-1768076100@urbanaplaceseniorliving.com
SUMMARY:Movie 'The Other Woman'
DESCRIPTION:
URL:https://urbanaplaceseniorliving.com/event-calendar/movie-mamma-mia-p-14/
LOCATION:Pub-2nd
CATEGORIES:Assisted Living
END:VEVENT
BEGIN:VEVENT
DTSTART;TZID=America/Chicago:20260110T130000
DTEND;TZID=America/Chicago:20260110T140000
DTSTAMP:20260420T050648
CREATED:20251212T002815Z
LAST-MODIFIED:20260110T012815Z
UID:10003785-1768050000-1768053600@urbanaplaceseniorliving.com
SUMMARY:500 Card Club
DESCRIPTION:Calling all 500 card players! Come to the 2nd floor Pub to play some 500!
URL:https://urbanaplaceseniorliving.com/event-calendar/500-card-club-22/
LOCATION:Pub-2nd
CATEGORIES:Assisted Living
END:VEVENT
BEGIN:VEVENT
DTSTART;TZID=America/Chicago:20260110T100000
DTEND;TZID=America/Chicago:20260110T110000
DTSTAMP:20260420T050648
CREATED:20251212T002815Z
LAST-MODIFIED:20260110T012815Z
UID:10003784-1768039200-1768042800@urbanaplaceseniorliving.com
SUMMARY:Word Games & Puzzles
DESCRIPTION:Join your friends and neighbors in the 2nd floor Pub to challenge your brain
URL:https://urbanaplaceseniorliving.com/event-calendar/word-games-puzzles-36/
LOCATION:Pub-2nd
CATEGORIES:Assisted Living
END:VEVENT
BEGIN:VEVENT
DTSTART;TZID=America/Chicago:20260109T140000
DTEND;TZID=America/Chicago:20260109T150000
DTSTAMP:20260420T050648
CREATED:20251211T002820Z
LAST-MODIFIED:20260109T011312Z
UID:10003781-1767967200-1767970800@urbanaplaceseniorliving.com
SUMMARY:Happy Hour 'Screwdriver'
DESCRIPTION:Join the fun in the Pub. Non alcoholic drinks always available
URL:https://urbanaplaceseniorliving.com/event-calendar/happy-hour-p-10/
LOCATION:Pub-2nd
CATEGORIES:Assisted Living
END:VEVENT
BEGIN:VEVENT
DTSTART;TZID=America/Chicago:20260108T181500
DTEND;TZID=America/Chicago:20260108T191500
DTSTAMP:20260420T050648
CREATED:20251210T002824Z
LAST-MODIFIED:20260109T011312Z
UID:10003776-1767896100-1767899700@urbanaplaceseniorliving.com
SUMMARY:Featured Movie
DESCRIPTION:
URL:https://urbanaplaceseniorliving.com/event-calendar/featured-movie-33/
LOCATION:Pub-2nd
CATEGORIES:Assisted Living
END:VEVENT
BEGIN:VEVENT
DTSTART;TZID=America/Chicago:20260106T153000
DTEND;TZID=America/Chicago:20260106T163000
DTSTAMP:20260420T050648
CREATED:20251208T002824Z
LAST-MODIFIED:20260106T005813Z
UID:10003765-1767713400-1767717000@urbanaplaceseniorliving.com
SUMMARY:Play Wheel of Fortune
DESCRIPTION:
URL:https://urbanaplaceseniorliving.com/event-calendar/play-wheel-of-fortune-37/
LOCATION:Pub-2nd
CATEGORIES:Assisted Living
END:VEVENT
BEGIN:VEVENT
DTSTART;TZID=America/Chicago:20260104T150000
DTEND;TZID=America/Chicago:20260104T163000
DTSTAMP:20260420T050648
CREATED:20251224T005817Z
LAST-MODIFIED:20260104T005811Z
UID:10003844-1767538800-1767544200@urbanaplaceseniorliving.com
SUMMARY:Play Cribbage
DESCRIPTION:Dust off your cribbage skills! Invite a partner to come to the Pub to play some cribbage. We will be having a cribbage tournament in February!
URL:https://urbanaplaceseniorliving.com/event-calendar/play-cribbage/
LOCATION:Pub-2nd
CATEGORIES:Assisted Living
END:VEVENT
BEGIN:VEVENT
DTSTART;TZID=America/Chicago:20260103T181500
DTEND;TZID=America/Chicago:20260103T201500
DTSTAMP:20260420T050648
CREATED:20251205T002815Z
LAST-MODIFIED:20260104T005811Z
UID:10003746-1767464100-1767471300@urbanaplaceseniorliving.com
SUMMARY:Movie 'Mamma Mia!'
DESCRIPTION:
URL:https://urbanaplaceseniorliving.com/event-calendar/movie-mamma-mia-p-13/
LOCATION:Pub-2nd
CATEGORIES:Assisted Living
END:VEVENT
BEGIN:VEVENT
DTSTART;TZID=America/Chicago:20260103T130000
DTEND;TZID=America/Chicago:20260103T140000
DTSTAMP:20260420T050648
CREATED:20251205T002815Z
LAST-MODIFIED:20260103T005823Z
UID:10003744-1767445200-1767448800@urbanaplaceseniorliving.com
SUMMARY:500 Card Club
DESCRIPTION:Calling all 500 card players! Come to the 2nd floor Pub to play some 500!
URL:https://urbanaplaceseniorliving.com/event-calendar/500-card-club-21/
LOCATION:Pub-2nd
CATEGORIES:Assisted Living
END:VEVENT
BEGIN:VEVENT
DTSTART;TZID=America/Chicago:20260103T100000
DTEND;TZID=America/Chicago:20260103T110000
DTSTAMP:20260420T050648
CREATED:20251205T002815Z
LAST-MODIFIED:20260103T005823Z
UID:10003743-1767434400-1767438000@urbanaplaceseniorliving.com
SUMMARY:Word Games & Puzzles
DESCRIPTION:Join your friends and neighbors in the 2nd floor Pub to challenge your brain
URL:https://urbanaplaceseniorliving.com/event-calendar/word-games-puzzles-35/
LOCATION:Pub-2nd
CATEGORIES:Assisted Living
END:VEVENT
BEGIN:VEVENT
DTSTART;TZID=America/Chicago:20260102T140000
DTEND;TZID=America/Chicago:20260102T150000
DTSTAMP:20260420T050648
CREATED:20251204T002823Z
LAST-MODIFIED:20260102T005810Z
UID:10003737-1767362400-1767366000@urbanaplaceseniorliving.com
SUMMARY:Happy Hour 'Margaritas'
DESCRIPTION:Join the fun in the Pub. Non alcoholic drinks always available
URL:https://urbanaplaceseniorliving.com/event-calendar/happy-hour-margaritas-3/
LOCATION:Pub-2nd
CATEGORIES:Assisted Living
END:VEVENT
BEGIN:VEVENT
DTSTART;TZID=America/Chicago:20260101T181500
DTEND;TZID=America/Chicago:20260101T191500
DTSTAMP:20260420T050648
CREATED:20251203T002821Z
LAST-MODIFIED:20260102T005810Z
UID:10003731-1767291300-1767294900@urbanaplaceseniorliving.com
SUMMARY:Featured Movie
DESCRIPTION:
URL:https://urbanaplaceseniorliving.com/event-calendar/featured-movie-32/
LOCATION:Pub-2nd
CATEGORIES:Assisted Living
END:VEVENT
BEGIN:VEVENT
DTSTART;VALUE=DATE:20260101
DTEND;VALUE=DATE:20260102
DTSTAMP:20260420T050648
CREATED:20251224T005815Z
LAST-MODIFIED:20251231T005811Z
UID:10003842-1767225600-1767311999@urbanaplaceseniorliving.com
SUMMARY:New Years Day Word Games
DESCRIPTION:Stop by the Pub anytime today to pick up some word games or a puzzle to work on independently
URL:https://urbanaplaceseniorliving.com/event-calendar/new-years-day-word-games/
LOCATION:Pub-2nd
CATEGORIES:Assisted Living
END:VEVENT
BEGIN:VEVENT
DTSTART;TZID=America/Chicago:20251227T181500
DTEND;TZID=America/Chicago:20251227T201500
DTSTAMP:20260420T050648
CREATED:20251128T122827Z
LAST-MODIFIED:20251228T005811Z
UID:10003620-1766859300-1766866500@urbanaplaceseniorliving.com
SUMMARY:Movie 'Rockettes Christmas Spectacular'
DESCRIPTION:
URL:https://urbanaplaceseniorliving.com/event-calendar/movie-rockettes-christmas-spectacular/
LOCATION:Pub-2nd
CATEGORIES:Assisted Living
END:VEVENT
BEGIN:VEVENT
DTSTART;TZID=America/Chicago:20251227T130000
DTEND;TZID=America/Chicago:20251227T140000
DTSTAMP:20260420T050648
CREATED:20251128T122827Z
LAST-MODIFIED:20251227T005836Z
UID:10003619-1766840400-1766844000@urbanaplaceseniorliving.com
SUMMARY:500 Card Club
DESCRIPTION:Calling all 500 card players! Come to the 2nd floor Pub to play some 500!
URL:https://urbanaplaceseniorliving.com/event-calendar/500-card-club-20/
LOCATION:Pub-2nd
CATEGORIES:Assisted Living
END:VEVENT
BEGIN:VEVENT
DTSTART;TZID=America/Chicago:20251227T100000
DTEND;TZID=America/Chicago:20251227T110000
DTSTAMP:20260420T050648
CREATED:20251128T122827Z
LAST-MODIFIED:20251227T005836Z
UID:10003618-1766829600-1766833200@urbanaplaceseniorliving.com
SUMMARY:Word Games & Puzzles
DESCRIPTION:Join your friends and neighbors in the 2nd floor Pub to challenge your brain
URL:https://urbanaplaceseniorliving.com/event-calendar/word-games-puzzles-34/
LOCATION:Pub-2nd
CATEGORIES:Assisted Living
END:VEVENT
BEGIN:VEVENT
DTSTART;TZID=America/Chicago:20251226T140000
DTEND;TZID=America/Chicago:20251226T150000
DTSTAMP:20260420T050648
CREATED:20251128T122827Z
LAST-MODIFIED:20251226T005811Z
UID:10003615-1766757600-1766761200@urbanaplaceseniorliving.com
SUMMARY:Happy Hour 'Holiday Punch'
DESCRIPTION:Join the fun in the Pub. Non alcoholic drinks always available
URL:https://urbanaplaceseniorliving.com/event-calendar/happy-hour-holiday-punch/
LOCATION:Pub-2nd
CATEGORIES:Assisted Living
END:VEVENT
BEGIN:VEVENT
DTSTART;TZID=America/Chicago:20251225T181500
DTEND;TZID=America/Chicago:20251225T191500
DTSTAMP:20260420T050648
CREATED:20251128T122827Z
LAST-MODIFIED:20251226T005811Z
UID:10003613-1766686500-1766690100@urbanaplaceseniorliving.com
SUMMARY:Featured Movie
DESCRIPTION:
URL:https://urbanaplaceseniorliving.com/event-calendar/featured-movie-31/
LOCATION:Pub-2nd
CATEGORIES:Assisted Living
END:VEVENT
BEGIN:VEVENT
DTSTART;TZID=America/Chicago:20251225T130000
DTEND;TZID=America/Chicago:20251225T140000
DTSTAMP:20260420T050648
CREATED:20251128T122827Z
LAST-MODIFIED:20251225T005822Z
UID:10003612-1766667600-1766671200@urbanaplaceseniorliving.com
SUMMARY:Holiday Word Games
DESCRIPTION:Stop by the Pub to grab some Holiday Word Games to engage your brain
URL:https://urbanaplaceseniorliving.com/event-calendar/holiday-word-games/
LOCATION:Pub-2nd
CATEGORIES:Assisted Living
END:VEVENT
END:VCALENDAR