BEGIN:VCALENDAR
VERSION:2.0
PRODID:-//Urbana Place Senior Living in Brooklyn Park - ECPv6.11.2.1//NONSGML v1.0//EN
CALSCALE:GREGORIAN
METHOD:PUBLISH
X-ORIGINAL-URL:https://urbanaplaceseniorliving.com
X-WR-CALDESC:Events for Urbana Place Senior Living in Brooklyn Park
REFRESH-INTERVAL;VALUE=DURATION:PT1H
X-Robots-Tag:noindex
X-PUBLISHED-TTL:PT1H
BEGIN:VTIMEZONE
TZID:America/Chicago
BEGIN:DAYLIGHT
TZOFFSETFROM:-0600
TZOFFSETTO:-0500
TZNAME:CDT
DTSTART:20250309T080000
END:DAYLIGHT
BEGIN:STANDARD
TZOFFSETFROM:-0500
TZOFFSETTO:-0600
TZNAME:CST
DTSTART:20251102T070000
END:STANDARD
END:VTIMEZONE
BEGIN:VEVENT
DTSTART;TZID=America/Chicago:20250920T130000
DTEND;TZID=America/Chicago:20250920T140000
DTSTAMP:20260420T081816
CREATED:20250822T105817Z
LAST-MODIFIED:20250920T114312Z
UID:10001992-1758373200-1758376800@urbanaplaceseniorliving.com
SUMMARY:500 Card Club
DESCRIPTION:Calling all 500 card players! Come to the 2nd floor Lounge to play some 500!
URL:https://urbanaplaceseniorliving.com/event-calendar/500-card-club-6/
LOCATION:Lounge-2nd
CATEGORIES:Assisted Living
END:VEVENT
BEGIN:VEVENT
DTSTART;TZID=America/Chicago:20250915T153000
DTEND;TZID=America/Chicago:20250915T163000
DTSTAMP:20260420T081816
CREATED:20250817T105816Z
LAST-MODIFIED:20250915T111328Z
UID:10001921-1757950200-1757953800@urbanaplaceseniorliving.com
SUMMARY:Hand Bell Group
DESCRIPTION:Let’s create music together! The Hand Bell Group is for everyone. You do not need to know how to read music\, just know your colors!
URL:https://urbanaplaceseniorliving.com/event-calendar/hand-bell-group-7/
LOCATION:Lounge-2nd
CATEGORIES:Assisted Living
END:VEVENT
BEGIN:VEVENT
DTSTART;TZID=America/Chicago:20250914T130000
DTEND;TZID=America/Chicago:20250914T140000
DTSTAMP:20260420T081816
CREATED:20250816T105842Z
LAST-MODIFIED:20250914T111318Z
UID:10001902-1757854800-1757858400@urbanaplaceseniorliving.com
SUMMARY:31 Card Club
DESCRIPTION:Grab a friend and come to the 2nd floor Lounge to play a game of 31!
URL:https://urbanaplaceseniorliving.com/event-calendar/31-card-club-5/
LOCATION:Lounge-2nd
CATEGORIES:Assisted Living
END:VEVENT
BEGIN:VEVENT
DTSTART;TZID=America/Chicago:20250913T130000
DTEND;TZID=America/Chicago:20250913T140000
DTSTAMP:20260420T081816
CREATED:20250815T104317Z
LAST-MODIFIED:20250913T105821Z
UID:10001891-1757768400-1757772000@urbanaplaceseniorliving.com
SUMMARY:500 Card Club
DESCRIPTION:Calling all 500 card players! Come to the 2nd floor Lounge to play some 500!
URL:https://urbanaplaceseniorliving.com/event-calendar/500-card-club-5/
LOCATION:Lounge-2nd
CATEGORIES:Assisted Living
END:VEVENT
BEGIN:VEVENT
DTSTART;TZID=America/Chicago:20250908T153000
DTEND;TZID=America/Chicago:20250908T163000
DTSTAMP:20260420T081816
CREATED:20250810T101319Z
LAST-MODIFIED:20250908T105817Z
UID:10001807-1757345400-1757349000@urbanaplaceseniorliving.com
SUMMARY:Hand Bell Group
DESCRIPTION:Let’s create music together! The Hand Bell Group is for everyone. You do not need to know how to read music\, just know your colors!
URL:https://urbanaplaceseniorliving.com/event-calendar/hand-bell-group-6/
LOCATION:Lounge-2nd
CATEGORIES:Assisted Living
END:VEVENT
BEGIN:VEVENT
DTSTART;TZID=America/Chicago:20250907T130000
DTEND;TZID=America/Chicago:20250907T140000
DTSTAMP:20260420T081816
CREATED:20250809T101314Z
LAST-MODIFIED:20250907T105845Z
UID:10001791-1757250000-1757253600@urbanaplaceseniorliving.com
SUMMARY:31 Card Club
DESCRIPTION:Grab a friend and come to the 2nd floor Lounge to play a game of 31!
URL:https://urbanaplaceseniorliving.com/event-calendar/31-card-club-4/
LOCATION:Lounge-2nd
CATEGORIES:Assisted Living
END:VEVENT
BEGIN:VEVENT
DTSTART;TZID=America/Chicago:20250906T130000
DTEND;TZID=America/Chicago:20250906T140000
DTSTAMP:20260420T081816
CREATED:20250808T101335Z
LAST-MODIFIED:20250906T105823Z
UID:10001774-1757163600-1757167200@urbanaplaceseniorliving.com
SUMMARY:500 Card Club
DESCRIPTION:Calling all 500 card players! Come to the 2nd floor Lounge to play some 500!
URL:https://urbanaplaceseniorliving.com/event-calendar/500-card-club-4/
LOCATION:Lounge-2nd
CATEGORIES:Assisted Living
END:VEVENT
BEGIN:VEVENT
DTSTART;TZID=America/Chicago:20250901T153000
DTEND;TZID=America/Chicago:20250901T163000
DTSTAMP:20260420T081816
CREATED:20250803T101358Z
LAST-MODIFIED:20250901T105822Z
UID:10001717-1756740600-1756744200@urbanaplaceseniorliving.com
SUMMARY:Hand Bell Group
DESCRIPTION:Let’s create music together! The Hand Bell Group is for everyone. You do not need to know how to read music\, just know your colors!
URL:https://urbanaplaceseniorliving.com/event-calendar/hand-bell-group-5/
LOCATION:Lounge-2nd
CATEGORIES:Assisted Living
END:VEVENT
BEGIN:VEVENT
DTSTART;TZID=America/Chicago:20250831T130000
DTEND;TZID=America/Chicago:20250831T140000
DTSTAMP:20260420T081816
CREATED:20250802T101432Z
LAST-MODIFIED:20250831T105819Z
UID:10001707-1756645200-1756648800@urbanaplaceseniorliving.com
SUMMARY:31 Card Club
DESCRIPTION:Grab a friend and come to the 2nd floor Lounge to play a game of 31!
URL:https://urbanaplaceseniorliving.com/event-calendar/31-card-club-3/
LOCATION:Lounge-2nd
CATEGORIES:Assisted Living
END:VEVENT
BEGIN:VEVENT
DTSTART;TZID=America/Chicago:20250831T100000
DTEND;TZID=America/Chicago:20250831T110000
DTSTAMP:20260420T081816
CREATED:20250802T101432Z
LAST-MODIFIED:20250831T105819Z
UID:10001705-1756634400-1756638000@urbanaplaceseniorliving.com
SUMMARY:Diamond Art
DESCRIPTION:Try out this fun new activity! Work as a group or by yourself to create a masterpiece!
URL:https://urbanaplaceseniorliving.com/event-calendar/diamond-art-17/
LOCATION:Lounge-2nd
CATEGORIES:Assisted Living
END:VEVENT
BEGIN:VEVENT
DTSTART;TZID=America/Chicago:20250830T130000
DTEND;TZID=America/Chicago:20250830T140000
DTSTAMP:20260420T081816
CREATED:20250801T101313Z
LAST-MODIFIED:20250830T105813Z
UID:10001617-1756558800-1756562400@urbanaplaceseniorliving.com
SUMMARY:500 Card Club
DESCRIPTION:Calling all 500 card players! Come to the 2nd floor Lounge to play some 500!
URL:https://urbanaplaceseniorliving.com/event-calendar/500-card-club-3/
LOCATION:Lounge-2nd
CATEGORIES:Assisted Living
END:VEVENT
BEGIN:VEVENT
DTSTART;TZID=America/Chicago:20250825T180000
DTEND;TZID=America/Chicago:20250825T190000
DTSTAMP:20260420T081816
CREATED:20250727T101315Z
LAST-MODIFIED:20250825T105818Z
UID:10001546-1756144800-1756148400@urbanaplaceseniorliving.com
SUMMARY:Play Yahtzee
DESCRIPTION:
URL:https://urbanaplaceseniorliving.com/event-calendar/play-yahtzee-3/
LOCATION:Lounge-2nd
CATEGORIES:Assisted Living
END:VEVENT
BEGIN:VEVENT
DTSTART;TZID=America/Chicago:20250825T153000
DTEND;TZID=America/Chicago:20250825T163000
DTSTAMP:20260420T081816
CREATED:20250727T101315Z
LAST-MODIFIED:20250825T105818Z
UID:10001545-1756135800-1756139400@urbanaplaceseniorliving.com
SUMMARY:Hand Bell Group
DESCRIPTION:Let’s create music together! The Hand Bell Group is for everyone. You do not need to know how to read music\, just know your colors!
URL:https://urbanaplaceseniorliving.com/event-calendar/hand-bell-group-4/
LOCATION:Lounge-2nd
CATEGORIES:Assisted Living
END:VEVENT
BEGIN:VEVENT
DTSTART;TZID=America/Chicago:20250824T130000
DTEND;TZID=America/Chicago:20250824T140000
DTSTAMP:20260420T081816
CREATED:20250726T101320Z
LAST-MODIFIED:20250824T105811Z
UID:10001530-1756040400-1756044000@urbanaplaceseniorliving.com
SUMMARY:31 Card Club
DESCRIPTION:Grab a friend and come to the 2nd floor Lounge to play a game of 31!
URL:https://urbanaplaceseniorliving.com/event-calendar/31-card-club-2/
LOCATION:Lounge-2nd
CATEGORIES:Assisted Living
END:VEVENT
BEGIN:VEVENT
DTSTART;TZID=America/Chicago:20250824T100000
DTEND;TZID=America/Chicago:20250824T110000
DTSTAMP:20260420T081816
CREATED:20250726T101320Z
LAST-MODIFIED:20250824T105811Z
UID:10001528-1756029600-1756033200@urbanaplaceseniorliving.com
SUMMARY:Diamond Art
DESCRIPTION:Try out this fun new activity! Work as a group or by yourself to create a masterpiece!
URL:https://urbanaplaceseniorliving.com/event-calendar/diamond-art-16/
LOCATION:Lounge-2nd
CATEGORIES:Assisted Living
END:VEVENT
BEGIN:VEVENT
DTSTART;TZID=America/Chicago:20250823T130000
DTEND;TZID=America/Chicago:20250823T140000
DTSTAMP:20260420T081816
CREATED:20250725T101315Z
LAST-MODIFIED:20250823T105812Z
UID:10001516-1755954000-1755957600@urbanaplaceseniorliving.com
SUMMARY:500 Card Club
DESCRIPTION:Calling all 500 card players! Come to the 2nd floor Lounge to play some 500!
URL:https://urbanaplaceseniorliving.com/event-calendar/500-card-club-2/
LOCATION:Lounge-2nd
CATEGORIES:Assisted Living
END:VEVENT
BEGIN:VEVENT
DTSTART;TZID=America/Chicago:20250818T153000
DTEND;TZID=America/Chicago:20250818T163000
DTSTAMP:20260420T081816
CREATED:20250721T101328Z
LAST-MODIFIED:20250818T105814Z
UID:10001466-1755531000-1755534600@urbanaplaceseniorliving.com
SUMMARY:Hand Bell Group
DESCRIPTION:Let’s create music together! The Hand Bell Group is for everyone. You do not need to know how to read music\, just know your colors!
URL:https://urbanaplaceseniorliving.com/event-calendar/hand-bell-group-3/
LOCATION:Lounge-2nd
CATEGORIES:Assisted Living
END:VEVENT
BEGIN:VEVENT
DTSTART;TZID=America/Chicago:20250817T130000
DTEND;TZID=America/Chicago:20250817T140000
DTSTAMP:20260420T081816
CREATED:20250719T095912Z
LAST-MODIFIED:20250817T105810Z
UID:10001424-1755435600-1755439200@urbanaplaceseniorliving.com
SUMMARY:31 Card Club
DESCRIPTION:Grab a friend and come to the 2nd floor Lounge to play a game of 31!
URL:https://urbanaplaceseniorliving.com/event-calendar/31-card-club/
LOCATION:Lounge-2nd
CATEGORIES:Assisted Living
END:VEVENT
BEGIN:VEVENT
DTSTART;TZID=America/Chicago:20250817T100000
DTEND;TZID=America/Chicago:20250817T110000
DTSTAMP:20260420T081816
CREATED:20250719T095912Z
LAST-MODIFIED:20250817T105810Z
UID:10001423-1755424800-1755428400@urbanaplaceseniorliving.com
SUMMARY:Diamond Art
DESCRIPTION:Try out this fun new activity! Work as a group or by yourself to create a masterpiece!
URL:https://urbanaplaceseniorliving.com/event-calendar/diamond-art-15/
LOCATION:Lounge-2nd
CATEGORIES:Assisted Living
END:VEVENT
BEGIN:VEVENT
DTSTART;TZID=America/Chicago:20250816T130000
DTEND;TZID=America/Chicago:20250816T140000
DTSTAMP:20260420T081816
CREATED:20250718T100010Z
LAST-MODIFIED:20250816T105837Z
UID:10001408-1755349200-1755352800@urbanaplaceseniorliving.com
SUMMARY:500 Card Club
DESCRIPTION:Calling all 500 card players! Come to the 2nd floor Lounge to play some 500!
URL:https://urbanaplaceseniorliving.com/event-calendar/500-card-club/
LOCATION:Lounge-2nd
CATEGORIES:Assisted Living
END:VEVENT
BEGIN:VEVENT
DTSTART;TZID=America/Chicago:20250811T153000
DTEND;TZID=America/Chicago:20250811T163000
DTSTAMP:20260420T081816
CREATED:20250721T101327Z
LAST-MODIFIED:20250811T101310Z
UID:10001458-1754926200-1754929800@urbanaplaceseniorliving.com
SUMMARY:Hand Bell Group
DESCRIPTION:Let’s create music together! The Hand Bell Group is for everyone. You do not need to know how to read music\, just know your colors!
URL:https://urbanaplaceseniorliving.com/event-calendar/hand-bell-group-2/
LOCATION:Lounge-2nd
CATEGORIES:Assisted Living
END:VEVENT
BEGIN:VEVENT
DTSTART;TZID=America/Chicago:20250810T130000
DTEND;TZID=America/Chicago:20250810T140000
DTSTAMP:20260420T081816
CREATED:20250712T094429Z
LAST-MODIFIED:20250810T101314Z
UID:10001317-1754830800-1754834400@urbanaplaceseniorliving.com
SUMMARY:31 Card Club
DESCRIPTION:Grab a friend and come to the 2nd floor Lounge to play a game of 31!
URL:https://urbanaplaceseniorliving.com/event-calendar/games-in-the-lounge-4/
LOCATION:Lounge-2nd
CATEGORIES:Assisted Living
END:VEVENT
BEGIN:VEVENT
DTSTART;TZID=America/Chicago:20250810T100000
DTEND;TZID=America/Chicago:20250810T110000
DTSTAMP:20260420T081816
CREATED:20250712T094429Z
LAST-MODIFIED:20250810T101314Z
UID:10001316-1754820000-1754823600@urbanaplaceseniorliving.com
SUMMARY:Diamond Art
DESCRIPTION:Try out this fun new activity! Work as a group or by yourself to create a masterpiece!
URL:https://urbanaplaceseniorliving.com/event-calendar/diamond-art-14/
LOCATION:Lounge-2nd
CATEGORIES:Assisted Living
END:VEVENT
BEGIN:VEVENT
DTSTART;TZID=America/Chicago:20250809T130000
DTEND;TZID=America/Chicago:20250809T140000
DTSTAMP:20260420T081816
CREATED:20250711T094415Z
LAST-MODIFIED:20250809T101311Z
UID:10001303-1754744400-1754748000@urbanaplaceseniorliving.com
SUMMARY:500 Card Club
DESCRIPTION:Calling all 500 card players! Come to the 2nd floor Lounge to play some 500!
URL:https://urbanaplaceseniorliving.com/event-calendar/card-club-14/
LOCATION:Lounge-2nd
CATEGORIES:Assisted Living
END:VEVENT
BEGIN:VEVENT
DTSTART;TZID=America/Chicago:20250804T153000
DTEND;TZID=America/Chicago:20250804T163000
DTSTAMP:20260420T081816
CREATED:20250721T101325Z
LAST-MODIFIED:20250804T101317Z
UID:10001452-1754321400-1754325000@urbanaplaceseniorliving.com
SUMMARY:Hand Bell Group
DESCRIPTION:Let’s create music together! The Hand Bell Group is for everyone. You do not need to know how to read music\, just know your colors!
URL:https://urbanaplaceseniorliving.com/event-calendar/hand-bell-group/
LOCATION:Lounge-2nd
CATEGORIES:Assisted Living
END:VEVENT
BEGIN:VEVENT
DTSTART;TZID=America/Chicago:20250803T130000
DTEND;TZID=America/Chicago:20250803T140000
DTSTAMP:20260420T081816
CREATED:20250705T091336Z
LAST-MODIFIED:20250803T101352Z
UID:10001212-1754226000-1754229600@urbanaplaceseniorliving.com
SUMMARY:31 Card Club
DESCRIPTION:Grab a friend and come to the 2nd floor Lounge to play a game of 31!
URL:https://urbanaplaceseniorliving.com/event-calendar/games-in-the-lounge-3/
LOCATION:Lounge-2nd
CATEGORIES:Assisted Living
END:VEVENT
BEGIN:VEVENT
DTSTART;TZID=America/Chicago:20250803T100000
DTEND;TZID=America/Chicago:20250803T110000
DTSTAMP:20260420T081816
CREATED:20250705T091336Z
LAST-MODIFIED:20250803T101352Z
UID:10001211-1754215200-1754218800@urbanaplaceseniorliving.com
SUMMARY:Diamond Art
DESCRIPTION:Try out this fun new activity! Work as a group or by yourself to create a masterpiece!
URL:https://urbanaplaceseniorliving.com/event-calendar/diamond-art-13/
LOCATION:Lounge-2nd
CATEGORIES:Assisted Living
END:VEVENT
BEGIN:VEVENT
DTSTART;TZID=America/Chicago:20250802T130000
DTEND;TZID=America/Chicago:20250802T140000
DTSTAMP:20260420T081816
CREATED:20250704T091320Z
LAST-MODIFIED:20250802T101428Z
UID:10001196-1754139600-1754143200@urbanaplaceseniorliving.com
SUMMARY:500 Card Club
DESCRIPTION:Calling all 500 card players! Come to the 2nd floor Lounge to play some 500!
URL:https://urbanaplaceseniorliving.com/event-calendar/card-club-13/
LOCATION:Lounge-2nd
CATEGORIES:Assisted Living
END:VEVENT
END:VCALENDAR