BEGIN:VCALENDAR
VERSION:2.0
PRODID:-//Urbana Place Senior Living in Brooklyn Park - ECPv6.11.2.1//NONSGML v1.0//EN
CALSCALE:GREGORIAN
METHOD:PUBLISH
X-WR-CALNAME:Urbana Place Senior Living in Brooklyn Park
X-ORIGINAL-URL:https://urbanaplaceseniorliving.com
X-WR-CALDESC:Events for Urbana Place Senior Living in Brooklyn Park
REFRESH-INTERVAL;VALUE=DURATION:PT1H
X-Robots-Tag:noindex
X-PUBLISHED-TTL:PT1H
BEGIN:VTIMEZONE
TZID:America/Chicago
BEGIN:DAYLIGHT
TZOFFSETFROM:-0600
TZOFFSETTO:-0500
TZNAME:CDT
DTSTART:20250309T080000
END:DAYLIGHT
BEGIN:STANDARD
TZOFFSETFROM:-0500
TZOFFSETTO:-0600
TZNAME:CST
DTSTART:20251102T070000
END:STANDARD
END:VTIMEZONE
BEGIN:VEVENT
DTSTART;TZID=America/Chicago:20251215T180000
DTEND;TZID=America/Chicago:20251215T190000
DTSTAMP:20260420T020002
CREATED:20251116T131314Z
LAST-MODIFIED:20251216T002813Z
UID:10003417-1765821600-1765825200@urbanaplaceseniorliving.com
SUMMARY:Play Dominos
DESCRIPTION:
URL:https://urbanaplaceseniorliving.com/event-calendar/play-dominos-25/
LOCATION:Lounge-2nd
CATEGORIES:Assisted Living
END:VEVENT
BEGIN:VEVENT
DTSTART;TZID=America/Chicago:20251214T130000
DTEND;TZID=America/Chicago:20251214T140000
DTSTAMP:20260420T020002
CREATED:20251115T131317Z
LAST-MODIFIED:20251214T002849Z
UID:10003399-1765717200-1765720800@urbanaplaceseniorliving.com
SUMMARY:31 Card Club
DESCRIPTION:Grab a friend and come to the 2nd floor Lounge to play a game of 31!
URL:https://urbanaplaceseniorliving.com/event-calendar/31-card-club-18/
LOCATION:Lounge-2nd
CATEGORIES:Assisted Living
END:VEVENT
BEGIN:VEVENT
DTSTART;TZID=America/Chicago:20251208T180000
DTEND;TZID=America/Chicago:20251208T190000
DTSTAMP:20260420T020002
CREATED:20251109T125816Z
LAST-MODIFIED:20251209T002845Z
UID:10003306-1765216800-1765220400@urbanaplaceseniorliving.com
SUMMARY:Play Dominos
DESCRIPTION:
URL:https://urbanaplaceseniorliving.com/event-calendar/play-dominos-24/
LOCATION:Lounge-2nd
CATEGORIES:Assisted Living
END:VEVENT
BEGIN:VEVENT
DTSTART;TZID=America/Chicago:20251207T130000
DTEND;TZID=America/Chicago:20251207T140000
DTSTAMP:20260420T020002
CREATED:20251108T125819Z
LAST-MODIFIED:20251207T002810Z
UID:10003291-1765112400-1765116000@urbanaplaceseniorliving.com
SUMMARY:31 Card Club
DESCRIPTION:Grab a friend and come to the 2nd floor Lounge to play a game of 31!
URL:https://urbanaplaceseniorliving.com/event-calendar/31-card-club-17/
LOCATION:Lounge-2nd
CATEGORIES:Assisted Living
END:VEVENT
BEGIN:VEVENT
DTSTART;TZID=America/Chicago:20251201T180000
DTEND;TZID=America/Chicago:20251201T190000
DTSTAMP:20260420T020002
CREATED:20251102T125819Z
LAST-MODIFIED:20251202T002813Z
UID:10003204-1764612000-1764615600@urbanaplaceseniorliving.com
SUMMARY:Play Dominos
DESCRIPTION:
URL:https://urbanaplaceseniorliving.com/event-calendar/play-dominos-23/
LOCATION:Lounge-2nd
CATEGORIES:Assisted Living
END:VEVENT
BEGIN:VEVENT
DTSTART;TZID=America/Chicago:20251130T130000
DTEND;TZID=America/Chicago:20251130T140000
DTSTAMP:20260420T020002
CREATED:20251101T125817Z
LAST-MODIFIED:20251130T002829Z
UID:10003197-1764507600-1764511200@urbanaplaceseniorliving.com
SUMMARY:31 Card Club
DESCRIPTION:Grab a friend and come to the 2nd floor Lounge to play a game of 31!
URL:https://urbanaplaceseniorliving.com/event-calendar/31-card-club-16/
LOCATION:Lounge-2nd
CATEGORIES:Assisted Living
END:VEVENT
BEGIN:VEVENT
DTSTART;TZID=America/Chicago:20251129T130000
DTEND;TZID=America/Chicago:20251129T140000
DTSTAMP:20260420T020002
CREATED:20251031T125825Z
LAST-MODIFIED:20251128T125845Z
UID:10003114-1764421200-1764424800@urbanaplaceseniorliving.com
SUMMARY:500 Card Club
DESCRIPTION:Calling all 500 card players! Come to the 2nd floor Lounge to play some 500!
URL:https://urbanaplaceseniorliving.com/event-calendar/500-card-club-16/
LOCATION:Lounge-2nd
CATEGORIES:Assisted Living
END:VEVENT
BEGIN:VEVENT
DTSTART;TZID=America/Chicago:20251124T180000
DTEND;TZID=America/Chicago:20251124T190000
DTSTAMP:20260420T020002
CREATED:20251026T124329Z
LAST-MODIFIED:20251124T144311Z
UID:10003038-1764007200-1764010800@urbanaplaceseniorliving.com
SUMMARY:Play Yahtzee
DESCRIPTION:
URL:https://urbanaplaceseniorliving.com/event-calendar/play-yahtzee-6/
LOCATION:Lounge-2nd
CATEGORIES:Assisted Living
END:VEVENT
BEGIN:VEVENT
DTSTART;TZID=America/Chicago:20251123T130000
DTEND;TZID=America/Chicago:20251123T140000
DTSTAMP:20260420T020002
CREATED:20251025T124331Z
LAST-MODIFIED:20251123T144312Z
UID:10003025-1763902800-1763906400@urbanaplaceseniorliving.com
SUMMARY:31 Card Club
DESCRIPTION:Grab a friend and come to the 2nd floor Lounge to play a game of 31!
URL:https://urbanaplaceseniorliving.com/event-calendar/31-card-club-15/
LOCATION:Lounge-2nd
CATEGORIES:Assisted Living
END:VEVENT
BEGIN:VEVENT
DTSTART;TZID=America/Chicago:20251122T130000
DTEND;TZID=America/Chicago:20251122T140000
DTSTAMP:20260420T020002
CREATED:20251024T124329Z
LAST-MODIFIED:20251122T144315Z
UID:10003012-1763816400-1763820000@urbanaplaceseniorliving.com
SUMMARY:500 Card Club
DESCRIPTION:Calling all 500 card players! Come to the 2nd floor Lounge to play some 500!
URL:https://urbanaplaceseniorliving.com/event-calendar/500-card-club-15/
LOCATION:Lounge-2nd
CATEGORIES:Assisted Living
END:VEVENT
BEGIN:VEVENT
DTSTART;TZID=America/Chicago:20251117T180000
DTEND;TZID=America/Chicago:20251117T190000
DTSTAMP:20260420T020002
CREATED:20251019T121317Z
LAST-MODIFIED:20251117T131313Z
UID:10002954-1763402400-1763406000@urbanaplaceseniorliving.com
SUMMARY:Play Dominos
DESCRIPTION:
URL:https://urbanaplaceseniorliving.com/event-calendar/play-dominos-22/
LOCATION:Lounge-2nd
CATEGORIES:Assisted Living
END:VEVENT
BEGIN:VEVENT
DTSTART;TZID=America/Chicago:20251116T130000
DTEND;TZID=America/Chicago:20251116T140000
DTSTAMP:20260420T020002
CREATED:20251018T121315Z
LAST-MODIFIED:20251116T131311Z
UID:10002940-1763298000-1763301600@urbanaplaceseniorliving.com
SUMMARY:31 Card Club
DESCRIPTION:Grab a friend and come to the 2nd floor Lounge to play a game of 31!
URL:https://urbanaplaceseniorliving.com/event-calendar/31-card-club-14/
LOCATION:Lounge-2nd
CATEGORIES:Assisted Living
END:VEVENT
BEGIN:VEVENT
DTSTART;TZID=America/Chicago:20251115T130000
DTEND;TZID=America/Chicago:20251115T140000
DTSTAMP:20260420T020002
CREATED:20251017T121314Z
LAST-MODIFIED:20251115T131313Z
UID:10002925-1763211600-1763215200@urbanaplaceseniorliving.com
SUMMARY:500 Card Club
DESCRIPTION:Calling all 500 card players! Come to the 2nd floor Lounge to play some 500!
URL:https://urbanaplaceseniorliving.com/event-calendar/500-card-club-14/
LOCATION:Lounge-2nd
CATEGORIES:Assisted Living
END:VEVENT
BEGIN:VEVENT
DTSTART;TZID=America/Chicago:20251110T180000
DTEND;TZID=America/Chicago:20251110T190000
DTSTAMP:20260420T020002
CREATED:20251012T114316Z
LAST-MODIFIED:20251110T125811Z
UID:10002857-1762797600-1762801200@urbanaplaceseniorliving.com
SUMMARY:Play Dominos
DESCRIPTION:
URL:https://urbanaplaceseniorliving.com/event-calendar/play-dominos-21/
LOCATION:Lounge-2nd
CATEGORIES:Assisted Living
END:VEVENT
BEGIN:VEVENT
DTSTART;TZID=America/Chicago:20251109T130000
DTEND;TZID=America/Chicago:20251109T140000
DTSTAMP:20260420T020002
CREATED:20251011T114316Z
LAST-MODIFIED:20251109T125810Z
UID:10002842-1762693200-1762696800@urbanaplaceseniorliving.com
SUMMARY:31 Card Club
DESCRIPTION:Grab a friend and come to the 2nd floor Lounge to play a game of 31!
URL:https://urbanaplaceseniorliving.com/event-calendar/31-card-club-13/
LOCATION:Lounge-2nd
CATEGORIES:Assisted Living
END:VEVENT
BEGIN:VEVENT
DTSTART;TZID=America/Chicago:20251108T130000
DTEND;TZID=America/Chicago:20251108T140000
DTSTAMP:20260420T020002
CREATED:20251010T114340Z
LAST-MODIFIED:20251108T125812Z
UID:10002824-1762606800-1762610400@urbanaplaceseniorliving.com
SUMMARY:500 Card Club
DESCRIPTION:Calling all 500 card players! Come to the 2nd floor Lounge to play some 500!
URL:https://urbanaplaceseniorliving.com/event-calendar/500-card-club-13/
LOCATION:Lounge-2nd
CATEGORIES:Assisted Living
END:VEVENT
BEGIN:VEVENT
DTSTART;TZID=America/Chicago:20251103T180000
DTEND;TZID=America/Chicago:20251103T190000
DTSTAMP:20260420T020002
CREATED:20251005T114333Z
LAST-MODIFIED:20251103T125810Z
UID:10002754-1762192800-1762196400@urbanaplaceseniorliving.com
SUMMARY:Play Dominos
DESCRIPTION:
URL:https://urbanaplaceseniorliving.com/event-calendar/play-dominos-20/
LOCATION:Lounge-2nd
CATEGORIES:Assisted Living
END:VEVENT
BEGIN:VEVENT
DTSTART;TZID=America/Chicago:20251102T130000
DTEND;TZID=America/Chicago:20251102T140000
DTSTAMP:20260420T020002
CREATED:20251004T114342Z
LAST-MODIFIED:20251102T125811Z
UID:10002742-1762088400-1762092000@urbanaplaceseniorliving.com
SUMMARY:31 Card Club
DESCRIPTION:Grab a friend and come to the 2nd floor Lounge to play a game of 31!
URL:https://urbanaplaceseniorliving.com/event-calendar/31-card-club-12/
LOCATION:Lounge-2nd
CATEGORIES:Assisted Living
END:VEVENT
BEGIN:VEVENT
DTSTART;TZID=America/Chicago:20251101T130000
DTEND;TZID=America/Chicago:20251101T140000
DTSTAMP:20260420T020002
CREATED:20251003T114323Z
LAST-MODIFIED:20251101T125811Z
UID:10002734-1762002000-1762005600@urbanaplaceseniorliving.com
SUMMARY:500 Card Club
DESCRIPTION:Calling all 500 card players! Come to the 2nd floor Lounge to play some 500!
URL:https://urbanaplaceseniorliving.com/event-calendar/500-card-club-12/
LOCATION:Lounge-2nd
CATEGORIES:Assisted Living
END:VEVENT
BEGIN:VEVENT
DTSTART;TZID=America/Chicago:20251027T180000
DTEND;TZID=America/Chicago:20251027T190000
DTSTAMP:20260420T020002
CREATED:20250928T114314Z
LAST-MODIFIED:20251027T124310Z
UID:10002590-1761588000-1761591600@urbanaplaceseniorliving.com
SUMMARY:Play Yahtzee
DESCRIPTION:
URL:https://urbanaplaceseniorliving.com/event-calendar/play-yahtzee-5/
LOCATION:Lounge-2nd
CATEGORIES:Assisted Living
END:VEVENT
BEGIN:VEVENT
DTSTART;TZID=America/Chicago:20251026T130000
DTEND;TZID=America/Chicago:20251026T140000
DTSTAMP:20260420T020002
CREATED:20250927T114326Z
LAST-MODIFIED:20251026T124325Z
UID:10002553-1761483600-1761487200@urbanaplaceseniorliving.com
SUMMARY:31 Card Club
DESCRIPTION:Grab a friend and come to the 2nd floor Lounge to play a game of 31!
URL:https://urbanaplaceseniorliving.com/event-calendar/31-card-club-11/
LOCATION:Lounge-2nd
CATEGORIES:Assisted Living
END:VEVENT
BEGIN:VEVENT
DTSTART;TZID=America/Chicago:20251025T130000
DTEND;TZID=America/Chicago:20251025T140000
DTSTAMP:20260420T020002
CREATED:20250926T114316Z
LAST-MODIFIED:20251025T124324Z
UID:10002540-1761397200-1761400800@urbanaplaceseniorliving.com
SUMMARY:500 Card Club
DESCRIPTION:Calling all 500 card players! Come to the 2nd floor Lounge to play some 500!
URL:https://urbanaplaceseniorliving.com/event-calendar/500-card-club-11/
LOCATION:Lounge-2nd
CATEGORIES:Assisted Living
END:VEVENT
BEGIN:VEVENT
DTSTART;TZID=America/Chicago:20251020T180000
DTEND;TZID=America/Chicago:20251020T190000
DTSTAMP:20260420T020002
CREATED:20250921T114339Z
LAST-MODIFIED:20251020T121319Z
UID:10002486-1760983200-1760986800@urbanaplaceseniorliving.com
SUMMARY:Play Dominos
DESCRIPTION:
URL:https://urbanaplaceseniorliving.com/event-calendar/play-dominos-19/
LOCATION:Lounge-2nd
CATEGORIES:Assisted Living
END:VEVENT
BEGIN:VEVENT
DTSTART;TZID=America/Chicago:20251020T153000
DTEND;TZID=America/Chicago:20251020T163000
DTSTAMP:20260420T020002
CREATED:20250921T114339Z
LAST-MODIFIED:20250923T114320Z
UID:10002485-1760974200-1760977800@urbanaplaceseniorliving.com
SUMMARY:Hand Bell Group
DESCRIPTION:Let’s create music together! The Hand Bell Group is for everyone. You do not need to know how to read music\, just know your colors!
URL:https://urbanaplaceseniorliving.com/event-calendar/hand-bell-group-12/
LOCATION:Lounge-2nd
CATEGORIES:Assisted Living
END:VEVENT
BEGIN:VEVENT
DTSTART;TZID=America/Chicago:20251019T130000
DTEND;TZID=America/Chicago:20251019T140000
DTSTAMP:20260420T020002
CREATED:20250920T114316Z
LAST-MODIFIED:20251019T121311Z
UID:10002470-1760878800-1760882400@urbanaplaceseniorliving.com
SUMMARY:31 Card Club
DESCRIPTION:Grab a friend and come to the 2nd floor Lounge to play a game of 31!
URL:https://urbanaplaceseniorliving.com/event-calendar/31-card-club-10/
LOCATION:Lounge-2nd
CATEGORIES:Assisted Living
END:VEVENT
BEGIN:VEVENT
DTSTART;TZID=America/Chicago:20251018T130000
DTEND;TZID=America/Chicago:20251018T140000
DTSTAMP:20260420T020002
CREATED:20250919T114319Z
LAST-MODIFIED:20251018T121310Z
UID:10002457-1760792400-1760796000@urbanaplaceseniorliving.com
SUMMARY:500 Card Club
DESCRIPTION:Calling all 500 card players! Come to the 2nd floor Lounge to play some 500!
URL:https://urbanaplaceseniorliving.com/event-calendar/500-card-club-10/
LOCATION:Lounge-2nd
CATEGORIES:Assisted Living
END:VEVENT
BEGIN:VEVENT
DTSTART;TZID=America/Chicago:20251013T180000
DTEND;TZID=America/Chicago:20251013T190000
DTSTAMP:20260420T020002
CREATED:20250914T111323Z
LAST-MODIFIED:20251013T115810Z
UID:10002400-1760378400-1760382000@urbanaplaceseniorliving.com
SUMMARY:Play Dominos
DESCRIPTION:
URL:https://urbanaplaceseniorliving.com/event-calendar/play-dominos-18/
LOCATION:Lounge-2nd
CATEGORIES:Assisted Living
END:VEVENT
BEGIN:VEVENT
DTSTART;TZID=America/Chicago:20251013T153000
DTEND;TZID=America/Chicago:20251013T163000
DTSTAMP:20260420T020002
CREATED:20250914T111323Z
LAST-MODIFIED:20250923T114318Z
UID:10002399-1760369400-1760373000@urbanaplaceseniorliving.com
SUMMARY:Hand Bell Group
DESCRIPTION:Let’s create music together! The Hand Bell Group is for everyone. You do not need to know how to read music\, just know your colors!
URL:https://urbanaplaceseniorliving.com/event-calendar/hand-bell-group-11/
LOCATION:Lounge-2nd
CATEGORIES:Assisted Living
END:VEVENT
BEGIN:VEVENT
DTSTART;TZID=America/Chicago:20251012T130000
DTEND;TZID=America/Chicago:20251012T140000
DTSTAMP:20260420T020002
CREATED:20250913T105825Z
LAST-MODIFIED:20251012T114311Z
UID:10002384-1760274000-1760277600@urbanaplaceseniorliving.com
SUMMARY:31 Card Club
DESCRIPTION:Grab a friend and come to the 2nd floor Lounge to play a game of 31!
URL:https://urbanaplaceseniorliving.com/event-calendar/31-card-club-9/
LOCATION:Lounge-2nd
CATEGORIES:Assisted Living
END:VEVENT
BEGIN:VEVENT
DTSTART;TZID=America/Chicago:20251011T130000
DTEND;TZID=America/Chicago:20251011T140000
DTSTAMP:20260420T020002
CREATED:20250912T105813Z
LAST-MODIFIED:20251011T114311Z
UID:10002364-1760187600-1760191200@urbanaplaceseniorliving.com
SUMMARY:500 Card Club
DESCRIPTION:Calling all 500 card players! Come to the 2nd floor Lounge to play some 500!
URL:https://urbanaplaceseniorliving.com/event-calendar/500-card-club-9/
LOCATION:Lounge-2nd
CATEGORIES:Assisted Living
END:VEVENT
END:VCALENDAR