BEGIN:VCALENDAR
VERSION:2.0
PRODID:-//Urbana Place Senior Living in Brooklyn Park - ECPv6.11.2.1//NONSGML v1.0//EN
CALSCALE:GREGORIAN
METHOD:PUBLISH
X-WR-CALNAME:Urbana Place Senior Living in Brooklyn Park
X-ORIGINAL-URL:https://urbanaplaceseniorliving.com
X-WR-CALDESC:Events for Urbana Place Senior Living in Brooklyn Park
REFRESH-INTERVAL;VALUE=DURATION:PT1H
X-Robots-Tag:noindex
X-PUBLISHED-TTL:PT1H
BEGIN:VTIMEZONE
TZID:America/Chicago
BEGIN:DAYLIGHT
TZOFFSETFROM:-0600
TZOFFSETTO:-0500
TZNAME:CDT
DTSTART:20250309T080000
END:DAYLIGHT
BEGIN:STANDARD
TZOFFSETFROM:-0500
TZOFFSETTO:-0600
TZNAME:CST
DTSTART:20251102T070000
END:STANDARD
BEGIN:DAYLIGHT
TZOFFSETFROM:-0600
TZOFFSETTO:-0500
TZNAME:CDT
DTSTART:20260308T080000
END:DAYLIGHT
BEGIN:STANDARD
TZOFFSETFROM:-0500
TZOFFSETTO:-0600
TZNAME:CST
DTSTART:20261101T070000
END:STANDARD
END:VTIMEZONE
BEGIN:VEVENT
DTSTART;TZID=America/Chicago:20260316T180000
DTEND;TZID=America/Chicago:20260316T190000
DTSTAMP:20260419T211913
CREATED:20260215T032846Z
LAST-MODIFIED:20260316T062913Z
UID:10004824-1773684000-1773687600@urbanaplaceseniorliving.com
SUMMARY:Play Dominos
DESCRIPTION:
URL:https://urbanaplaceseniorliving.com/event-calendar/play-dominos-35/
LOCATION:Lounge-2nd
CATEGORIES:Assisted Living
END:VEVENT
BEGIN:VEVENT
DTSTART;TZID=America/Chicago:20260315T130000
DTEND;TZID=America/Chicago:20260315T140000
DTSTAMP:20260419T211913
CREATED:20260214T032919Z
LAST-MODIFIED:20260315T062814Z
UID:10004807-1773579600-1773583200@urbanaplaceseniorliving.com
SUMMARY:31 Card Club
DESCRIPTION:Grab a friend and come to the 2nd floor Lounge to play a game of 31!
URL:https://urbanaplaceseniorliving.com/event-calendar/31-card-club-31/
LOCATION:Lounge-2nd
CATEGORIES:Assisted Living
END:VEVENT
BEGIN:VEVENT
DTSTART;TZID=America/Chicago:20260309T180000
DTEND;TZID=America/Chicago:20260309T190000
DTSTAMP:20260419T211913
CREATED:20260208T025821Z
LAST-MODIFIED:20260309T061319Z
UID:10004728-1773079200-1773082800@urbanaplaceseniorliving.com
SUMMARY:Play Dominos
DESCRIPTION:
URL:https://urbanaplaceseniorliving.com/event-calendar/play-dominos-34/
LOCATION:Lounge-2nd
CATEGORIES:Assisted Living
END:VEVENT
BEGIN:VEVENT
DTSTART;TZID=America/Chicago:20260308T130000
DTEND;TZID=America/Chicago:20260308T140000
DTSTAMP:20260419T211913
CREATED:20260207T024421Z
LAST-MODIFIED:20260308T055822Z
UID:10004713-1772974800-1772978400@urbanaplaceseniorliving.com
SUMMARY:31 Card Club
DESCRIPTION:Grab a friend and come to the 2nd floor Lounge to play a game of 31!
URL:https://urbanaplaceseniorliving.com/event-calendar/31-card-club-30/
LOCATION:Lounge-2nd
CATEGORIES:Assisted Living
END:VEVENT
BEGIN:VEVENT
DTSTART;TZID=America/Chicago:20260302T180000
DTEND;TZID=America/Chicago:20260302T190000
DTSTAMP:20260419T211913
CREATED:20260201T022816Z
LAST-MODIFIED:20260302T045816Z
UID:10004623-1772474400-1772478000@urbanaplaceseniorliving.com
SUMMARY:Play Dominos
DESCRIPTION:
URL:https://urbanaplaceseniorliving.com/event-calendar/play-dominos-33/
LOCATION:Lounge-2nd
CATEGORIES:Assisted Living
END:VEVENT
BEGIN:VEVENT
DTSTART;TZID=America/Chicago:20260301T130000
DTEND;TZID=America/Chicago:20260301T140000
DTSTAMP:20260419T211913
CREATED:20260131T022817Z
LAST-MODIFIED:20260301T045811Z
UID:10004605-1772370000-1772373600@urbanaplaceseniorliving.com
SUMMARY:31 Card Club
DESCRIPTION:Grab a friend and come to the 2nd floor Lounge to play a game of 31!
URL:https://urbanaplaceseniorliving.com/event-calendar/31-card-club-29/
LOCATION:Lounge-2nd
CATEGORIES:Assisted Living
END:VEVENT
BEGIN:VEVENT
DTSTART;TZID=America/Chicago:20260224T180000
DTEND;TZID=America/Chicago:20260224T190000
DTSTAMP:20260419T211913
CREATED:20260129T021342Z
LAST-MODIFIED:20260224T044311Z
UID:10004565-1771956000-1771959600@urbanaplaceseniorliving.com
SUMMARY:Chat & Color
DESCRIPTION:Come to the 2nd floor Lounge after dinner to relax\, chat and color. Supplies will be provided
URL:https://urbanaplaceseniorliving.com/event-calendar/chat-color-4/
LOCATION:Lounge-2nd
CATEGORIES:Assisted Living
END:VEVENT
BEGIN:VEVENT
DTSTART;TZID=America/Chicago:20260223T180000
DTEND;TZID=America/Chicago:20260223T190000
DTSTAMP:20260419T211913
CREATED:20260125T015818Z
LAST-MODIFIED:20260223T044317Z
UID:10004505-1771869600-1771873200@urbanaplaceseniorliving.com
SUMMARY:Play Yahtzee
DESCRIPTION:
URL:https://urbanaplaceseniorliving.com/event-calendar/play-yahtzee-9/
LOCATION:Lounge-2nd
CATEGORIES:Assisted Living
END:VEVENT
BEGIN:VEVENT
DTSTART;TZID=America/Chicago:20260222T130000
DTEND;TZID=America/Chicago:20260222T140000
DTSTAMP:20260419T211913
CREATED:20260124T015817Z
LAST-MODIFIED:20260222T044330Z
UID:10004448-1771765200-1771768800@urbanaplaceseniorliving.com
SUMMARY:31 Card Club
DESCRIPTION:Grab a friend and come to the 2nd floor Lounge to play a game of 31!
URL:https://urbanaplaceseniorliving.com/event-calendar/31-card-club-28/
LOCATION:Lounge-2nd
CATEGORIES:Assisted Living
END:VEVENT
BEGIN:VEVENT
DTSTART;TZID=America/Chicago:20260217T180000
DTEND;TZID=America/Chicago:20260217T190000
DTSTAMP:20260419T211913
CREATED:20260129T021332Z
LAST-MODIFIED:20260217T034312Z
UID:10004564-1771351200-1771354800@urbanaplaceseniorliving.com
SUMMARY:Chat & Color
DESCRIPTION:Come to the 2nd floor Lounge after dinner to relax\, chat and color. Supplies will be provided
URL:https://urbanaplaceseniorliving.com/event-calendar/chat-color-3/
LOCATION:Lounge-2nd
CATEGORIES:Assisted Living
END:VEVENT
BEGIN:VEVENT
DTSTART;TZID=America/Chicago:20260216T180000
DTEND;TZID=America/Chicago:20260216T190000
DTSTAMP:20260419T211913
CREATED:20260118T014319Z
LAST-MODIFIED:20260216T034315Z
UID:10004382-1771264800-1771268400@urbanaplaceseniorliving.com
SUMMARY:Play Dominos
DESCRIPTION:
URL:https://urbanaplaceseniorliving.com/event-calendar/play-dominos-32/
LOCATION:Lounge-2nd
CATEGORIES:Assisted Living
END:VEVENT
BEGIN:VEVENT
DTSTART;TZID=America/Chicago:20260215T130000
DTEND;TZID=America/Chicago:20260215T140000
DTSTAMP:20260419T211913
CREATED:20260117T014317Z
LAST-MODIFIED:20260215T032815Z
UID:10004365-1771160400-1771164000@urbanaplaceseniorliving.com
SUMMARY:31 Card Club
DESCRIPTION:Grab a friend and come to the 2nd floor Lounge to play a game of 31!
URL:https://urbanaplaceseniorliving.com/event-calendar/31-card-club-27/
LOCATION:Lounge-2nd
CATEGORIES:Assisted Living
END:VEVENT
BEGIN:VEVENT
DTSTART;TZID=America/Chicago:20260210T180000
DTEND;TZID=America/Chicago:20260210T190000
DTSTAMP:20260419T211913
CREATED:20260129T021324Z
LAST-MODIFIED:20260210T031313Z
UID:10004563-1770746400-1770750000@urbanaplaceseniorliving.com
SUMMARY:Chat & Color
DESCRIPTION:Come to the 2nd floor Lounge after dinner to relax\, chat and color. Supplies will be provided
URL:https://urbanaplaceseniorliving.com/event-calendar/chat-color-2/
LOCATION:Lounge-2nd
CATEGORIES:Assisted Living
END:VEVENT
BEGIN:VEVENT
DTSTART;TZID=America/Chicago:20260209T180000
DTEND;TZID=America/Chicago:20260209T190000
DTSTAMP:20260419T211913
CREATED:20260111T012822Z
LAST-MODIFIED:20260209T031313Z
UID:10004298-1770660000-1770663600@urbanaplaceseniorliving.com
SUMMARY:Play Dominos
DESCRIPTION:
URL:https://urbanaplaceseniorliving.com/event-calendar/play-dominos-31/
LOCATION:Lounge-2nd
CATEGORIES:Assisted Living
END:VEVENT
BEGIN:VEVENT
DTSTART;TZID=America/Chicago:20260208T130000
DTEND;TZID=America/Chicago:20260208T140000
DTSTAMP:20260419T211913
CREATED:20260110T012821Z
LAST-MODIFIED:20260208T025811Z
UID:10004276-1770555600-1770559200@urbanaplaceseniorliving.com
SUMMARY:31 Card Club
DESCRIPTION:Grab a friend and come to the 2nd floor Lounge to play a game of 31!
URL:https://urbanaplaceseniorliving.com/event-calendar/31-card-club-26/
LOCATION:Lounge-2nd
CATEGORIES:Assisted Living
END:VEVENT
BEGIN:VEVENT
DTSTART;TZID=America/Chicago:20260203T180000
DTEND;TZID=America/Chicago:20260203T190000
DTSTAMP:20260419T211913
CREATED:20260129T021316Z
LAST-MODIFIED:20260203T022811Z
UID:10004562-1770141600-1770145200@urbanaplaceseniorliving.com
SUMMARY:Chat & Color
DESCRIPTION:Come to the 2nd floor Lounge after dinner to relax\, chat and color. Supplies will be provided
URL:https://urbanaplaceseniorliving.com/event-calendar/chat-color/
LOCATION:Lounge-2nd
CATEGORIES:Assisted Living
END:VEVENT
BEGIN:VEVENT
DTSTART;TZID=America/Chicago:20260202T180000
DTEND;TZID=America/Chicago:20260202T190000
DTSTAMP:20260419T211913
CREATED:20260104T005816Z
LAST-MODIFIED:20260202T022810Z
UID:10004199-1770055200-1770058800@urbanaplaceseniorliving.com
SUMMARY:Play Dominos
DESCRIPTION:
URL:https://urbanaplaceseniorliving.com/event-calendar/play-dominos-30/
LOCATION:Lounge-2nd
CATEGORIES:Assisted Living
END:VEVENT
BEGIN:VEVENT
DTSTART;TZID=America/Chicago:20260201T130000
DTEND;TZID=America/Chicago:20260201T140000
DTSTAMP:20260419T211913
CREATED:20260103T005835Z
LAST-MODIFIED:20260201T022809Z
UID:10004180-1769950800-1769954400@urbanaplaceseniorliving.com
SUMMARY:31 Card Club
DESCRIPTION:Grab a friend and come to the 2nd floor Lounge to play a game of 31!
URL:https://urbanaplaceseniorliving.com/event-calendar/31-card-club-25/
LOCATION:Lounge-2nd
CATEGORIES:Assisted Living
END:VEVENT
BEGIN:VEVENT
DTSTART;TZID=America/Chicago:20260126T180000
DTEND;TZID=America/Chicago:20260126T190000
DTSTAMP:20260419T211913
CREATED:20251228T005817Z
LAST-MODIFIED:20260126T015820Z
UID:10004066-1769450400-1769454000@urbanaplaceseniorliving.com
SUMMARY:Play Yahtzee
DESCRIPTION:
URL:https://urbanaplaceseniorliving.com/event-calendar/play-yahtzee-8/
LOCATION:Lounge-2nd
CATEGORIES:Assisted Living
END:VEVENT
BEGIN:VEVENT
DTSTART;TZID=America/Chicago:20260125T130000
DTEND;TZID=America/Chicago:20260125T140000
DTSTAMP:20260419T211913
CREATED:20251227T005841Z
LAST-MODIFIED:20260125T015810Z
UID:10004050-1769346000-1769349600@urbanaplaceseniorliving.com
SUMMARY:31 Card Club
DESCRIPTION:Grab a friend and come to the 2nd floor Lounge to play a game of 31!
URL:https://urbanaplaceseniorliving.com/event-calendar/31-card-club-24/
LOCATION:Lounge-2nd
CATEGORIES:Assisted Living
END:VEVENT
BEGIN:VEVENT
DTSTART;TZID=America/Chicago:20260119T180000
DTEND;TZID=America/Chicago:20260119T190000
DTSTAMP:20260419T211913
CREATED:20251221T004316Z
LAST-MODIFIED:20260119T014405Z
UID:10003831-1768845600-1768849200@urbanaplaceseniorliving.com
SUMMARY:Play Dominos
DESCRIPTION:
URL:https://urbanaplaceseniorliving.com/event-calendar/play-dominos-29/
LOCATION:Lounge-2nd
CATEGORIES:Assisted Living
END:VEVENT
BEGIN:VEVENT
DTSTART;TZID=America/Chicago:20260118T130000
DTEND;TZID=America/Chicago:20260118T140000
DTSTAMP:20260419T211913
CREATED:20251220T004315Z
LAST-MODIFIED:20260118T014312Z
UID:10003820-1768741200-1768744800@urbanaplaceseniorliving.com
SUMMARY:31 Card Club
DESCRIPTION:Grab a friend and come to the 2nd floor Lounge to play a game of 31!
URL:https://urbanaplaceseniorliving.com/event-calendar/31-card-club-23/
LOCATION:Lounge-2nd
CATEGORIES:Assisted Living
END:VEVENT
BEGIN:VEVENT
DTSTART;TZID=America/Chicago:20260112T180000
DTEND;TZID=America/Chicago:20260112T190000
DTSTAMP:20260419T211913
CREATED:20251214T002854Z
LAST-MODIFIED:20260112T012812Z
UID:10003794-1768240800-1768244400@urbanaplaceseniorliving.com
SUMMARY:Play Dominos
DESCRIPTION:
URL:https://urbanaplaceseniorliving.com/event-calendar/play-dominos-28/
LOCATION:Lounge-2nd
CATEGORIES:Assisted Living
END:VEVENT
BEGIN:VEVENT
DTSTART;TZID=America/Chicago:20260111T130000
DTEND;TZID=America/Chicago:20260111T140000
DTSTAMP:20260419T211913
CREATED:20251213T002820Z
LAST-MODIFIED:20260111T012816Z
UID:10003788-1768136400-1768140000@urbanaplaceseniorliving.com
SUMMARY:31 Card Club
DESCRIPTION:Grab a friend and come to the 2nd floor Lounge to play a game of 31!
URL:https://urbanaplaceseniorliving.com/event-calendar/31-card-club-22/
LOCATION:Lounge-2nd
CATEGORIES:Assisted Living
END:VEVENT
BEGIN:VEVENT
DTSTART;TZID=America/Chicago:20260105T180000
DTEND;TZID=America/Chicago:20260105T190000
DTSTAMP:20260419T211913
CREATED:20251207T002816Z
LAST-MODIFIED:20260106T005813Z
UID:10003760-1767636000-1767639600@urbanaplaceseniorliving.com
SUMMARY:Play Dominos
DESCRIPTION:
URL:https://urbanaplaceseniorliving.com/event-calendar/play-dominos-27/
LOCATION:Lounge-2nd
CATEGORIES:Assisted Living
END:VEVENT
BEGIN:VEVENT
DTSTART;TZID=America/Chicago:20260104T130000
DTEND;TZID=America/Chicago:20260104T140000
DTSTAMP:20260419T211913
CREATED:20251206T002815Z
LAST-MODIFIED:20260104T005811Z
UID:10003754-1767531600-1767535200@urbanaplaceseniorliving.com
SUMMARY:31 Card Club
DESCRIPTION:Grab a friend and come to the 2nd floor Lounge to play a game of 31!
URL:https://urbanaplaceseniorliving.com/event-calendar/31-card-club-21/
LOCATION:Lounge-2nd
CATEGORIES:Assisted Living
END:VEVENT
BEGIN:VEVENT
DTSTART;TZID=America/Chicago:20251229T180000
DTEND;TZID=America/Chicago:20251229T190000
DTSTAMP:20260419T211913
CREATED:20251130T001323Z
LAST-MODIFIED:20251230T005819Z
UID:10003641-1767031200-1767034800@urbanaplaceseniorliving.com
SUMMARY:Play Yahtzee
DESCRIPTION:
URL:https://urbanaplaceseniorliving.com/event-calendar/play-yahtzee-7/
LOCATION:Lounge-2nd
CATEGORIES:Assisted Living
END:VEVENT
BEGIN:VEVENT
DTSTART;TZID=America/Chicago:20251228T130000
DTEND;TZID=America/Chicago:20251228T140000
DTSTAMP:20260419T211913
CREATED:20251130T001323Z
LAST-MODIFIED:20251228T005811Z
UID:10003636-1766926800-1766930400@urbanaplaceseniorliving.com
SUMMARY:31 Card Club
DESCRIPTION:Grab a friend and come to the 2nd floor Lounge to play a game of 31!
URL:https://urbanaplaceseniorliving.com/event-calendar/31-card-club-20/
LOCATION:Lounge-2nd
CATEGORIES:Assisted Living
END:VEVENT
BEGIN:VEVENT
DTSTART;TZID=America/Chicago:20251222T180000
DTEND;TZID=America/Chicago:20251222T190000
DTSTAMP:20260419T211913
CREATED:20251123T144316Z
LAST-MODIFIED:20251223T005815Z
UID:10003497-1766426400-1766430000@urbanaplaceseniorliving.com
SUMMARY:Play Dominos
DESCRIPTION:
URL:https://urbanaplaceseniorliving.com/event-calendar/play-dominos-26/
LOCATION:Lounge-2nd
CATEGORIES:Assisted Living
END:VEVENT
BEGIN:VEVENT
DTSTART;TZID=America/Chicago:20251221T130000
DTEND;TZID=America/Chicago:20251221T140000
DTSTAMP:20260419T211913
CREATED:20251122T144320Z
LAST-MODIFIED:20251221T004311Z
UID:10003484-1766322000-1766325600@urbanaplaceseniorliving.com
SUMMARY:31 Card Club
DESCRIPTION:Grab a friend and come to the 2nd floor Lounge to play a game of 31!
URL:https://urbanaplaceseniorliving.com/event-calendar/31-card-club-19/
LOCATION:Lounge-2nd
CATEGORIES:Assisted Living
END:VEVENT
END:VCALENDAR