BEGIN:VCALENDAR
VERSION:2.0
PRODID:-//Urbana Place Senior Living in Brooklyn Park - ECPv6.11.2.1//NONSGML v1.0//EN
CALSCALE:GREGORIAN
METHOD:PUBLISH
X-WR-CALNAME:Urbana Place Senior Living in Brooklyn Park
X-ORIGINAL-URL:https://urbanaplaceseniorliving.com
X-WR-CALDESC:Events for Urbana Place Senior Living in Brooklyn Park
REFRESH-INTERVAL;VALUE=DURATION:PT1H
X-Robots-Tag:noindex
X-PUBLISHED-TTL:PT1H
BEGIN:VTIMEZONE
TZID:America/Chicago
BEGIN:DAYLIGHT
TZOFFSETFROM:-0600
TZOFFSETTO:-0500
TZNAME:CDT
DTSTART:20250309T080000
END:DAYLIGHT
BEGIN:STANDARD
TZOFFSETFROM:-0500
TZOFFSETTO:-0600
TZNAME:CST
DTSTART:20251102T070000
END:STANDARD
END:VTIMEZONE
BEGIN:VEVENT
DTSTART;TZID=America/Chicago:20251012T153000
DTEND;TZID=America/Chicago:20251012T163000
DTSTAMP:20260420T223701
CREATED:20250913T105825Z
LAST-MODIFIED:20251012T114311Z
UID:10002385-1760283000-1760286600@urbanaplaceseniorliving.com
SUMMARY:Sunday Stroll
DESCRIPTION:Grab a friend or neighbor and take a walk
URL:https://urbanaplaceseniorliving.com/event-calendar/sunday-stroll-22/
LOCATION:Front Lobby-1st
CATEGORIES:Assisted Living
END:VEVENT
BEGIN:VEVENT
DTSTART;TZID=America/Chicago:20251009T104500
DTEND;TZID=America/Chicago:20251009T133000
DTSTAMP:20260420T223701
CREATED:20250919T114317Z
LAST-MODIFIED:20251009T114323Z
UID:10002453-1760006700-1760016600@urbanaplaceseniorliving.com
SUMMARY:Outing to the 50's Grill (RSVP req)
DESCRIPTION:Sign up for this lunch outing in the 2nd floor Wellness Center!
URL:https://urbanaplaceseniorliving.com/event-calendar/outing-to-the-50s-grill-rsvp-req/
LOCATION:Front Lobby-1st
CATEGORIES:Assisted Living
END:VEVENT
BEGIN:VEVENT
DTSTART;TZID=America/Chicago:20251005T153000
DTEND;TZID=America/Chicago:20251005T163000
DTSTAMP:20260420T223701
CREATED:20250906T105827Z
LAST-MODIFIED:20251005T114329Z
UID:10002271-1759678200-1759681800@urbanaplaceseniorliving.com
SUMMARY:Sunday Stroll
DESCRIPTION:Grab a friend or neighbor and take a walk
URL:https://urbanaplaceseniorliving.com/event-calendar/sunday-stroll-21/
LOCATION:Front Lobby-1st
CATEGORIES:Assisted Living
END:VEVENT
BEGIN:VEVENT
DTSTART;TZID=America/Chicago:20250930T120000
DTEND;TZID=America/Chicago:20250930T160000
DTSTAMP:20260420T223701
CREATED:20250901T105825Z
LAST-MODIFIED:20250930T114311Z
UID:10002147-1759233600-1759248000@urbanaplaceseniorliving.com
SUMMARY:Outing to MN Largest Candy Store(RSVP req)
DESCRIPTION:Sign up for this scenic outing to the MN Largest Candy Store in Jordan!
URL:https://urbanaplaceseniorliving.com/event-calendar/outing-to-mn-largest-candy-storersvp-req/
LOCATION:Front Lobby-1st
CATEGORIES:Assisted Living
END:VEVENT
END:VCALENDAR