BEGIN:VCALENDAR
VERSION:2.0
PRODID:-//Urbana Place Senior Living in Brooklyn Park - ECPv6.11.2.1//NONSGML v1.0//EN
CALSCALE:GREGORIAN
METHOD:PUBLISH
X-WR-CALNAME:Urbana Place Senior Living in Brooklyn Park
X-ORIGINAL-URL:https://urbanaplaceseniorliving.com
X-WR-CALDESC:Events for Urbana Place Senior Living in Brooklyn Park
REFRESH-INTERVAL;VALUE=DURATION:PT1H
X-Robots-Tag:noindex
X-PUBLISHED-TTL:PT1H
BEGIN:VTIMEZONE
TZID:America/Chicago
BEGIN:DAYLIGHT
TZOFFSETFROM:-0600
TZOFFSETTO:-0500
TZNAME:CDT
DTSTART:20250309T080000
END:DAYLIGHT
BEGIN:STANDARD
TZOFFSETFROM:-0500
TZOFFSETTO:-0600
TZNAME:CST
DTSTART:20251102T070000
END:STANDARD
BEGIN:DAYLIGHT
TZOFFSETFROM:-0600
TZOFFSETTO:-0500
TZNAME:CDT
DTSTART:20260308T080000
END:DAYLIGHT
BEGIN:STANDARD
TZOFFSETFROM:-0500
TZOFFSETTO:-0600
TZNAME:CST
DTSTART:20261101T070000
END:STANDARD
END:VTIMEZONE
BEGIN:VEVENT
DTSTART;TZID=America/Chicago:20260301T153000
DTEND;TZID=America/Chicago:20260301T163000
DTSTAMP:20260420T184019
CREATED:20260131T022818Z
LAST-MODIFIED:20260301T045812Z
UID:10004607-1772379000-1772382600@urbanaplaceseniorliving.com
SUMMARY:Sunday Stroll
DESCRIPTION:Grab a friend or neighbor and take a walk
URL:https://urbanaplaceseniorliving.com/event-calendar/sunday-stroll-42/
LOCATION:Front Lobby-1st
CATEGORIES:Assisted Living
END:VEVENT
BEGIN:VEVENT
DTSTART;TZID=America/Chicago:20260226T143000
DTEND;TZID=America/Chicago:20260226T153000
DTSTAMP:20260420T184019
CREATED:20260128T015830Z
LAST-MODIFIED:20260226T044311Z
UID:10004549-1772116200-1772119800@urbanaplaceseniorliving.com
SUMMARY:Outing to Willy McCoys(RSVP req)
DESCRIPTION:Sign up for the Community Outing in the 2nd floor Wellness Center
URL:https://urbanaplaceseniorliving.com/event-calendar/outing-to-willy-mccoysrsvp-req/
LOCATION:Front Lobby-1st
CATEGORIES:Assisted Living
END:VEVENT
BEGIN:VEVENT
DTSTART;TZID=America/Chicago:20260222T153000
DTEND;TZID=America/Chicago:20260222T163000
DTSTAMP:20260420T184019
CREATED:20260124T015817Z
LAST-MODIFIED:20260222T044330Z
UID:10004450-1771774200-1771777800@urbanaplaceseniorliving.com
SUMMARY:Sunday Stroll
DESCRIPTION:Grab a friend or neighbor and take a walk
URL:https://urbanaplaceseniorliving.com/event-calendar/sunday-stroll-41/
LOCATION:Front Lobby-1st
CATEGORIES:Assisted Living
END:VEVENT
BEGIN:VEVENT
DTSTART;TZID=America/Chicago:20260215T153000
DTEND;TZID=America/Chicago:20260215T163000
DTSTAMP:20260420T184019
CREATED:20260117T014317Z
LAST-MODIFIED:20260215T032815Z
UID:10004367-1771169400-1771173000@urbanaplaceseniorliving.com
SUMMARY:Sunday Stroll
DESCRIPTION:Grab a friend or neighbor and take a walk
URL:https://urbanaplaceseniorliving.com/event-calendar/sunday-stroll-40/
LOCATION:Front Lobby-1st
CATEGORIES:Assisted Living
END:VEVENT
BEGIN:VEVENT
DTSTART;TZID=America/Chicago:20260211T103000
DTEND;TZID=America/Chicago:20260211T123000
DTSTAMP:20260420T184019
CREATED:20260113T012831Z
LAST-MODIFIED:20260211T031312Z
UID:10004317-1770805800-1770813000@urbanaplaceseniorliving.com
SUMMARY:Outing to Truffles & Tortes Dessert Cafe(RSVP req)
DESCRIPTION:RSVP for this outing in the 2nd floor Wellness Center
URL:https://urbanaplaceseniorliving.com/event-calendar/outing-to-truffles-tortes/
LOCATION:Front Lobby-1st
CATEGORIES:Assisted Living
END:VEVENT
BEGIN:VEVENT
DTSTART;TZID=America/Chicago:20260208T153000
DTEND;TZID=America/Chicago:20260208T163000
DTSTAMP:20260420T184019
CREATED:20260110T012821Z
LAST-MODIFIED:20260208T025812Z
UID:10004278-1770564600-1770568200@urbanaplaceseniorliving.com
SUMMARY:Sunday Stroll
DESCRIPTION:Grab a friend or neighbor and take a walk
URL:https://urbanaplaceseniorliving.com/event-calendar/sunday-stroll-39/
LOCATION:Front Lobby-1st
CATEGORIES:Assisted Living
END:VEVENT
BEGIN:VEVENT
DTSTART;TZID=America/Chicago:20260201T153000
DTEND;TZID=America/Chicago:20260201T163000
DTSTAMP:20260420T184019
CREATED:20260103T005835Z
LAST-MODIFIED:20260201T022809Z
UID:10004183-1769959800-1769963400@urbanaplaceseniorliving.com
SUMMARY:Sunday Stroll
DESCRIPTION:Grab a friend or neighbor and take a walk
URL:https://urbanaplaceseniorliving.com/event-calendar/sunday-stroll-38/
LOCATION:Front Lobby-1st
CATEGORIES:Assisted Living
END:VEVENT
BEGIN:VEVENT
DTSTART;TZID=America/Chicago:20260127T150000
DTEND;TZID=America/Chicago:20260127T160000
DTSTAMP:20260420T184019
CREATED:20251229T005816Z
LAST-MODIFIED:20260127T015838Z
UID:10004074-1769526000-1769529600@urbanaplaceseniorliving.com
SUMMARY:Outing to Lindey's Prime Steak House(RSVP req)
DESCRIPTION:Sign up for this community outing to Lindey’s Prime Steak House in Arden Hills in the 2nd floor Wellness Center
URL:https://urbanaplaceseniorliving.com/event-calendar/outing-to-lindeys-prime-steak-housersvp-req/
LOCATION:Front Lobby-1st
CATEGORIES:Assisted Living
END:VEVENT
BEGIN:VEVENT
DTSTART;TZID=America/Chicago:20260125T153000
DTEND;TZID=America/Chicago:20260125T163000
DTSTAMP:20260420T184019
CREATED:20251227T005841Z
LAST-MODIFIED:20260125T015810Z
UID:10004052-1769355000-1769358600@urbanaplaceseniorliving.com
SUMMARY:Sunday Stroll
DESCRIPTION:Grab a friend or neighbor and take a walk
URL:https://urbanaplaceseniorliving.com/event-calendar/sunday-stroll-37/
LOCATION:Front Lobby-1st
CATEGORIES:Assisted Living
END:VEVENT
BEGIN:VEVENT
DTSTART;TZID=America/Chicago:20260118T153000
DTEND;TZID=America/Chicago:20260118T163000
DTSTAMP:20260420T184019
CREATED:20251220T004315Z
LAST-MODIFIED:20260118T014312Z
UID:10003821-1768750200-1768753800@urbanaplaceseniorliving.com
SUMMARY:Sunday Stroll
DESCRIPTION:Grab a friend or neighbor and take a walk
URL:https://urbanaplaceseniorliving.com/event-calendar/sunday-stroll-36/
LOCATION:Front Lobby-1st
CATEGORIES:Assisted Living
END:VEVENT
BEGIN:VEVENT
DTSTART;TZID=America/Chicago:20260111T153000
DTEND;TZID=America/Chicago:20260111T163000
DTSTAMP:20260420T184019
CREATED:20251213T002820Z
LAST-MODIFIED:20260111T012817Z
UID:10003789-1768145400-1768149000@urbanaplaceseniorliving.com
SUMMARY:Sunday Stroll
DESCRIPTION:Grab a friend or neighbor and take a walk
URL:https://urbanaplaceseniorliving.com/event-calendar/sunday-stroll-35/
LOCATION:Front Lobby-1st
CATEGORIES:Assisted Living
END:VEVENT
BEGIN:VEVENT
DTSTART;TZID=America/Chicago:20260106T100000
DTEND;TZID=America/Chicago:20260106T110000
DTSTAMP:20260420T184019
CREATED:20251220T004313Z
LAST-MODIFIED:20260106T005813Z
UID:10003817-1767693600-1767697200@urbanaplaceseniorliving.com
SUMMARY:Outing to Dollar Tree & Broadway Pizza (RSVP req)
DESCRIPTION:Sign up for this outing to Dollar Tree and Broadway Pizza for lunch in Brooklyn Park! They are in the same strip mall
URL:https://urbanaplaceseniorliving.com/event-calendar/outing-to-dollar-tree-broadway-pizza-rsvp-req/
LOCATION:Front Lobby-1st
CATEGORIES:Assisted Living
END:VEVENT
BEGIN:VEVENT
DTSTART;TZID=America/Chicago:20260104T153000
DTEND;TZID=America/Chicago:20260104T163000
DTSTAMP:20260420T184019
CREATED:20251206T002815Z
LAST-MODIFIED:20260104T005811Z
UID:10003755-1767540600-1767544200@urbanaplaceseniorliving.com
SUMMARY:Sunday Stroll
DESCRIPTION:Grab a friend or neighbor and take a walk
URL:https://urbanaplaceseniorliving.com/event-calendar/sunday-stroll-34/
LOCATION:Front Lobby-1st
CATEGORIES:Assisted Living
END:VEVENT
BEGIN:VEVENT
DTSTART;TZID=America/Chicago:20251230T110000
DTEND;TZID=America/Chicago:20251230T133000
DTSTAMP:20260420T184019
CREATED:20251201T002816Z
LAST-MODIFIED:20251230T005819Z
UID:10003659-1767092400-1767101400@urbanaplaceseniorliving.com
SUMMARY:Outing to Lynde's Restaurant
DESCRIPTION:Sign up for this lunch outing in the 2nd floor Wellness Center
URL:https://urbanaplaceseniorliving.com/event-calendar/outing-to-lyndes-restaurant/
LOCATION:Front Lobby-1st
CATEGORIES:Assisted Living
END:VEVENT
BEGIN:VEVENT
DTSTART;TZID=America/Chicago:20251228T153000
DTEND;TZID=America/Chicago:20251228T163000
DTSTAMP:20260420T184019
CREATED:20251130T001323Z
LAST-MODIFIED:20251228T005811Z
UID:10003637-1766935800-1766939400@urbanaplaceseniorliving.com
SUMMARY:Sunday Stroll
DESCRIPTION:Grab a friend or neighbor and take a walk
URL:https://urbanaplaceseniorliving.com/event-calendar/sunday-stroll-33/
LOCATION:Front Lobby-1st
CATEGORIES:Assisted Living
END:VEVENT
BEGIN:VEVENT
DTSTART;TZID=America/Chicago:20251221T153000
DTEND;TZID=America/Chicago:20251221T163000
DTSTAMP:20260420T184019
CREATED:20251122T144320Z
LAST-MODIFIED:20251221T004311Z
UID:10003485-1766331000-1766334600@urbanaplaceseniorliving.com
SUMMARY:Sunday Stroll
DESCRIPTION:Grab a friend or neighbor and take a walk
URL:https://urbanaplaceseniorliving.com/event-calendar/sunday-stroll-32/
LOCATION:Front Lobby-1st
CATEGORIES:Assisted Living
END:VEVENT
BEGIN:VEVENT
DTSTART;TZID=America/Chicago:20251217T180000
DTEND;TZID=America/Chicago:20251217T190000
DTSTAMP:20260420T184019
CREATED:20251122T144319Z
LAST-MODIFIED:20251218T004312Z
UID:10003482-1765994400-1765998000@urbanaplaceseniorliving.com
SUMMARY:Outing Holiday Lights Tour
DESCRIPTION:Sign up for our annual holiday light tour! Stay warm and cozy on the bus while we take in the beautifully decorated houses in the area
URL:https://urbanaplaceseniorliving.com/event-calendar/outing-holiday-lights-tour-2/
LOCATION:Front Lobby-1st
CATEGORIES:Assisted Living
END:VEVENT
BEGIN:VEVENT
DTSTART;TZID=America/Chicago:20251216T180000
DTEND;TZID=America/Chicago:20251216T190000
DTSTAMP:20260420T184019
CREATED:20251117T131318Z
LAST-MODIFIED:20251121T144316Z
UID:10003430-1765908000-1765911600@urbanaplaceseniorliving.com
SUMMARY:Outing Holiday Lights Tour
DESCRIPTION:Sign up for our annual holiday light tour! Stay warm and cozy on the bus while we take in the beautifully decorated houses in the area
URL:https://urbanaplaceseniorliving.com/event-calendar/outing-holiday-lights-tour/
LOCATION:Front Lobby-1st
CATEGORIES:Assisted Living
END:VEVENT
BEGIN:VEVENT
DTSTART;TZID=America/Chicago:20251214T153000
DTEND;TZID=America/Chicago:20251214T163000
DTSTAMP:20260420T184019
CREATED:20251115T131317Z
LAST-MODIFIED:20251214T002849Z
UID:10003401-1765726200-1765729800@urbanaplaceseniorliving.com
SUMMARY:Sunday Stroll
DESCRIPTION:Grab a friend or neighbor and take a walk
URL:https://urbanaplaceseniorliving.com/event-calendar/sunday-stroll-31/
LOCATION:Front Lobby-1st
CATEGORIES:Assisted Living
END:VEVENT
BEGIN:VEVENT
DTSTART;TZID=America/Chicago:20251207T153000
DTEND;TZID=America/Chicago:20251207T163000
DTSTAMP:20260420T184019
CREATED:20251108T125819Z
LAST-MODIFIED:20251207T002810Z
UID:10003292-1765121400-1765125000@urbanaplaceseniorliving.com
SUMMARY:Sunday Stroll
DESCRIPTION:Grab a friend or neighbor and take a walk
URL:https://urbanaplaceseniorliving.com/event-calendar/sunday-stroll-30/
LOCATION:Front Lobby-1st
CATEGORIES:Assisted Living
END:VEVENT
BEGIN:VEVENT
DTSTART;TZID=America/Chicago:20251130T153000
DTEND;TZID=America/Chicago:20251130T163000
DTSTAMP:20260420T184019
CREATED:20251101T125817Z
LAST-MODIFIED:20251130T002829Z
UID:10003199-1764516600-1764520200@urbanaplaceseniorliving.com
SUMMARY:Sunday Stroll
DESCRIPTION:Grab a friend or neighbor and take a walk
URL:https://urbanaplaceseniorliving.com/event-calendar/sunday-stroll-29/
LOCATION:Front Lobby-1st
CATEGORIES:Assisted Living
END:VEVENT
BEGIN:VEVENT
DTSTART;TZID=America/Chicago:20251125T110000
DTEND;TZID=America/Chicago:20251125T120000
DTSTAMP:20260420T184019
CREATED:20251027T124316Z
LAST-MODIFIED:20251125T145812Z
UID:10003048-1764068400-1764072000@urbanaplaceseniorliving.com
SUMMARY:Outing to Savers Thrift & IHOP (RSVP req)
DESCRIPTION:Sign up for this outing to Savers Thrift Store *40% off for Seniors* followed by lunch at IHOP\nSign up in the 2nd floor Wellness Center
URL:https://urbanaplaceseniorliving.com/event-calendar/outing-to-savers-thrift-ihop-rsvp-req/
LOCATION:Front Lobby-1st
CATEGORIES:Assisted Living
END:VEVENT
BEGIN:VEVENT
DTSTART;TZID=America/Chicago:20251123T153000
DTEND;TZID=America/Chicago:20251123T163000
DTSTAMP:20260420T184019
CREATED:20251025T124331Z
LAST-MODIFIED:20251123T144312Z
UID:10003026-1763911800-1763915400@urbanaplaceseniorliving.com
SUMMARY:Sunday Stroll
DESCRIPTION:Grab a friend or neighbor and take a walk
URL:https://urbanaplaceseniorliving.com/event-calendar/sunday-stroll-28/
LOCATION:Front Lobby-1st
CATEGORIES:Assisted Living
END:VEVENT
BEGIN:VEVENT
DTSTART;TZID=America/Chicago:20251116T153000
DTEND;TZID=America/Chicago:20251116T163000
DTSTAMP:20260420T184019
CREATED:20251018T121315Z
LAST-MODIFIED:20251116T131311Z
UID:10002941-1763307000-1763310600@urbanaplaceseniorliving.com
SUMMARY:Sunday Stroll
DESCRIPTION:Grab a friend or neighbor and take a walk
URL:https://urbanaplaceseniorliving.com/event-calendar/sunday-stroll-27/
LOCATION:Front Lobby-1st
CATEGORIES:Assisted Living
END:VEVENT
BEGIN:VEVENT
DTSTART;TZID=America/Chicago:20251109T153000
DTEND;TZID=America/Chicago:20251109T163000
DTSTAMP:20260420T184019
CREATED:20251011T114316Z
LAST-MODIFIED:20251109T125810Z
UID:10002844-1762702200-1762705800@urbanaplaceseniorliving.com
SUMMARY:Sunday Stroll
DESCRIPTION:Grab a friend or neighbor and take a walk
URL:https://urbanaplaceseniorliving.com/event-calendar/sunday-stroll-26/
LOCATION:Front Lobby-1st
CATEGORIES:Assisted Living
END:VEVENT
BEGIN:VEVENT
DTSTART;TZID=America/Chicago:20251109T141500
DTEND;TZID=America/Chicago:20251109T151500
DTSTAMP:20260420T184019
CREATED:20251011T114316Z
LAST-MODIFIED:20251109T125810Z
UID:10002843-1762697700-1762701300@urbanaplaceseniorliving.com
SUMMARY:Outing to Veterans Day Concert (RSVP req)
DESCRIPTION:Free Veterans Day Concert with the Anoka-Ramsey & North Hennepin Concert Bands at Family of God Church\, sign up in the 2nd floor Wellness Center
URL:https://urbanaplaceseniorliving.com/event-calendar/outing-to-veterans-day-concert-rsvp-req/
LOCATION:Front Lobby-1st
CATEGORIES:Assisted Living
END:VEVENT
BEGIN:VEVENT
DTSTART;TZID=America/Chicago:20251102T153000
DTEND;TZID=America/Chicago:20251102T163000
DTSTAMP:20260420T184019
CREATED:20251004T114342Z
LAST-MODIFIED:20251102T125811Z
UID:10002743-1762097400-1762101000@urbanaplaceseniorliving.com
SUMMARY:Sunday Stroll
DESCRIPTION:Grab a friend or neighbor and take a walk
URL:https://urbanaplaceseniorliving.com/event-calendar/sunday-stroll-25/
LOCATION:Front Lobby-1st
CATEGORIES:Assisted Living
END:VEVENT
BEGIN:VEVENT
DTSTART;TZID=America/Chicago:20251026T153000
DTEND;TZID=America/Chicago:20251026T163000
DTSTAMP:20260420T184019
CREATED:20250927T114326Z
LAST-MODIFIED:20251026T124325Z
UID:10002555-1761492600-1761496200@urbanaplaceseniorliving.com
SUMMARY:Sunday Stroll
DESCRIPTION:Grab a friend or neighbor and take a walk
URL:https://urbanaplaceseniorliving.com/event-calendar/sunday-stroll-24/
LOCATION:Front Lobby-1st
CATEGORIES:Assisted Living
END:VEVENT
BEGIN:VEVENT
DTSTART;TZID=America/Chicago:20251019T153000
DTEND;TZID=America/Chicago:20251019T163000
DTSTAMP:20260420T184019
CREATED:20250920T114316Z
LAST-MODIFIED:20251019T121311Z
UID:10002471-1760887800-1760891400@urbanaplaceseniorliving.com
SUMMARY:Sunday Stroll
DESCRIPTION:Grab a friend or neighbor and take a walk
URL:https://urbanaplaceseniorliving.com/event-calendar/sunday-stroll-23/
LOCATION:Front Lobby-1st
CATEGORIES:Assisted Living
END:VEVENT
BEGIN:VEVENT
DTSTART;TZID=America/Chicago:20251016T111500
DTEND;TZID=America/Chicago:20251016T121500
DTSTAMP:20260420T184019
CREATED:20250917T112816Z
LAST-MODIFIED:20251016T121311Z
UID:10002435-1760613300-1760616900@urbanaplaceseniorliving.com
SUMMARY:Outing to Forgotten Star Brewery/Food Truck
DESCRIPTION:Sign up for this fun outing to Forgotten Star Brewery. We will be meeting up with folks from Landmark of Fridley Senior Living. This is a historic WWII manufacturing building turned into a brewery. Food truck on site
URL:https://urbanaplaceseniorliving.com/event-calendar/outing/
LOCATION:Front Lobby-1st
CATEGORIES:Assisted Living
END:VEVENT
END:VCALENDAR