BEGIN:VCALENDAR
VERSION:2.0
PRODID:-//Urbana Place Senior Living in Brooklyn Park - ECPv6.11.2.1//NONSGML v1.0//EN
CALSCALE:GREGORIAN
METHOD:PUBLISH
X-WR-CALNAME:Urbana Place Senior Living in Brooklyn Park
X-ORIGINAL-URL:https://urbanaplaceseniorliving.com
X-WR-CALDESC:Events for Urbana Place Senior Living in Brooklyn Park
REFRESH-INTERVAL;VALUE=DURATION:PT1H
X-Robots-Tag:noindex
X-PUBLISHED-TTL:PT1H
BEGIN:VTIMEZONE
TZID:America/Chicago
BEGIN:DAYLIGHT
TZOFFSETFROM:-0600
TZOFFSETTO:-0500
TZNAME:CDT
DTSTART:20250309T080000
END:DAYLIGHT
BEGIN:STANDARD
TZOFFSETFROM:-0500
TZOFFSETTO:-0600
TZNAME:CST
DTSTART:20251102T070000
END:STANDARD
END:VTIMEZONE
BEGIN:VEVENT
DTSTART;TZID=America/Chicago:20250812T143000
DTEND;TZID=America/Chicago:20250812T153000
DTSTAMP:20260424T115613
CREATED:20250714T094356Z
LAST-MODIFIED:20250717T095919Z
UID:10001349-1755009000-1755012600@urbanaplaceseniorliving.com
SUMMARY:Chef Chat
DESCRIPTION:Come to the Dining Room to talk with David\, our Culinary Director from New Horizons
URL:https://urbanaplaceseniorliving.com/event-calendar/chef-chat-3/
LOCATION:Dining Room
CATEGORIES:Assisted Living
END:VEVENT
BEGIN:VEVENT
DTSTART;TZID=America/Chicago:20250708T143000
DTEND;TZID=America/Chicago:20250708T153000
DTSTAMP:20260424T115613
CREATED:20250608T220043Z
LAST-MODIFIED:20250708T092812Z
UID:10000774-1751985000-1751988600@urbanaplaceseniorliving.com
SUMMARY:Chef Chat
DESCRIPTION:Come to the Dining Room to talk with David\, our Culinary Director from New Horizons
URL:https://urbanaplaceseniorliving.com/event-calendar/chef-chat-2/
LOCATION:Dining Room
CATEGORIES:Assisted Living
END:VEVENT
BEGIN:VEVENT
DTSTART;TZID=America/Chicago:20250610T143000
DTEND;TZID=America/Chicago:20250610T153000
DTSTAMP:20260424T115613
CREATED:20250516T191134Z
LAST-MODIFIED:20250609T215814Z
UID:10000126-1749565800-1749569400@urbanaplaceseniorliving.com
SUMMARY:Chef Chat
DESCRIPTION:Come to the Dining Room to talk with David\, our Culinary Director from New Horizons
URL:https://urbanaplaceseniorliving.com/event-calendar/chef-chat/
LOCATION:Dining Room
CATEGORIES:Assisted Living
END:VEVENT
END:VCALENDAR