BEGIN:VCALENDAR
VERSION:2.0
PRODID:-//Urbana Place Senior Living in Brooklyn Park - ECPv6.11.2.1//NONSGML v1.0//EN
CALSCALE:GREGORIAN
METHOD:PUBLISH
X-ORIGINAL-URL:https://urbanaplaceseniorliving.com
X-WR-CALDESC:Events for Urbana Place Senior Living in Brooklyn Park
REFRESH-INTERVAL;VALUE=DURATION:PT1H
X-Robots-Tag:noindex
X-PUBLISHED-TTL:PT1H
BEGIN:VTIMEZONE
TZID:America/Chicago
BEGIN:DAYLIGHT
TZOFFSETFROM:-0600
TZOFFSETTO:-0500
TZNAME:CDT
DTSTART:20260308T080000
END:DAYLIGHT
BEGIN:STANDARD
TZOFFSETFROM:-0500
TZOFFSETTO:-0600
TZNAME:CST
DTSTART:20261101T070000
END:STANDARD
END:VTIMEZONE
BEGIN:VEVENT
DTSTART;TZID=America/Chicago:20260521T110000
DTEND;TZID=America/Chicago:20260521T113000
DTSTAMP:20260423T035016
CREATED:20260422T074332Z
LAST-MODIFIED:20260423T074345Z
UID:10005796-1779361200-1779363000@urbanaplaceseniorliving.com
SUMMARY:Chair Cardio w/Jackie
DESCRIPTION:This exercise class is for all abilities
URL:https://urbanaplaceseniorliving.com/event-calendar/chair-cardio-w-jackie-44/
LOCATION:Wellness Center-2nd
CATEGORIES:Assisted Living
END:VEVENT
BEGIN:VEVENT
DTSTART;TZID=America/Chicago:20260521T131500
DTEND;TZID=America/Chicago:20260521T141500
DTSTAMP:20260423T035016
CREATED:20260422T074332Z
LAST-MODIFIED:20260423T074345Z
UID:10005797-1779369300-1779372900@urbanaplaceseniorliving.com
SUMMARY:Chef Demo: snack edition
DESCRIPTION:Join Chef John in the 1st floor Bistro for a demonstration with samples!
URL:https://urbanaplaceseniorliving.com/event-calendar/chef-demo-snack-edition/
LOCATION:Bistro-1st
CATEGORIES:Assisted Living
END:VEVENT
BEGIN:VEVENT
DTSTART;TZID=America/Chicago:20260521T143000
DTEND;TZID=America/Chicago:20260521T153000
DTSTAMP:20260423T035016
CREATED:20260422T074332Z
LAST-MODIFIED:20260423T074345Z
UID:10005798-1779373800-1779377400@urbanaplaceseniorliving.com
SUMMARY:Live Music w/High Water Band
DESCRIPTION:
URL:https://urbanaplaceseniorliving.com/event-calendar/live-music-w-high-water-band-2/
LOCATION:Community Room-1st
CATEGORIES:Assisted Living
END:VEVENT
BEGIN:VEVENT
DTSTART;TZID=America/Chicago:20260522T100000
DTEND;TZID=America/Chicago:20260522T110000
DTSTAMP:20260423T035016
CREATED:20260423T074345Z
LAST-MODIFIED:20260423T074345Z
UID:10005799-1779444000-1779447600@urbanaplaceseniorliving.com
SUMMARY:??Wheelchair Rodeo
DESCRIPTION:
URL:https://urbanaplaceseniorliving.com/event-calendar/wheelchair-rodeo/
LOCATION:Community Room-1st
CATEGORIES:Assisted Living
END:VEVENT
BEGIN:VEVENT
DTSTART;TZID=America/Chicago:20260522T130000
DTEND;TZID=America/Chicago:20260522T133000
DTSTAMP:20260423T035016
CREATED:20260423T074345Z
LAST-MODIFIED:20260423T074345Z
UID:10005800-1779454800-1779456600@urbanaplaceseniorliving.com
SUMMARY:Really Big Show
DESCRIPTION:The Really Big Show recaps the weeks Robot Soccer games
URL:https://urbanaplaceseniorliving.com/event-calendar/really-big-show-24/
LOCATION:Community Room-1st
CATEGORIES:Assisted Living
END:VEVENT
BEGIN:VEVENT
DTSTART;TZID=America/Chicago:20260522T140000
DTEND;TZID=America/Chicago:20260522T150000
DTSTAMP:20260423T035016
CREATED:20260423T074345Z
LAST-MODIFIED:20260423T074345Z
UID:10005801-1779458400-1779462000@urbanaplaceseniorliving.com
SUMMARY:Happy Hour 'Vodka Cranberry'
DESCRIPTION:Join the fun in the Pub. Non alcoholic drinks always available
URL:https://urbanaplaceseniorliving.com/event-calendar/happy-hour-vodka-cranberry-4/
LOCATION:Pub-2nd
CATEGORIES:Assisted Living
END:VEVENT
BEGIN:VEVENT
DTSTART;TZID=America/Chicago:20260522T150000
DTEND;TZID=America/Chicago:20260522T160000
DTSTAMP:20260423T035016
CREATED:20260423T074346Z
LAST-MODIFIED:20260423T074346Z
UID:10005802-1779462000-1779465600@urbanaplaceseniorliving.com
SUMMARY:Cribbage/Cards
DESCRIPTION:Grab a partner for a game of cribbage or play some cards!
URL:https://urbanaplaceseniorliving.com/event-calendar/cribbage-cards-4/
LOCATION:Pub-2nd
CATEGORIES:Assisted Living
END:VEVENT
BEGIN:VEVENT
DTSTART;VALUE=DATE:20260523
DTEND;VALUE=DATE:20260524
DTSTAMP:20260423T035016
CREATED:20260423T074346Z
LAST-MODIFIED:20260423T074346Z
UID:10005803-1779494400-1779580799@urbanaplaceseniorliving.com
SUMMARY:Independent Exercise
DESCRIPTION:Stop in the Wellness Center and move your body today! All equipment is available for your use
URL:https://urbanaplaceseniorliving.com/event-calendar/independent-exercise-30/
LOCATION:Wellness Center-2nd
CATEGORIES:Assisted Living
END:VEVENT
END:VCALENDAR