BEGIN:VCALENDAR
VERSION:2.0
PRODID:-//Urbana Place Senior Living in Brooklyn Park - ECPv6.11.2.1//NONSGML v1.0//EN
CALSCALE:GREGORIAN
METHOD:PUBLISH
X-ORIGINAL-URL:https://urbanaplaceseniorliving.com
X-WR-CALDESC:Events for Urbana Place Senior Living in Brooklyn Park
REFRESH-INTERVAL;VALUE=DURATION:PT1H
X-Robots-Tag:noindex
X-PUBLISHED-TTL:PT1H
BEGIN:VTIMEZONE
TZID:America/Chicago
BEGIN:DAYLIGHT
TZOFFSETFROM:-0600
TZOFFSETTO:-0500
TZNAME:CDT
DTSTART:20250309T080000
END:DAYLIGHT
BEGIN:STANDARD
TZOFFSETFROM:-0500
TZOFFSETTO:-0600
TZNAME:CST
DTSTART:20251102T070000
END:STANDARD
END:VTIMEZONE
BEGIN:VEVENT
DTSTART;TZID=America/Chicago:20250527T154500
DTEND;TZID=America/Chicago:20250527T164500
DTSTAMP:20260423T172242
CREATED:20250516T191159Z
LAST-MODIFIED:20250527T211325Z
UID:10000277-1748360700-1748364300@urbanaplaceseniorliving.com
SUMMARY:Eye Masks & Hand Massages
DESCRIPTION:
URL:https://urbanaplaceseniorliving.com/event-calendar/eye-masks-hand-massages/
CATEGORIES:Legacy Court
END:VEVENT
BEGIN:VEVENT
DTSTART;TZID=America/Chicago:20250527T144500
DTEND;TZID=America/Chicago:20250527T154500
DTSTAMP:20260423T172242
CREATED:20250516T191159Z
LAST-MODIFIED:20250526T211312Z
UID:10000276-1748357100-1748360700@urbanaplaceseniorliving.com
SUMMARY:Craft Corner
DESCRIPTION:
URL:https://urbanaplaceseniorliving.com/event-calendar/make-birdhouses/
CATEGORIES:Legacy Court
END:VEVENT
BEGIN:VEVENT
DTSTART;TZID=America/Chicago:20250527T140000
DTEND;TZID=America/Chicago:20250527T150000
DTSTAMP:20260423T172242
CREATED:20250516T191158Z
LAST-MODIFIED:20250522T201530Z
UID:10000275-1748354400-1748358000@urbanaplaceseniorliving.com
SUMMARY:Scent Guessing
DESCRIPTION:
URL:https://urbanaplaceseniorliving.com/event-calendar/scent-guessing/
CATEGORIES:Legacy Court
END:VEVENT
BEGIN:VEVENT
DTSTART;TZID=America/Chicago:20250527T140000
DTEND;TZID=America/Chicago:20250527T150000
DTSTAMP:20260423T172242
CREATED:20250516T191158Z
LAST-MODIFIED:20250526T211312Z
UID:10000274-1748354400-1748358000@urbanaplaceseniorliving.com
SUMMARY:Guess the Family
DESCRIPTION:
URL:https://urbanaplaceseniorliving.com/event-calendar/guess-the-family/
CATEGORIES:Legacy Court
END:VEVENT
BEGIN:VEVENT
DTSTART;TZID=America/Chicago:20250527T133000
DTEND;TZID=America/Chicago:20250527T143000
DTSTAMP:20260423T172242
CREATED:20250523T202918Z
LAST-MODIFIED:20250526T211316Z
UID:10000519-1748352600-1748356200@urbanaplaceseniorliving.com
SUMMARY:Group Exercise
DESCRIPTION:
URL:https://urbanaplaceseniorliving.com/event-calendar/group-exercise-7/
CATEGORIES:Legacy Court
END:VEVENT
BEGIN:VEVENT
DTSTART;TZID=America/Chicago:20250527T120000
DTEND;TZID=America/Chicago:20250527T130000
DTSTAMP:20260423T172242
CREATED:20250516T191158Z
LAST-MODIFIED:20250526T211316Z
UID:10000273-1748347200-1748350800@urbanaplaceseniorliving.com
SUMMARY:Lunch & Oshibori
DESCRIPTION:
URL:https://urbanaplaceseniorliving.com/event-calendar/lunch-oshibori-11/
CATEGORIES:Legacy Court
END:VEVENT
BEGIN:VEVENT
DTSTART;TZID=America/Chicago:20250527T110000
DTEND;TZID=America/Chicago:20250527T120000
DTSTAMP:20260423T172242
CREATED:20250523T202916Z
LAST-MODIFIED:20250526T211316Z
UID:10000518-1748343600-1748347200@urbanaplaceseniorliving.com
SUMMARY:Sticker by Number Art
DESCRIPTION:
URL:https://urbanaplaceseniorliving.com/event-calendar/sticker-by-number-art/
CATEGORIES:Legacy Court
END:VEVENT
BEGIN:VEVENT
DTSTART;TZID=America/Chicago:20250527T101500
DTEND;TZID=America/Chicago:20250527T111500
DTSTAMP:20260423T172242
CREATED:20250516T191158Z
LAST-MODIFIED:20250526T211316Z
UID:10000269-1748340900-1748344500@urbanaplaceseniorliving.com
SUMMARY:Manicures
DESCRIPTION:
URL:https://urbanaplaceseniorliving.com/event-calendar/manicures-4/
CATEGORIES:Legacy Court
END:VEVENT
BEGIN:VEVENT
DTSTART;TZID=America/Chicago:20250527T101500
DTEND;TZID=America/Chicago:20250527T111500
DTSTAMP:20260423T172242
CREATED:20250516T191158Z
LAST-MODIFIED:20250522T201527Z
UID:10000271-1748340900-1748344500@urbanaplaceseniorliving.com
SUMMARY:Fitness Drumming
DESCRIPTION:
URL:https://urbanaplaceseniorliving.com/event-calendar/fitness-drumming-5/
CATEGORIES:Legacy Court
END:VEVENT
BEGIN:VEVENT
DTSTART;TZID=America/Chicago:20250527T100000
DTEND;TZID=America/Chicago:20250527T110000
DTSTAMP:20260423T172242
CREATED:20250516T191158Z
LAST-MODIFIED:20250526T211316Z
UID:10000272-1748340000-1748343600@urbanaplaceseniorliving.com
SUMMARY:Trivia Tuesday
DESCRIPTION:
URL:https://urbanaplaceseniorliving.com/event-calendar/trivia-tuesday/
CATEGORIES:Legacy Court
END:VEVENT
BEGIN:VEVENT
DTSTART;TZID=America/Chicago:20250527T093000
DTEND;TZID=America/Chicago:20250527T103000
DTSTAMP:20260423T172242
CREATED:20250516T191158Z
LAST-MODIFIED:20250526T211316Z
UID:10000270-1748338200-1748341800@urbanaplaceseniorliving.com
SUMMARY:Short Stories Read Aloud
DESCRIPTION:
URL:https://urbanaplaceseniorliving.com/event-calendar/short-stories-read-aloud-2/
CATEGORIES:Legacy Court
END:VEVENT
BEGIN:VEVENT
DTSTART;TZID=America/Chicago:20250527T080000
DTEND;TZID=America/Chicago:20250527T090000
DTSTAMP:20260423T172242
CREATED:20250516T191158Z
LAST-MODIFIED:20250526T211316Z
UID:10000268-1748332800-1748336400@urbanaplaceseniorliving.com
SUMMARY:Breakfast
DESCRIPTION:
URL:https://urbanaplaceseniorliving.com/event-calendar/breakfast-11/
CATEGORIES:Legacy Court
END:VEVENT
BEGIN:VEVENT
DTSTART;TZID=America/Chicago:20250526T180000
DTEND;TZID=America/Chicago:20250526T190000
DTSTAMP:20260423T172242
CREATED:20250516T191158Z
LAST-MODIFIED:20250526T211316Z
UID:10000267-1748282400-1748286000@urbanaplaceseniorliving.com
SUMMARY:1:1 Visits
DESCRIPTION:
URL:https://urbanaplaceseniorliving.com/event-calendar/11-visits-6/
CATEGORIES:Legacy Court
END:VEVENT
BEGIN:VEVENT
DTSTART;TZID=America/Chicago:20250526T170000
DTEND;TZID=America/Chicago:20250526T180000
DTSTAMP:20260423T172242
CREATED:20250516T191158Z
LAST-MODIFIED:20250526T211316Z
UID:10000266-1748278800-1748282400@urbanaplaceseniorliving.com
SUMMARY:Dinner & Oshibori
DESCRIPTION:
URL:https://urbanaplaceseniorliving.com/event-calendar/dinner-oshibori-11/
CATEGORIES:Legacy Court
END:VEVENT
BEGIN:VEVENT
DTSTART;TZID=America/Chicago:20250526T160000
DTEND;TZID=America/Chicago:20250526T170000
DTSTAMP:20260423T172242
CREATED:20250516T191158Z
LAST-MODIFIED:20250526T211316Z
UID:10000265-1748275200-1748278800@urbanaplaceseniorliving.com
SUMMARY:Walking Group
DESCRIPTION:
URL:https://urbanaplaceseniorliving.com/event-calendar/walking-group-8/
CATEGORIES:Legacy Court
END:VEVENT
BEGIN:VEVENT
DTSTART;TZID=America/Chicago:20250526T140000
DTEND;TZID=America/Chicago:20250526T150000
DTSTAMP:20260423T172242
CREATED:20250516T191158Z
LAST-MODIFIED:20250525T210047Z
UID:10000264-1748268000-1748271600@urbanaplaceseniorliving.com
SUMMARY:Patriotic Parfait Social
DESCRIPTION:
URL:https://urbanaplaceseniorliving.com/event-calendar/patriotic-parfait-social/
CATEGORIES:Legacy Court
END:VEVENT
BEGIN:VEVENT
DTSTART;TZID=America/Chicago:20250526T131500
DTEND;TZID=America/Chicago:20250526T141500
DTSTAMP:20260423T172242
CREATED:20250523T202901Z
LAST-MODIFIED:20250525T210046Z
UID:10000517-1748265300-1748268900@urbanaplaceseniorliving.com
SUMMARY:Toss n' Talk Ball
DESCRIPTION:
URL:https://urbanaplaceseniorliving.com/event-calendar/toss-n-talk-ball-9/
CATEGORIES:Legacy Court
END:VEVENT
BEGIN:VEVENT
DTSTART;TZID=America/Chicago:20250526T120000
DTEND;TZID=America/Chicago:20250526T130000
DTSTAMP:20260423T172242
CREATED:20250516T191158Z
LAST-MODIFIED:20250525T210034Z
UID:10000263-1748260800-1748264400@urbanaplaceseniorliving.com
SUMMARY:Lunch & Oshibori
DESCRIPTION:
URL:https://urbanaplaceseniorliving.com/event-calendar/lunch-oshibori-10/
CATEGORIES:Legacy Court
END:VEVENT
BEGIN:VEVENT
DTSTART;TZID=America/Chicago:20250526T113000
DTEND;TZID=America/Chicago:20250526T123000
DTSTAMP:20260423T172242
CREATED:20250516T191158Z
LAST-MODIFIED:20250525T210034Z
UID:10000262-1748259000-1748262600@urbanaplaceseniorliving.com
SUMMARY:USA Word Find
DESCRIPTION:
URL:https://urbanaplaceseniorliving.com/event-calendar/usa-word-find/
CATEGORIES:Legacy Court
END:VEVENT
BEGIN:VEVENT
DTSTART;TZID=America/Chicago:20250526T110000
DTEND;TZID=America/Chicago:20250526T120000
DTSTAMP:20260423T172242
CREATED:20250516T191158Z
LAST-MODIFIED:20250525T210035Z
UID:10000261-1748257200-1748260800@urbanaplaceseniorliving.com
SUMMARY:Memorial Day Remembrance
DESCRIPTION:
URL:https://urbanaplaceseniorliving.com/event-calendar/memorial-day-remembrance/
CATEGORIES:Legacy Court
END:VEVENT
BEGIN:VEVENT
DTSTART;TZID=America/Chicago:20250526T110000
DTEND;TZID=America/Chicago:20250526T120000
DTSTAMP:20260423T172242
CREATED:20250516T191158Z
LAST-MODIFIED:20250525T210034Z
UID:10000258-1748257200-1748260800@urbanaplaceseniorliving.com
SUMMARY:Make Patriotic Parfaits
DESCRIPTION:
URL:https://urbanaplaceseniorliving.com/event-calendar/make-patriotic-parfaits/
CATEGORIES:Legacy Court
END:VEVENT
BEGIN:VEVENT
DTSTART;TZID=America/Chicago:20250526T103000
DTEND;TZID=America/Chicago:20250526T113000
DTSTAMP:20260423T172242
CREATED:20250516T191158Z
LAST-MODIFIED:20250525T210035Z
UID:10000259-1748255400-1748259000@urbanaplaceseniorliving.com
SUMMARY:Parachute Exercise
DESCRIPTION:
URL:https://urbanaplaceseniorliving.com/event-calendar/group-exercise-2/
CATEGORIES:Legacy Court
END:VEVENT
BEGIN:VEVENT
DTSTART;TZID=America/Chicago:20250526T091500
DTEND;TZID=America/Chicago:20250526T101500
DTSTAMP:20260423T172242
CREATED:20250516T191158Z
LAST-MODIFIED:20250525T210033Z
UID:10000260-1748250900-1748254500@urbanaplaceseniorliving.com
SUMMARY:1:1 Visits
DESCRIPTION:
URL:https://urbanaplaceseniorliving.com/event-calendar/11-visits-5/
CATEGORIES:Legacy Court
END:VEVENT
BEGIN:VEVENT
DTSTART;TZID=America/Chicago:20250526T080000
DTEND;TZID=America/Chicago:20250526T090000
DTSTAMP:20260423T172242
CREATED:20250516T191158Z
LAST-MODIFIED:20250525T210033Z
UID:10000257-1748246400-1748250000@urbanaplaceseniorliving.com
SUMMARY:Breakfast
DESCRIPTION:
URL:https://urbanaplaceseniorliving.com/event-calendar/breakfast-10/
CATEGORIES:Legacy Court
END:VEVENT
BEGIN:VEVENT
DTSTART;TZID=America/Chicago:20250525T180000
DTEND;TZID=America/Chicago:20250525T190000
DTSTAMP:20260423T172242
CREATED:20250516T191158Z
LAST-MODIFIED:20250525T210033Z
UID:10000256-1748196000-1748199600@urbanaplaceseniorliving.com
SUMMARY:Sing-Along w/ Susie Q
DESCRIPTION:
URL:https://urbanaplaceseniorliving.com/event-calendar/sing-along-w-susie-q-2/
CATEGORIES:Legacy Court
END:VEVENT
BEGIN:VEVENT
DTSTART;TZID=America/Chicago:20250525T170000
DTEND;TZID=America/Chicago:20250525T180000
DTSTAMP:20260423T172242
CREATED:20250516T191158Z
LAST-MODIFIED:20250525T210032Z
UID:10000255-1748192400-1748196000@urbanaplaceseniorliving.com
SUMMARY:Dinner & Oshibori
DESCRIPTION:
URL:https://urbanaplaceseniorliving.com/event-calendar/dinner-oshibori-10/
CATEGORIES:Legacy Court
END:VEVENT
BEGIN:VEVENT
DTSTART;TZID=America/Chicago:20250525T153000
DTEND;TZID=America/Chicago:20250525T163000
DTSTAMP:20260423T172242
CREATED:20250516T191158Z
LAST-MODIFIED:20250525T210032Z
UID:10000254-1748187000-1748190600@urbanaplaceseniorliving.com
SUMMARY:Walking Group
DESCRIPTION:
URL:https://urbanaplaceseniorliving.com/event-calendar/walking-group-7/
CATEGORIES:Legacy Court
END:VEVENT
BEGIN:VEVENT
DTSTART;TZID=America/Chicago:20250525T140000
DTEND;TZID=America/Chicago:20250525T150000
DTSTAMP:20260423T172242
CREATED:20250516T191158Z
LAST-MODIFIED:20250524T204355Z
UID:10000253-1748181600-1748185200@urbanaplaceseniorliving.com
SUMMARY:Snack & Music
DESCRIPTION:
URL:https://urbanaplaceseniorliving.com/event-calendar/snack-music-2/
CATEGORIES:Legacy Court
END:VEVENT
BEGIN:VEVENT
DTSTART;TZID=America/Chicago:20250525T133000
DTEND;TZID=America/Chicago:20250525T143000
DTSTAMP:20260423T172242
CREATED:20250516T191158Z
LAST-MODIFIED:20250524T204341Z
UID:10000252-1748179800-1748183400@urbanaplaceseniorliving.com
SUMMARY:Conversation Cards
DESCRIPTION:
URL:https://urbanaplaceseniorliving.com/event-calendar/conversation-cards-2/
CATEGORIES:Legacy Court
END:VEVENT
BEGIN:VEVENT
DTSTART;TZID=America/Chicago:20250525T131000
DTEND;TZID=America/Chicago:20250525T141000
DTSTAMP:20260423T172242
CREATED:20250523T202845Z
LAST-MODIFIED:20250524T204357Z
UID:10000516-1748178600-1748182200@urbanaplaceseniorliving.com
SUMMARY:MN Twins Game - Channel 23
DESCRIPTION:
URL:https://urbanaplaceseniorliving.com/event-calendar/mn-twins-game-channel-23-6/
CATEGORIES:Legacy Court
END:VEVENT
END:VCALENDAR