BEGIN:VCALENDAR
VERSION:2.0
PRODID:-//Urbana Place Senior Living in Brooklyn Park - ECPv6.11.2.1//NONSGML v1.0//EN
CALSCALE:GREGORIAN
METHOD:PUBLISH
X-WR-CALNAME:Urbana Place Senior Living in Brooklyn Park
X-ORIGINAL-URL:https://urbanaplaceseniorliving.com
X-WR-CALDESC:Events for Urbana Place Senior Living in Brooklyn Park
REFRESH-INTERVAL;VALUE=DURATION:PT1H
X-Robots-Tag:noindex
X-PUBLISHED-TTL:PT1H
BEGIN:VTIMEZONE
TZID:America/Chicago
BEGIN:DAYLIGHT
TZOFFSETFROM:-0600
TZOFFSETTO:-0500
TZNAME:CDT
DTSTART:20250309T080000
END:DAYLIGHT
BEGIN:STANDARD
TZOFFSETFROM:-0500
TZOFFSETTO:-0600
TZNAME:CST
DTSTART:20251102T070000
END:STANDARD
END:VTIMEZONE
BEGIN:VEVENT
DTSTART;TZID=America/Chicago:20250601T120000
DTEND;TZID=America/Chicago:20250601T130000
DTSTAMP:20260423T083951
CREATED:20250516T191200Z
LAST-MODIFIED:20250531T212951Z
UID:10000330-1748779200-1748782800@urbanaplaceseniorliving.com
SUMMARY:Lunch & Oshibori
DESCRIPTION:
URL:https://urbanaplaceseniorliving.com/event-calendar/lunch-oshibori-16/
CATEGORIES:Legacy Court
END:VEVENT
BEGIN:VEVENT
DTSTART;TZID=America/Chicago:20250601T113000
DTEND;TZID=America/Chicago:20250601T123000
DTSTAMP:20260423T083951
CREATED:20250516T191200Z
LAST-MODIFIED:20250531T212953Z
UID:10000329-1748777400-1748781000@urbanaplaceseniorliving.com
SUMMARY:Hymn Sing
DESCRIPTION:
URL:https://urbanaplaceseniorliving.com/event-calendar/hymn-sing-3/
CATEGORIES:Legacy Court
END:VEVENT
BEGIN:VEVENT
DTSTART;TZID=America/Chicago:20250601T110000
DTEND;TZID=America/Chicago:20250601T120000
DTSTAMP:20260423T083951
CREATED:20250516T191200Z
LAST-MODIFIED:20250531T212953Z
UID:10000328-1748775600-1748779200@urbanaplaceseniorliving.com
SUMMARY:Virtual Church Service
DESCRIPTION:
URL:https://urbanaplaceseniorliving.com/event-calendar/virtual-church-service-3/
CATEGORIES:Legacy Court
END:VEVENT
BEGIN:VEVENT
DTSTART;TZID=America/Chicago:20250601T104500
DTEND;TZID=America/Chicago:20250601T114500
DTSTAMP:20260423T083951
CREATED:20250527T211325Z
LAST-MODIFIED:20250531T212953Z
UID:10000571-1748774700-1748778300@urbanaplaceseniorliving.com
SUMMARY:Bake Brownies
DESCRIPTION:
URL:https://urbanaplaceseniorliving.com/event-calendar/bake-brownies/
CATEGORIES:Legacy Court
END:VEVENT
BEGIN:VEVENT
DTSTART;TZID=America/Chicago:20250601T100000
DTEND;TZID=America/Chicago:20250601T110000
DTSTAMP:20260423T083951
CREATED:20250516T191200Z
LAST-MODIFIED:20250531T212953Z
UID:10000327-1748772000-1748775600@urbanaplaceseniorliving.com
SUMMARY:Summer Craft
DESCRIPTION:
URL:https://urbanaplaceseniorliving.com/event-calendar/11-visits-7/
CATEGORIES:Legacy Court
END:VEVENT
BEGIN:VEVENT
DTSTART;TZID=America/Chicago:20250601T080000
DTEND;TZID=America/Chicago:20250601T090000
DTSTAMP:20260423T083951
CREATED:20250516T191200Z
LAST-MODIFIED:20250531T212953Z
UID:10000326-1748764800-1748768400@urbanaplaceseniorliving.com
SUMMARY:Breakfast
DESCRIPTION:
URL:https://urbanaplaceseniorliving.com/event-calendar/breakfast-16/
CATEGORIES:Legacy Court
END:VEVENT
BEGIN:VEVENT
DTSTART;TZID=America/Chicago:20250531T181500
DTEND;TZID=America/Chicago:20250531T191500
DTSTAMP:20260423T083951
CREATED:20250516T191200Z
LAST-MODIFIED:20250531T212953Z
UID:10000325-1748715300-1748718900@urbanaplaceseniorliving.com
SUMMARY:MN Twins Game - Channel 23
DESCRIPTION:
URL:https://urbanaplaceseniorliving.com/event-calendar/mn-twins-game-channel-23-5/
CATEGORIES:Legacy Court
END:VEVENT
BEGIN:VEVENT
DTSTART;TZID=America/Chicago:20250531T180000
DTEND;TZID=America/Chicago:20250531T190000
DTSTAMP:20260423T083951
CREATED:20250516T191200Z
LAST-MODIFIED:20250531T212953Z
UID:10000322-1748714400-1748718000@urbanaplaceseniorliving.com
SUMMARY:Coloring & Word Finds
DESCRIPTION:
URL:https://urbanaplaceseniorliving.com/event-calendar/coloring-word-finds-5/
CATEGORIES:Legacy Court
END:VEVENT
BEGIN:VEVENT
DTSTART;TZID=America/Chicago:20250531T170000
DTEND;TZID=America/Chicago:20250531T180000
DTSTAMP:20260423T083951
CREATED:20250516T191200Z
LAST-MODIFIED:20250531T212953Z
UID:10000323-1748710800-1748714400@urbanaplaceseniorliving.com
SUMMARY:Dinner & Oshibori
DESCRIPTION:
URL:https://urbanaplaceseniorliving.com/event-calendar/dinner-oshibori-16/
CATEGORIES:Legacy Court
END:VEVENT
BEGIN:VEVENT
DTSTART;TZID=America/Chicago:20250531T161500
DTEND;TZID=America/Chicago:20250531T171500
DTSTAMP:20260423T083951
CREATED:20250516T191200Z
LAST-MODIFIED:20250531T212953Z
UID:10000324-1748708100-1748711700@urbanaplaceseniorliving.com
SUMMARY:Toss n' Talk Ball
DESCRIPTION:
URL:https://urbanaplaceseniorliving.com/event-calendar/toss-n-talk-ball-3/
CATEGORIES:Legacy Court
END:VEVENT
BEGIN:VEVENT
DTSTART;TZID=America/Chicago:20250531T154500
DTEND;TZID=America/Chicago:20250531T164500
DTSTAMP:20260423T083951
CREATED:20250516T191200Z
LAST-MODIFIED:20250531T212953Z
UID:10000321-1748706300-1748709900@urbanaplaceseniorliving.com
SUMMARY:Walking Group
DESCRIPTION:
URL:https://urbanaplaceseniorliving.com/event-calendar/walking-group-11/
CATEGORIES:Legacy Court
END:VEVENT
BEGIN:VEVENT
DTSTART;TZID=America/Chicago:20250531T133000
DTEND;TZID=America/Chicago:20250531T143000
DTSTAMP:20260423T083951
CREATED:20250516T191200Z
LAST-MODIFIED:20250530T211316Z
UID:10000320-1748698200-1748701800@urbanaplaceseniorliving.com
SUMMARY:Movie & Popcorn
DESCRIPTION:
URL:https://urbanaplaceseniorliving.com/event-calendar/movie-popcorn-3/
CATEGORIES:Legacy Court
END:VEVENT
BEGIN:VEVENT
DTSTART;TZID=America/Chicago:20250531T120000
DTEND;TZID=America/Chicago:20250531T130000
DTSTAMP:20260423T083951
CREATED:20250516T191200Z
LAST-MODIFIED:20250530T211316Z
UID:10000319-1748692800-1748696400@urbanaplaceseniorliving.com
SUMMARY:Lunch & Oshibori
DESCRIPTION:
URL:https://urbanaplaceseniorliving.com/event-calendar/lunch-oshibori-15/
CATEGORIES:Legacy Court
END:VEVENT
BEGIN:VEVENT
DTSTART;TZID=America/Chicago:20250531T110000
DTEND;TZID=America/Chicago:20250531T120000
DTSTAMP:20260423T083951
CREATED:20250516T191200Z
LAST-MODIFIED:20250530T211315Z
UID:10000318-1748689200-1748692800@urbanaplaceseniorliving.com
SUMMARY:Coffee & Conversation
DESCRIPTION:
URL:https://urbanaplaceseniorliving.com/event-calendar/coffee-conversation-3/
CATEGORIES:Legacy Court
END:VEVENT
BEGIN:VEVENT
DTSTART;TZID=America/Chicago:20250531T100000
DTEND;TZID=America/Chicago:20250531T110000
DTSTAMP:20260423T083951
CREATED:20250516T191200Z
LAST-MODIFIED:20250530T211315Z
UID:10000317-1748685600-1748689200@urbanaplaceseniorliving.com
SUMMARY:Noodle Ball
DESCRIPTION:
URL:https://urbanaplaceseniorliving.com/event-calendar/noodle-ball-4/
CATEGORIES:Legacy Court
END:VEVENT
BEGIN:VEVENT
DTSTART;TZID=America/Chicago:20250531T093000
DTEND;TZID=America/Chicago:20250531T103000
DTSTAMP:20260423T083951
CREATED:20250516T191200Z
LAST-MODIFIED:20250530T211315Z
UID:10000316-1748683800-1748687400@urbanaplaceseniorliving.com
SUMMARY:Devotional & This Day in History
DESCRIPTION:
URL:https://urbanaplaceseniorliving.com/event-calendar/devotional-this-day-in-history-5/
CATEGORIES:Legacy Court
END:VEVENT
BEGIN:VEVENT
DTSTART;TZID=America/Chicago:20250531T080000
DTEND;TZID=America/Chicago:20250531T090000
DTSTAMP:20260423T083951
CREATED:20250516T191200Z
LAST-MODIFIED:20250530T211315Z
UID:10000315-1748678400-1748682000@urbanaplaceseniorliving.com
SUMMARY:Breakfast
DESCRIPTION:
URL:https://urbanaplaceseniorliving.com/event-calendar/breakfast-15/
CATEGORIES:Legacy Court
END:VEVENT
BEGIN:VEVENT
DTSTART;TZID=America/Chicago:20250530T180000
DTEND;TZID=America/Chicago:20250530T190000
DTSTAMP:20260423T083951
CREATED:20250516T191200Z
LAST-MODIFIED:20250530T211315Z
UID:10000313-1748628000-1748631600@urbanaplaceseniorliving.com
SUMMARY:Puzzles
DESCRIPTION:
URL:https://urbanaplaceseniorliving.com/event-calendar/puzzles-8/
CATEGORIES:Legacy Court
END:VEVENT
BEGIN:VEVENT
DTSTART;TZID=America/Chicago:20250530T170000
DTEND;TZID=America/Chicago:20250530T180000
DTSTAMP:20260423T083951
CREATED:20250516T191200Z
LAST-MODIFIED:20250530T211315Z
UID:10000314-1748624400-1748628000@urbanaplaceseniorliving.com
SUMMARY:Dinner & Oshibori
DESCRIPTION:
URL:https://urbanaplaceseniorliving.com/event-calendar/dinner-oshibori-15/
CATEGORIES:Legacy Court
END:VEVENT
BEGIN:VEVENT
DTSTART;TZID=America/Chicago:20250530T160000
DTEND;TZID=America/Chicago:20250530T170000
DTSTAMP:20260423T083951
CREATED:20250516T191200Z
LAST-MODIFIED:20250530T211315Z
UID:10000312-1748620800-1748624400@urbanaplaceseniorliving.com
SUMMARY:Walking Group
DESCRIPTION:
URL:https://urbanaplaceseniorliving.com/event-calendar/walking-group-10/
CATEGORIES:Legacy Court
END:VEVENT
BEGIN:VEVENT
DTSTART;TZID=America/Chicago:20250530T143000
DTEND;TZID=America/Chicago:20250530T153000
DTSTAMP:20260423T083951
CREATED:20250516T191200Z
LAST-MODIFIED:20250529T211344Z
UID:10000311-1748615400-1748619000@urbanaplaceseniorliving.com
SUMMARY:Magazines & Music
DESCRIPTION:
URL:https://urbanaplaceseniorliving.com/event-calendar/magazines-music-2/
CATEGORIES:Legacy Court
END:VEVENT
BEGIN:VEVENT
DTSTART;TZID=America/Chicago:20250530T140000
DTEND;TZID=America/Chicago:20250530T150000
DTSTAMP:20260423T083951
CREATED:20250516T191200Z
LAST-MODIFIED:20250529T211344Z
UID:10000310-1748613600-1748617200@urbanaplaceseniorliving.com
SUMMARY:Root Beer Floats Social
DESCRIPTION:
URL:https://urbanaplaceseniorliving.com/event-calendar/root-beer-floats-social/
CATEGORIES:Legacy Court
END:VEVENT
BEGIN:VEVENT
DTSTART;TZID=America/Chicago:20250530T131500
DTEND;TZID=America/Chicago:20250530T141500
DTSTAMP:20260423T083951
CREATED:20250516T191200Z
LAST-MODIFIED:20250529T211344Z
UID:10000309-1748610900-1748614500@urbanaplaceseniorliving.com
SUMMARY:Board/Card Games
DESCRIPTION:
URL:https://urbanaplaceseniorliving.com/event-calendar/board-card-games/
CATEGORIES:Legacy Court
END:VEVENT
BEGIN:VEVENT
DTSTART;TZID=America/Chicago:20250530T120000
DTEND;TZID=America/Chicago:20250530T130000
DTSTAMP:20260423T083951
CREATED:20250516T191200Z
LAST-MODIFIED:20250529T211344Z
UID:10000308-1748606400-1748610000@urbanaplaceseniorliving.com
SUMMARY:Lunch & Oshibori
DESCRIPTION:
URL:https://urbanaplaceseniorliving.com/event-calendar/lunch-oshibori-14/
CATEGORIES:Legacy Court
END:VEVENT
BEGIN:VEVENT
DTSTART;TZID=America/Chicago:20250530T113000
DTEND;TZID=America/Chicago:20250530T123000
DTSTAMP:20260423T083951
CREATED:20250516T191200Z
LAST-MODIFIED:20250529T211344Z
UID:10000307-1748604600-1748608200@urbanaplaceseniorliving.com
SUMMARY:Sing-Along
DESCRIPTION:
URL:https://urbanaplaceseniorliving.com/event-calendar/sing-along-2/
CATEGORIES:Legacy Court
END:VEVENT
BEGIN:VEVENT
DTSTART;TZID=America/Chicago:20250530T104500
DTEND;TZID=America/Chicago:20250530T114500
DTSTAMP:20260423T083951
CREATED:20250516T191200Z
LAST-MODIFIED:20250529T211345Z
UID:10000304-1748601900-1748605500@urbanaplaceseniorliving.com
SUMMARY:Red or Black Cards
DESCRIPTION:
URL:https://urbanaplaceseniorliving.com/event-calendar/red-or-black-cards-2/
CATEGORIES:Legacy Court
END:VEVENT
BEGIN:VEVENT
DTSTART;TZID=America/Chicago:20250530T101500
DTEND;TZID=America/Chicago:20250530T111500
DTSTAMP:20260423T083951
CREATED:20250516T191200Z
LAST-MODIFIED:20250529T211345Z
UID:10000306-1748600100-1748603700@urbanaplaceseniorliving.com
SUMMARY:Group Exercise
DESCRIPTION:
URL:https://urbanaplaceseniorliving.com/event-calendar/group-exercise-3/
CATEGORIES:Legacy Court
END:VEVENT
BEGIN:VEVENT
DTSTART;TZID=America/Chicago:20250530T094500
DTEND;TZID=America/Chicago:20250530T104500
DTSTAMP:20260423T083951
CREATED:20250516T191200Z
LAST-MODIFIED:20250529T211345Z
UID:10000305-1748598300-1748601900@urbanaplaceseniorliving.com
SUMMARY:Devotional & This Day in History
DESCRIPTION:
URL:https://urbanaplaceseniorliving.com/event-calendar/devotional-this-day-in-history-4/
CATEGORIES:Legacy Court
END:VEVENT
BEGIN:VEVENT
DTSTART;TZID=America/Chicago:20250530T080000
DTEND;TZID=America/Chicago:20250530T090000
DTSTAMP:20260423T083951
CREATED:20250516T191200Z
LAST-MODIFIED:20250529T211345Z
UID:10000303-1748592000-1748595600@urbanaplaceseniorliving.com
SUMMARY:Breakfast
DESCRIPTION:
URL:https://urbanaplaceseniorliving.com/event-calendar/breakfast-14/
CATEGORIES:Legacy Court
END:VEVENT
BEGIN:VEVENT
DTSTART;TZID=America/Chicago:20250529T190000
DTEND;TZID=America/Chicago:20250529T200000
DTSTAMP:20260423T083951
CREATED:20250516T191159Z
LAST-MODIFIED:20250529T211345Z
UID:10000302-1748545200-1748548800@urbanaplaceseniorliving.com
SUMMARY:Movie & Snack
DESCRIPTION:
URL:https://urbanaplaceseniorliving.com/event-calendar/movie-snack-2/
CATEGORIES:Legacy Court
END:VEVENT
END:VCALENDAR