BEGIN:VCALENDAR
VERSION:2.0
PRODID:-//Urbana Place Senior Living in Brooklyn Park - ECPv6.11.2.1//NONSGML v1.0//EN
CALSCALE:GREGORIAN
METHOD:PUBLISH
X-WR-CALNAME:Urbana Place Senior Living in Brooklyn Park
X-ORIGINAL-URL:https://urbanaplaceseniorliving.com
X-WR-CALDESC:Events for Urbana Place Senior Living in Brooklyn Park
REFRESH-INTERVAL;VALUE=DURATION:PT1H
X-Robots-Tag:noindex
X-PUBLISHED-TTL:PT1H
BEGIN:VTIMEZONE
TZID:America/Chicago
BEGIN:DAYLIGHT
TZOFFSETFROM:-0600
TZOFFSETTO:-0500
TZNAME:CDT
DTSTART:20250309T080000
END:DAYLIGHT
BEGIN:STANDARD
TZOFFSETFROM:-0500
TZOFFSETTO:-0600
TZNAME:CST
DTSTART:20251102T070000
END:STANDARD
END:VTIMEZONE
BEGIN:VEVENT
DTSTART;TZID=America/Chicago:20250603T163000
DTEND;TZID=America/Chicago:20250603T173000
DTSTAMP:20260423T042036
CREATED:20250527T211326Z
LAST-MODIFIED:20250603T212818Z
UID:10000583-1748968200-1748971800@urbanaplaceseniorliving.com
SUMMARY:Walking Group
DESCRIPTION:
URL:https://urbanaplaceseniorliving.com/event-calendar/walking-group-27/
CATEGORIES:Legacy Court
END:VEVENT
BEGIN:VEVENT
DTSTART;TZID=America/Chicago:20250603T160000
DTEND;TZID=America/Chicago:20250603T170000
DTSTAMP:20260423T042036
CREATED:20250527T211326Z
LAST-MODIFIED:20250603T212818Z
UID:10000584-1748966400-1748970000@urbanaplaceseniorliving.com
SUMMARY:That's It Game
DESCRIPTION:
URL:https://urbanaplaceseniorliving.com/event-calendar/thats-it-game-4/
CATEGORIES:Legacy Court
END:VEVENT
BEGIN:VEVENT
DTSTART;TZID=America/Chicago:20250603T151500
DTEND;TZID=America/Chicago:20250603T161500
DTSTAMP:20260423T042036
CREATED:20250527T211326Z
LAST-MODIFIED:20250602T212810Z
UID:10000582-1748963700-1748967300@urbanaplaceseniorliving.com
SUMMARY:Aquapaintings
DESCRIPTION:
URL:https://urbanaplaceseniorliving.com/event-calendar/aquapaintings-2/
CATEGORIES:Legacy Court
END:VEVENT
BEGIN:VEVENT
DTSTART;TZID=America/Chicago:20250603T143000
DTEND;TZID=America/Chicago:20250603T153000
DTSTAMP:20260423T042036
CREATED:20250527T211326Z
LAST-MODIFIED:20250602T212810Z
UID:10000581-1748961000-1748964600@urbanaplaceseniorliving.com
SUMMARY:Berry Parfaits & Trivia
DESCRIPTION:
URL:https://urbanaplaceseniorliving.com/event-calendar/berry-parfaits-trivia/
CATEGORIES:Legacy Court
END:VEVENT
BEGIN:VEVENT
DTSTART;TZID=America/Chicago:20250603T133000
DTEND;TZID=America/Chicago:20250603T143000
DTSTAMP:20260423T042036
CREATED:20250527T211326Z
LAST-MODIFIED:20250602T212810Z
UID:10000580-1748957400-1748961000@urbanaplaceseniorliving.com
SUMMARY:Toss n' Talk Ball
DESCRIPTION:
URL:https://urbanaplaceseniorliving.com/event-calendar/toss-n-talk-ball-12/
CATEGORIES:Legacy Court
END:VEVENT
BEGIN:VEVENT
DTSTART;TZID=America/Chicago:20250603T120000
DTEND;TZID=America/Chicago:20250603T130000
DTSTAMP:20260423T042036
CREATED:20250516T191201Z
LAST-MODIFIED:20250602T212813Z
UID:10000346-1748952000-1748955600@urbanaplaceseniorliving.com
SUMMARY:Lunch & Oshibori
DESCRIPTION:
URL:https://urbanaplaceseniorliving.com/event-calendar/lunch-oshibori-18/
CATEGORIES:Legacy Court
END:VEVENT
BEGIN:VEVENT
DTSTART;TZID=America/Chicago:20250603T113000
DTEND;TZID=America/Chicago:20250603T123000
DTSTAMP:20260423T042036
CREATED:20250527T211326Z
LAST-MODIFIED:20250602T212813Z
UID:10000579-1748950200-1748953800@urbanaplaceseniorliving.com
SUMMARY:Fathers A-Z
DESCRIPTION:
URL:https://urbanaplaceseniorliving.com/event-calendar/fathers-a-z/
CATEGORIES:Legacy Court
END:VEVENT
BEGIN:VEVENT
DTSTART;TZID=America/Chicago:20250603T110000
DTEND;TZID=America/Chicago:20250603T120000
DTSTAMP:20260423T042036
CREATED:20250527T211326Z
LAST-MODIFIED:20250602T212813Z
UID:10000578-1748948400-1748952000@urbanaplaceseniorliving.com
SUMMARY:Connect 4
DESCRIPTION:
URL:https://urbanaplaceseniorliving.com/event-calendar/connect-4-2/
CATEGORIES:Legacy Court
END:VEVENT
BEGIN:VEVENT
DTSTART;TZID=America/Chicago:20250603T103000
DTEND;TZID=America/Chicago:20250603T113000
DTSTAMP:20260423T042036
CREATED:20250527T211326Z
LAST-MODIFIED:20250602T212813Z
UID:10000577-1748946600-1748950200@urbanaplaceseniorliving.com
SUMMARY:Parachute Exercise
DESCRIPTION:
URL:https://urbanaplaceseniorliving.com/event-calendar/parachute-exercise-2/
CATEGORIES:Legacy Court
END:VEVENT
BEGIN:VEVENT
DTSTART;TZID=America/Chicago:20250603T093000
DTEND;TZID=America/Chicago:20250603T103000
DTSTAMP:20260423T042036
CREATED:20250516T191201Z
LAST-MODIFIED:20250602T212813Z
UID:10000345-1748943000-1748946600@urbanaplaceseniorliving.com
SUMMARY:Short Stories Read Aloud
DESCRIPTION:
URL:https://urbanaplaceseniorliving.com/event-calendar/short-stories-read-aloud-3/
CATEGORIES:Legacy Court
END:VEVENT
BEGIN:VEVENT
DTSTART;TZID=America/Chicago:20250603T080000
DTEND;TZID=America/Chicago:20250603T090000
DTSTAMP:20260423T042036
CREATED:20250516T191201Z
LAST-MODIFIED:20250602T212813Z
UID:10000344-1748937600-1748941200@urbanaplaceseniorliving.com
SUMMARY:Breakfast
DESCRIPTION:
URL:https://urbanaplaceseniorliving.com/event-calendar/breakfast-18/
CATEGORIES:Legacy Court
END:VEVENT
BEGIN:VEVENT
DTSTART;TZID=America/Chicago:20250602T180000
DTEND;TZID=America/Chicago:20250602T190000
DTSTAMP:20260423T042036
CREATED:20250516T191201Z
LAST-MODIFIED:20250602T212813Z
UID:10000341-1748887200-1748890800@urbanaplaceseniorliving.com
SUMMARY:1:1 Visits
DESCRIPTION:
URL:https://urbanaplaceseniorliving.com/event-calendar/11-visits-9/
CATEGORIES:Legacy Court
END:VEVENT
BEGIN:VEVENT
DTSTART;TZID=America/Chicago:20250602T170000
DTEND;TZID=America/Chicago:20250602T180000
DTSTAMP:20260423T042036
CREATED:20250516T191201Z
LAST-MODIFIED:20250602T212813Z
UID:10000342-1748883600-1748887200@urbanaplaceseniorliving.com
SUMMARY:Dinner & Oshibori
DESCRIPTION:
URL:https://urbanaplaceseniorliving.com/event-calendar/dinner-oshibori-18/
CATEGORIES:Legacy Court
END:VEVENT
BEGIN:VEVENT
DTSTART;TZID=America/Chicago:20250602T161500
DTEND;TZID=America/Chicago:20250602T171500
DTSTAMP:20260423T042036
CREATED:20250516T191201Z
LAST-MODIFIED:20250602T212813Z
UID:10000343-1748880900-1748884500@urbanaplaceseniorliving.com
SUMMARY:Watermelon Coloring
DESCRIPTION:
URL:https://urbanaplaceseniorliving.com/event-calendar/walking-group-13/
CATEGORIES:Legacy Court
END:VEVENT
BEGIN:VEVENT
DTSTART;TZID=America/Chicago:20250602T153000
DTEND;TZID=America/Chicago:20250602T163000
DTSTAMP:20260423T042036
CREATED:20250527T211326Z
LAST-MODIFIED:20250602T212813Z
UID:10000576-1748878200-1748881800@urbanaplaceseniorliving.com
SUMMARY:Bingo
DESCRIPTION:
URL:https://urbanaplaceseniorliving.com/event-calendar/bingo-8/
CATEGORIES:Legacy Court
END:VEVENT
BEGIN:VEVENT
DTSTART;TZID=America/Chicago:20250602T143000
DTEND;TZID=America/Chicago:20250602T153000
DTSTAMP:20260423T042036
CREATED:20250527T211326Z
LAST-MODIFIED:20250601T212814Z
UID:10000575-1748874600-1748878200@urbanaplaceseniorliving.com
SUMMARY:Bowling
DESCRIPTION:
URL:https://urbanaplaceseniorliving.com/event-calendar/bowling/
CATEGORIES:Legacy Court
END:VEVENT
BEGIN:VEVENT
DTSTART;TZID=America/Chicago:20250602T130000
DTEND;TZID=America/Chicago:20250602T140000
DTSTAMP:20260423T042036
CREATED:20250527T211326Z
LAST-MODIFIED:20250601T212816Z
UID:10000574-1748869200-1748872800@urbanaplaceseniorliving.com
SUMMARY:Planting Patio Flowers w/ Student Volunteers
DESCRIPTION:
URL:https://urbanaplaceseniorliving.com/event-calendar/planting-patio-flowers-w-student-volunteers/
CATEGORIES:Legacy Court
END:VEVENT
BEGIN:VEVENT
DTSTART;TZID=America/Chicago:20250602T120000
DTEND;TZID=America/Chicago:20250602T130000
DTSTAMP:20260423T042036
CREATED:20250516T191201Z
LAST-MODIFIED:20250601T212816Z
UID:10000340-1748865600-1748869200@urbanaplaceseniorliving.com
SUMMARY:Lunch & Oshibori
DESCRIPTION:
URL:https://urbanaplaceseniorliving.com/event-calendar/lunch-oshibori-17/
CATEGORIES:Legacy Court
END:VEVENT
BEGIN:VEVENT
DTSTART;TZID=America/Chicago:20250602T113000
DTEND;TZID=America/Chicago:20250602T123000
DTSTAMP:20260423T042036
CREATED:20250527T211325Z
LAST-MODIFIED:20250601T212816Z
UID:10000573-1748863800-1748867400@urbanaplaceseniorliving.com
SUMMARY:Bee Word Challenge
DESCRIPTION:
URL:https://urbanaplaceseniorliving.com/event-calendar/bee-word-challenge/
CATEGORIES:Legacy Court
END:VEVENT
BEGIN:VEVENT
DTSTART;TZID=America/Chicago:20250602T110000
DTEND;TZID=America/Chicago:20250602T120000
DTSTAMP:20260423T042036
CREATED:20250516T191201Z
LAST-MODIFIED:20250601T212814Z
UID:10000339-1748862000-1748865600@urbanaplaceseniorliving.com
SUMMARY:Six Dice Game
DESCRIPTION:
URL:https://urbanaplaceseniorliving.com/event-calendar/toss-n-talk-ball-4/
CATEGORIES:Legacy Court
END:VEVENT
BEGIN:VEVENT
DTSTART;TZID=America/Chicago:20250602T103000
DTEND;TZID=America/Chicago:20250602T113000
DTSTAMP:20260423T042036
CREATED:20250516T191132Z
LAST-MODIFIED:20250601T212816Z
UID:10000087-1748860200-1748863800@urbanaplaceseniorliving.com
SUMMARY:Bible Study w/Chaplain Russell
DESCRIPTION:Join Chaplain Russell in the 1st floor Bistro
URL:https://urbanaplaceseniorliving.com/event-calendar/bible-study-w-chaplain-russell/
LOCATION:Bistro
CATEGORIES:Assisted Living,Legacy Court
END:VEVENT
BEGIN:VEVENT
DTSTART;TZID=America/Chicago:20250602T100000
DTEND;TZID=America/Chicago:20250602T110000
DTSTAMP:20260423T042036
CREATED:20250516T191201Z
LAST-MODIFIED:20250601T212816Z
UID:10000338-1748858400-1748862000@urbanaplaceseniorliving.com
SUMMARY:Morning Stretches
DESCRIPTION:
URL:https://urbanaplaceseniorliving.com/event-calendar/morning-stretches-5/
CATEGORIES:Legacy Court
END:VEVENT
BEGIN:VEVENT
DTSTART;TZID=America/Chicago:20250602T093000
DTEND;TZID=America/Chicago:20250602T103000
DTSTAMP:20260423T042036
CREATED:20250516T191201Z
LAST-MODIFIED:20250601T212816Z
UID:10000337-1748856600-1748860200@urbanaplaceseniorliving.com
SUMMARY:1:1 Visits
DESCRIPTION:
URL:https://urbanaplaceseniorliving.com/event-calendar/11-visits-8/
CATEGORIES:Legacy Court
END:VEVENT
BEGIN:VEVENT
DTSTART;TZID=America/Chicago:20250602T080000
DTEND;TZID=America/Chicago:20250602T090000
DTSTAMP:20260423T042036
CREATED:20250516T191201Z
LAST-MODIFIED:20250601T212816Z
UID:10000336-1748851200-1748854800@urbanaplaceseniorliving.com
SUMMARY:Breakfast
DESCRIPTION:
URL:https://urbanaplaceseniorliving.com/event-calendar/breakfast-17/
CATEGORIES:Legacy Court
END:VEVENT
BEGIN:VEVENT
DTSTART;TZID=America/Chicago:20250601T180000
DTEND;TZID=America/Chicago:20250601T190000
DTSTAMP:20260423T042036
CREATED:20250516T191201Z
LAST-MODIFIED:20250601T212816Z
UID:10000335-1748800800-1748804400@urbanaplaceseniorliving.com
SUMMARY:Sing-Along w/ Susie Q
DESCRIPTION:
URL:https://urbanaplaceseniorliving.com/event-calendar/sing-along-w-susie-q-3/
CATEGORIES:Legacy Court
END:VEVENT
BEGIN:VEVENT
DTSTART;TZID=America/Chicago:20250601T170000
DTEND;TZID=America/Chicago:20250601T180000
DTSTAMP:20260423T042036
CREATED:20250516T191200Z
LAST-MODIFIED:20250601T212816Z
UID:10000334-1748797200-1748800800@urbanaplaceseniorliving.com
SUMMARY:Dinner & Oshibori
DESCRIPTION:
URL:https://urbanaplaceseniorliving.com/event-calendar/dinner-oshibori-17/
CATEGORIES:Legacy Court
END:VEVENT
BEGIN:VEVENT
DTSTART;TZID=America/Chicago:20250601T153000
DTEND;TZID=America/Chicago:20250601T163000
DTSTAMP:20260423T042036
CREATED:20250516T191200Z
LAST-MODIFIED:20250601T212816Z
UID:10000333-1748791800-1748795400@urbanaplaceseniorliving.com
SUMMARY:Walking Group
DESCRIPTION:
URL:https://urbanaplaceseniorliving.com/event-calendar/walking-group-12/
CATEGORIES:Legacy Court
END:VEVENT
BEGIN:VEVENT
DTSTART;TZID=America/Chicago:20250601T140000
DTEND;TZID=America/Chicago:20250601T150000
DTSTAMP:20260423T042036
CREATED:20250516T191200Z
LAST-MODIFIED:20250531T212951Z
UID:10000332-1748786400-1748790000@urbanaplaceseniorliving.com
SUMMARY:Snack & Music
DESCRIPTION:
URL:https://urbanaplaceseniorliving.com/event-calendar/snack-music-3/
CATEGORIES:Legacy Court
END:VEVENT
BEGIN:VEVENT
DTSTART;TZID=America/Chicago:20250601T133000
DTEND;TZID=America/Chicago:20250601T143000
DTSTAMP:20260423T042036
CREATED:20250516T191200Z
LAST-MODIFIED:20250531T212951Z
UID:10000331-1748784600-1748788200@urbanaplaceseniorliving.com
SUMMARY:Conversation Cards
DESCRIPTION:
URL:https://urbanaplaceseniorliving.com/event-calendar/conversation-cards-3/
CATEGORIES:Legacy Court
END:VEVENT
BEGIN:VEVENT
DTSTART;TZID=America/Chicago:20250601T130000
DTEND;TZID=America/Chicago:20250601T140000
DTSTAMP:20260423T042036
CREATED:20250527T211325Z
LAST-MODIFIED:20250531T212952Z
UID:10000572-1748782800-1748786400@urbanaplaceseniorliving.com
SUMMARY:Outdoor Walks
DESCRIPTION:
URL:https://urbanaplaceseniorliving.com/event-calendar/outdoor-walks-2/
CATEGORIES:Legacy Court
END:VEVENT
END:VCALENDAR