BEGIN:VCALENDAR
VERSION:2.0
PRODID:-//Urbana Place Senior Living in Brooklyn Park - ECPv6.11.2.1//NONSGML v1.0//EN
CALSCALE:GREGORIAN
METHOD:PUBLISH
X-ORIGINAL-URL:https://urbanaplaceseniorliving.com
X-WR-CALDESC:Events for Urbana Place Senior Living in Brooklyn Park
REFRESH-INTERVAL;VALUE=DURATION:PT1H
X-Robots-Tag:noindex
X-PUBLISHED-TTL:PT1H
BEGIN:VTIMEZONE
TZID:America/Chicago
BEGIN:DAYLIGHT
TZOFFSETFROM:-0600
TZOFFSETTO:-0500
TZNAME:CDT
DTSTART:20250309T080000
END:DAYLIGHT
BEGIN:STANDARD
TZOFFSETFROM:-0500
TZOFFSETTO:-0600
TZNAME:CST
DTSTART:20251102T070000
END:STANDARD
END:VTIMEZONE
BEGIN:VEVENT
DTSTART;TZID=America/Chicago:20250618T111500
DTEND;TZID=America/Chicago:20250618T121500
DTSTAMP:20260422T030639
CREATED:20250527T211332Z
LAST-MODIFIED:20250615T215812Z
UID:10000638-1750245300-1750248900@urbanaplaceseniorliving.com
SUMMARY:Summer Bingo
DESCRIPTION:
URL:https://urbanaplaceseniorliving.com/event-calendar/summer-bingo/
CATEGORIES:Legacy Court
END:VEVENT
BEGIN:VEVENT
DTSTART;TZID=America/Chicago:20250618T104500
DTEND;TZID=America/Chicago:20250618T114500
DTSTAMP:20260422T030639
CREATED:20250527T211332Z
LAST-MODIFIED:20250615T215812Z
UID:10000637-1750243500-1750247100@urbanaplaceseniorliving.com
SUMMARY:Group Exercise
DESCRIPTION:
URL:https://urbanaplaceseniorliving.com/event-calendar/group-exercise-12/
CATEGORIES:Legacy Court
END:VEVENT
BEGIN:VEVENT
DTSTART;TZID=America/Chicago:20250618T103000
DTEND;TZID=America/Chicago:20250618T113000
DTSTAMP:20260422T030639
CREATED:20250519T191430Z
LAST-MODIFIED:20250615T222915Z
UID:10000470-1750242600-1750246200@urbanaplaceseniorliving.com
SUMMARY:Show & Share w/Chaplain Russell
DESCRIPTION:Bring any special item that you would like to share with others- a photo\, knick knack\, mug\, anything
URL:https://urbanaplaceseniorliving.com/event-calendar/show-share-w-chaplain-russell-2/
LOCATION:Bistro
CATEGORIES:Assisted Living,Legacy Court
END:VEVENT
BEGIN:VEVENT
DTSTART;TZID=America/Chicago:20250618T093000
DTEND;TZID=America/Chicago:20250618T103000
DTSTAMP:20260422T030639
CREATED:20250519T195821Z
LAST-MODIFIED:20250615T215812Z
UID:10000476-1750239000-1750242600@urbanaplaceseniorliving.com
SUMMARY:Hair & Makeup Pampering
DESCRIPTION:
URL:https://urbanaplaceseniorliving.com/event-calendar/hair-makeup-pampering-5/
CATEGORIES:Legacy Court
END:VEVENT
BEGIN:VEVENT
DTSTART;TZID=America/Chicago:20250618T080000
DTEND;TZID=America/Chicago:20250618T090000
DTSTAMP:20260422T030639
CREATED:20250519T195821Z
LAST-MODIFIED:20250615T215812Z
UID:10000475-1750233600-1750237200@urbanaplaceseniorliving.com
SUMMARY:Breakfast
DESCRIPTION:
URL:https://urbanaplaceseniorliving.com/event-calendar/breakfast-33/
CATEGORIES:Legacy Court
END:VEVENT
BEGIN:VEVENT
DTSTART;TZID=America/Chicago:20250617T181000
DTEND;TZID=America/Chicago:20250617T191000
DTSTAMP:20260422T030639
CREATED:20250527T211332Z
LAST-MODIFIED:20250615T215812Z
UID:10000636-1750183800-1750187400@urbanaplaceseniorliving.com
SUMMARY:MN Twins Game - Channel 23
DESCRIPTION:
URL:https://urbanaplaceseniorliving.com/event-calendar/mn-twins-game-channel-23-11/
CATEGORIES:Legacy Court
END:VEVENT
BEGIN:VEVENT
DTSTART;TZID=America/Chicago:20250617T180000
DTEND;TZID=America/Chicago:20250617T190000
DTSTAMP:20260422T030639
CREATED:20250519T195821Z
LAST-MODIFIED:20250615T215812Z
UID:10000474-1750183200-1750186800@urbanaplaceseniorliving.com
SUMMARY:Coloring & Word Finds
DESCRIPTION:
URL:https://urbanaplaceseniorliving.com/event-calendar/coloring-word-finds-10/
CATEGORIES:Legacy Court
END:VEVENT
BEGIN:VEVENT
DTSTART;TZID=America/Chicago:20250617T170000
DTEND;TZID=America/Chicago:20250617T180000
DTSTAMP:20260422T030639
CREATED:20250519T195820Z
LAST-MODIFIED:20250615T215812Z
UID:10000473-1750179600-1750183200@urbanaplaceseniorliving.com
SUMMARY:Dinner & Oshibori
DESCRIPTION:
URL:https://urbanaplaceseniorliving.com/event-calendar/dinner-oshibori-33/
CATEGORIES:Legacy Court
END:VEVENT
BEGIN:VEVENT
DTSTART;TZID=America/Chicago:20250617T154500
DTEND;TZID=America/Chicago:20250617T164500
DTSTAMP:20260422T030639
CREATED:20250527T211332Z
LAST-MODIFIED:20250615T215812Z
UID:10000635-1750175100-1750178700@urbanaplaceseniorliving.com
SUMMARY:Magazines & Music
DESCRIPTION:
URL:https://urbanaplaceseniorliving.com/event-calendar/magazines-music-3/
CATEGORIES:Legacy Court
END:VEVENT
BEGIN:VEVENT
DTSTART;TZID=America/Chicago:20250617T150000
DTEND;TZID=America/Chicago:20250617T160000
DTSTAMP:20260422T030639
CREATED:20250527T211332Z
LAST-MODIFIED:20250615T215812Z
UID:10000634-1750172400-1750176000@urbanaplaceseniorliving.com
SUMMARY:Scent Guessing
DESCRIPTION:
URL:https://urbanaplaceseniorliving.com/event-calendar/scent-guessing-2/
CATEGORIES:Legacy Court
END:VEVENT
BEGIN:VEVENT
DTSTART;TZID=America/Chicago:20250617T133000
DTEND;TZID=America/Chicago:20250617T143000
DTSTAMP:20260422T030639
CREATED:20250527T211332Z
LAST-MODIFIED:20250615T215812Z
UID:10000633-1750167000-1750170600@urbanaplaceseniorliving.com
SUMMARY:Walking Group
DESCRIPTION:
URL:https://urbanaplaceseniorliving.com/event-calendar/walking-group-31/
CATEGORIES:Legacy Court
END:VEVENT
BEGIN:VEVENT
DTSTART;TZID=America/Chicago:20250617T120000
DTEND;TZID=America/Chicago:20250617T130000
DTSTAMP:20260422T030639
CREATED:20250518T194505Z
LAST-MODIFIED:20250615T215812Z
UID:10000463-1750161600-1750165200@urbanaplaceseniorliving.com
SUMMARY:Lunch & Oshibori
DESCRIPTION:
URL:https://urbanaplaceseniorliving.com/event-calendar/lunch-oshibori-32/
CATEGORIES:Legacy Court
END:VEVENT
BEGIN:VEVENT
DTSTART;TZID=America/Chicago:20250617T110000
DTEND;TZID=America/Chicago:20250617T120000
DTSTAMP:20260422T030640
CREATED:20250527T211332Z
LAST-MODIFIED:20250615T215812Z
UID:10000632-1750158000-1750161600@urbanaplaceseniorliving.com
SUMMARY:Summer Garden Hidden Objects
DESCRIPTION:
URL:https://urbanaplaceseniorliving.com/event-calendar/summer-garden-hidden-objects/
CATEGORIES:Legacy Court
END:VEVENT
BEGIN:VEVENT
DTSTART;TZID=America/Chicago:20250617T103000
DTEND;TZID=America/Chicago:20250617T113000
DTSTAMP:20260422T030640
CREATED:20250527T211332Z
LAST-MODIFIED:20250615T215812Z
UID:10000631-1750156200-1750159800@urbanaplaceseniorliving.com
SUMMARY:Manicures
DESCRIPTION:
URL:https://urbanaplaceseniorliving.com/event-calendar/manicures-8/
CATEGORIES:Legacy Court
END:VEVENT
BEGIN:VEVENT
DTSTART;TZID=America/Chicago:20250617T100000
DTEND;TZID=America/Chicago:20250617T110000
DTSTAMP:20260422T030640
CREATED:20250527T211331Z
LAST-MODIFIED:20250615T215812Z
UID:10000630-1750154400-1750158000@urbanaplaceseniorliving.com
SUMMARY:Group Exercise
DESCRIPTION:
URL:https://urbanaplaceseniorliving.com/event-calendar/group-exercise-11/
CATEGORIES:Legacy Court
END:VEVENT
BEGIN:VEVENT
DTSTART;TZID=America/Chicago:20250617T093000
DTEND;TZID=America/Chicago:20250617T103000
DTSTAMP:20260422T030640
CREATED:20250518T194505Z
LAST-MODIFIED:20250615T215812Z
UID:10000462-1750152600-1750156200@urbanaplaceseniorliving.com
SUMMARY:Short Stories Read Aloud
DESCRIPTION:
URL:https://urbanaplaceseniorliving.com/event-calendar/short-stories-read-aloud-5/
CATEGORIES:Legacy Court
END:VEVENT
BEGIN:VEVENT
DTSTART;TZID=America/Chicago:20250617T080000
DTEND;TZID=America/Chicago:20250617T090000
DTSTAMP:20260422T030640
CREATED:20250518T194505Z
LAST-MODIFIED:20250615T215812Z
UID:10000461-1750147200-1750150800@urbanaplaceseniorliving.com
SUMMARY:Breakfast
DESCRIPTION:
URL:https://urbanaplaceseniorliving.com/event-calendar/breakfast-32/
CATEGORIES:Legacy Court
END:VEVENT
BEGIN:VEVENT
DTSTART;TZID=America/Chicago:20250616T180000
DTEND;TZID=America/Chicago:20250616T190000
DTSTAMP:20260422T030640
CREATED:20250518T194505Z
LAST-MODIFIED:20250615T215812Z
UID:10000460-1750096800-1750100400@urbanaplaceseniorliving.com
SUMMARY:1:1 Visits
DESCRIPTION:
URL:https://urbanaplaceseniorliving.com/event-calendar/11-visits-15/
CATEGORIES:Legacy Court
END:VEVENT
BEGIN:VEVENT
DTSTART;TZID=America/Chicago:20250616T170000
DTEND;TZID=America/Chicago:20250616T180000
DTSTAMP:20260422T030640
CREATED:20250518T194505Z
LAST-MODIFIED:20250615T215812Z
UID:10000459-1750093200-1750096800@urbanaplaceseniorliving.com
SUMMARY:Dinner & Oshibori
DESCRIPTION:
URL:https://urbanaplaceseniorliving.com/event-calendar/dinner-oshibori-32/
CATEGORIES:Legacy Court
END:VEVENT
BEGIN:VEVENT
DTSTART;TZID=America/Chicago:20250616T160000
DTEND;TZID=America/Chicago:20250616T170000
DTSTAMP:20260422T030640
CREATED:20250518T194505Z
LAST-MODIFIED:20250615T215812Z
UID:10000458-1750089600-1750093200@urbanaplaceseniorliving.com
SUMMARY:Walking Group
DESCRIPTION:
URL:https://urbanaplaceseniorliving.com/event-calendar/walking-group-21/
CATEGORIES:Legacy Court
END:VEVENT
BEGIN:VEVENT
DTSTART;TZID=America/Chicago:20250616T141500
DTEND;TZID=America/Chicago:20250616T151500
DTSTAMP:20260422T030640
CREATED:20250527T211331Z
LAST-MODIFIED:20250615T215816Z
UID:10000629-1750083300-1750086900@urbanaplaceseniorliving.com
SUMMARY:Lemonade on the Patio
DESCRIPTION:
URL:https://urbanaplaceseniorliving.com/event-calendar/lemonade-on-the-patio-3/
CATEGORIES:Legacy Court
END:VEVENT
BEGIN:VEVENT
DTSTART;TZID=America/Chicago:20250616T133000
DTEND;TZID=America/Chicago:20250616T143000
DTSTAMP:20260422T030640
CREATED:20250517T191426Z
LAST-MODIFIED:20250615T222918Z
UID:10000432-1750080600-1750084200@urbanaplaceseniorliving.com
SUMMARY:Nolan's Piano Performance
DESCRIPTION:
URL:https://urbanaplaceseniorliving.com/event-calendar/nolans-piano-performance-2/
LOCATION:Legacy Court
CATEGORIES:Assisted Living,Legacy Court
END:VEVENT
BEGIN:VEVENT
DTSTART;TZID=America/Chicago:20250616T120000
DTEND;TZID=America/Chicago:20250616T130000
DTSTAMP:20260422T030640
CREATED:20250518T194505Z
LAST-MODIFIED:20250615T215816Z
UID:10000457-1750075200-1750078800@urbanaplaceseniorliving.com
SUMMARY:Lunch & Oshibori
DESCRIPTION:
URL:https://urbanaplaceseniorliving.com/event-calendar/lunch-oshibori-31/
CATEGORIES:Legacy Court
END:VEVENT
BEGIN:VEVENT
DTSTART;TZID=America/Chicago:20250616T111500
DTEND;TZID=America/Chicago:20250616T121500
DTSTAMP:20260422T030640
CREATED:20250518T194505Z
LAST-MODIFIED:20250615T215816Z
UID:10000455-1750072500-1750076100@urbanaplaceseniorliving.com
SUMMARY:Toss n' Talk Ball
DESCRIPTION:
URL:https://urbanaplaceseniorliving.com/event-calendar/toss-n-talk-ball-8/
CATEGORIES:Legacy Court
END:VEVENT
BEGIN:VEVENT
DTSTART;TZID=America/Chicago:20250616T103000
DTEND;TZID=America/Chicago:20250616T113000
DTSTAMP:20260422T030640
CREATED:20250527T211331Z
LAST-MODIFIED:20250615T215816Z
UID:10000628-1750069800-1750073400@urbanaplaceseniorliving.com
SUMMARY:Hymn Sing w/ Chaplain Russell
DESCRIPTION:
URL:https://urbanaplaceseniorliving.com/event-calendar/hymn-sing-w-chaplain-russell-6/
CATEGORIES:Legacy Court
END:VEVENT
BEGIN:VEVENT
DTSTART;TZID=America/Chicago:20250616T100000
DTEND;TZID=America/Chicago:20250616T110000
DTSTAMP:20260422T030640
CREATED:20250518T194505Z
LAST-MODIFIED:20250615T215816Z
UID:10000456-1750068000-1750071600@urbanaplaceseniorliving.com
SUMMARY:Morning Stretches
DESCRIPTION:
URL:https://urbanaplaceseniorliving.com/event-calendar/morning-stretches-9/
CATEGORIES:Legacy Court
END:VEVENT
BEGIN:VEVENT
DTSTART;TZID=America/Chicago:20250616T091500
DTEND;TZID=America/Chicago:20250616T101500
DTSTAMP:20260422T030640
CREATED:20250518T194505Z
LAST-MODIFIED:20250615T215816Z
UID:10000454-1750065300-1750068900@urbanaplaceseniorliving.com
SUMMARY:1:1 Visits
DESCRIPTION:
URL:https://urbanaplaceseniorliving.com/event-calendar/11-visits-14/
CATEGORIES:Legacy Court
END:VEVENT
BEGIN:VEVENT
DTSTART;TZID=America/Chicago:20250616T080000
DTEND;TZID=America/Chicago:20250616T090000
DTSTAMP:20260422T030640
CREATED:20250518T194505Z
LAST-MODIFIED:20250615T215816Z
UID:10000453-1750060800-1750064400@urbanaplaceseniorliving.com
SUMMARY:Breakfast
DESCRIPTION:
URL:https://urbanaplaceseniorliving.com/event-calendar/breakfast-31/
CATEGORIES:Legacy Court
END:VEVENT
BEGIN:VEVENT
DTSTART;TZID=America/Chicago:20250615T180000
DTEND;TZID=America/Chicago:20250615T190000
DTSTAMP:20260422T030640
CREATED:20250518T194504Z
LAST-MODIFIED:20250615T215816Z
UID:10000452-1750010400-1750014000@urbanaplaceseniorliving.com
SUMMARY:Sing-Along w/ Susie Q
DESCRIPTION:
URL:https://urbanaplaceseniorliving.com/event-calendar/sing-along-w-susie-q-5/
CATEGORIES:Legacy Court
END:VEVENT
BEGIN:VEVENT
DTSTART;TZID=America/Chicago:20250615T170000
DTEND;TZID=America/Chicago:20250615T180000
DTSTAMP:20260422T030640
CREATED:20250518T194504Z
LAST-MODIFIED:20250615T215816Z
UID:10000451-1750006800-1750010400@urbanaplaceseniorliving.com
SUMMARY:Dinner & Oshibori
DESCRIPTION:
URL:https://urbanaplaceseniorliving.com/event-calendar/dinner-oshibori-31/
CATEGORIES:Legacy Court
END:VEVENT
END:VCALENDAR