BEGIN:VCALENDAR
VERSION:2.0
PRODID:-//Urbana Place Senior Living in Brooklyn Park - ECPv6.11.2.1//NONSGML v1.0//EN
CALSCALE:GREGORIAN
METHOD:PUBLISH
X-WR-CALNAME:Urbana Place Senior Living in Brooklyn Park
X-ORIGINAL-URL:https://urbanaplaceseniorliving.com
X-WR-CALDESC:Events for Urbana Place Senior Living in Brooklyn Park
REFRESH-INTERVAL;VALUE=DURATION:PT1H
X-Robots-Tag:noindex
X-PUBLISHED-TTL:PT1H
BEGIN:VTIMEZONE
TZID:America/Chicago
BEGIN:DAYLIGHT
TZOFFSETFROM:-0600
TZOFFSETTO:-0500
TZNAME:CDT
DTSTART:20250309T080000
END:DAYLIGHT
BEGIN:STANDARD
TZOFFSETFROM:-0500
TZOFFSETTO:-0600
TZNAME:CST
DTSTART:20251102T070000
END:STANDARD
END:VTIMEZONE
BEGIN:VEVENT
DTSTART;TZID=America/Chicago:20250629T100000
DTEND;TZID=America/Chicago:20250629T110000
DTSTAMP:20260421T084605
CREATED:20250604T213005Z
LAST-MODIFIED:20250629T094341Z
UID:10000729-1751191200-1751194800@urbanaplaceseniorliving.com
SUMMARY:1:1 Visits
DESCRIPTION:
URL:https://urbanaplaceseniorliving.com/event-calendar/11-visits-20/
CATEGORIES:Legacy Court
END:VEVENT
BEGIN:VEVENT
DTSTART;TZID=America/Chicago:20250629T080000
DTEND;TZID=America/Chicago:20250629T090000
DTSTAMP:20260421T084605
CREATED:20250604T213005Z
LAST-MODIFIED:20250629T094341Z
UID:10000728-1751184000-1751187600@urbanaplaceseniorliving.com
SUMMARY:Breakfast
DESCRIPTION:
URL:https://urbanaplaceseniorliving.com/event-calendar/breakfast-44/
CATEGORIES:Legacy Court
END:VEVENT
BEGIN:VEVENT
DTSTART;TZID=America/Chicago:20250628T180000
DTEND;TZID=America/Chicago:20250628T190000
DTSTAMP:20260421T084605
CREATED:20250603T212825Z
LAST-MODIFIED:20250628T094333Z
UID:10000725-1751133600-1751137200@urbanaplaceseniorliving.com
SUMMARY:Coloring & Word Finds
DESCRIPTION:
URL:https://urbanaplaceseniorliving.com/event-calendar/coloring-word-finds-13/
CATEGORIES:Legacy Court
END:VEVENT
BEGIN:VEVENT
DTSTART;TZID=America/Chicago:20250628T170000
DTEND;TZID=America/Chicago:20250628T180000
DTSTAMP:20260421T084605
CREATED:20250603T212825Z
LAST-MODIFIED:20250628T094333Z
UID:10000724-1751130000-1751133600@urbanaplaceseniorliving.com
SUMMARY:Dinner & Oshibori
DESCRIPTION:
URL:https://urbanaplaceseniorliving.com/event-calendar/dinner-oshibori-44/
CATEGORIES:Legacy Court
END:VEVENT
BEGIN:VEVENT
DTSTART;TZID=America/Chicago:20250628T161500
DTEND;TZID=America/Chicago:20250628T171500
DTSTAMP:20260421T084605
CREATED:20250603T212825Z
LAST-MODIFIED:20250628T094333Z
UID:10000723-1751127300-1751130900@urbanaplaceseniorliving.com
SUMMARY:Toss n' Talk Ball
DESCRIPTION:
URL:https://urbanaplaceseniorliving.com/event-calendar/toss-n-talk-ball-16/
CATEGORIES:Legacy Court
END:VEVENT
BEGIN:VEVENT
DTSTART;TZID=America/Chicago:20250628T154500
DTEND;TZID=America/Chicago:20250628T164500
DTSTAMP:20260421T084605
CREATED:20250603T212825Z
LAST-MODIFIED:20250628T094333Z
UID:10000722-1751125500-1751129100@urbanaplaceseniorliving.com
SUMMARY:Walking Group
DESCRIPTION:
URL:https://urbanaplaceseniorliving.com/event-calendar/walking-group-38/
CATEGORIES:Legacy Court
END:VEVENT
BEGIN:VEVENT
DTSTART;TZID=America/Chicago:20250628T133000
DTEND;TZID=America/Chicago:20250628T143000
DTSTAMP:20260421T084605
CREATED:20250603T212825Z
LAST-MODIFIED:20250628T094333Z
UID:10000721-1751117400-1751121000@urbanaplaceseniorliving.com
SUMMARY:Movie & Popcorn
DESCRIPTION:
URL:https://urbanaplaceseniorliving.com/event-calendar/movie-popcorn-7/
CATEGORIES:Legacy Court
END:VEVENT
BEGIN:VEVENT
DTSTART;TZID=America/Chicago:20250628T120000
DTEND;TZID=America/Chicago:20250628T130000
DTSTAMP:20260421T084605
CREATED:20250603T212825Z
LAST-MODIFIED:20250628T094333Z
UID:10000720-1751112000-1751115600@urbanaplaceseniorliving.com
SUMMARY:Lunch & Oshibori
DESCRIPTION:
URL:https://urbanaplaceseniorliving.com/event-calendar/lunch-oshibori-43/
CATEGORIES:Legacy Court
END:VEVENT
BEGIN:VEVENT
DTSTART;TZID=America/Chicago:20250628T110000
DTEND;TZID=America/Chicago:20250628T120000
DTSTAMP:20260421T084605
CREATED:20250603T212825Z
LAST-MODIFIED:20250628T094333Z
UID:10000719-1751108400-1751112000@urbanaplaceseniorliving.com
SUMMARY:Coffee & Conversation
DESCRIPTION:
URL:https://urbanaplaceseniorliving.com/event-calendar/coffee-conversation-7/
CATEGORIES:Legacy Court
END:VEVENT
BEGIN:VEVENT
DTSTART;TZID=America/Chicago:20250628T100000
DTEND;TZID=America/Chicago:20250628T110000
DTSTAMP:20260421T084605
CREATED:20250603T212825Z
LAST-MODIFIED:20250628T094332Z
UID:10000718-1751104800-1751108400@urbanaplaceseniorliving.com
SUMMARY:Noodle Ball
DESCRIPTION:
URL:https://urbanaplaceseniorliving.com/event-calendar/noodle-ball-10/
CATEGORIES:Legacy Court
END:VEVENT
BEGIN:VEVENT
DTSTART;TZID=America/Chicago:20250628T093000
DTEND;TZID=America/Chicago:20250628T103000
DTSTAMP:20260421T084605
CREATED:20250603T212825Z
LAST-MODIFIED:20250628T094332Z
UID:10000717-1751103000-1751106600@urbanaplaceseniorliving.com
SUMMARY:Devotional & This Day in History
DESCRIPTION:
URL:https://urbanaplaceseniorliving.com/event-calendar/devotional-this-day-in-history-13/
CATEGORIES:Legacy Court
END:VEVENT
BEGIN:VEVENT
DTSTART;TZID=America/Chicago:20250628T080000
DTEND;TZID=America/Chicago:20250628T090000
DTSTAMP:20260421T084605
CREATED:20250603T212825Z
LAST-MODIFIED:20250628T094332Z
UID:10000716-1751097600-1751101200@urbanaplaceseniorliving.com
SUMMARY:Breakfast
DESCRIPTION:
URL:https://urbanaplaceseniorliving.com/event-calendar/breakfast-43/
CATEGORIES:Legacy Court
END:VEVENT
BEGIN:VEVENT
DTSTART;TZID=America/Chicago:20250627T180000
DTEND;TZID=America/Chicago:20250627T190000
DTSTAMP:20260421T084605
CREATED:20250603T212825Z
LAST-MODIFIED:20250627T094312Z
UID:10000715-1751047200-1751050800@urbanaplaceseniorliving.com
SUMMARY:Puzzles
DESCRIPTION:
URL:https://urbanaplaceseniorliving.com/event-calendar/puzzles-19/
CATEGORIES:Legacy Court
END:VEVENT
BEGIN:VEVENT
DTSTART;TZID=America/Chicago:20250627T170000
DTEND;TZID=America/Chicago:20250627T180000
DTSTAMP:20260421T084605
CREATED:20250603T212825Z
LAST-MODIFIED:20250627T094313Z
UID:10000714-1751043600-1751047200@urbanaplaceseniorliving.com
SUMMARY:Dinner & Oshibori
DESCRIPTION:
URL:https://urbanaplaceseniorliving.com/event-calendar/dinner-oshibori-43/
CATEGORIES:Legacy Court
END:VEVENT
BEGIN:VEVENT
DTSTART;TZID=America/Chicago:20250627T160000
DTEND;TZID=America/Chicago:20250627T170000
DTSTAMP:20260421T084605
CREATED:20250603T212825Z
LAST-MODIFIED:20250627T094313Z
UID:10000713-1751040000-1751043600@urbanaplaceseniorliving.com
SUMMARY:Sing-Along
DESCRIPTION:
URL:https://urbanaplaceseniorliving.com/event-calendar/sing-along-6/
CATEGORIES:Legacy Court
END:VEVENT
BEGIN:VEVENT
DTSTART;TZID=America/Chicago:20250627T143000
DTEND;TZID=America/Chicago:20250627T153000
DTSTAMP:20260421T084605
CREATED:20250602T212820Z
LAST-MODIFIED:20250627T094313Z
UID:10000710-1751034600-1751038200@urbanaplaceseniorliving.com
SUMMARY:Happy Hour
DESCRIPTION:
URL:https://urbanaplaceseniorliving.com/event-calendar/happy-hour-3/
CATEGORIES:Legacy Court
END:VEVENT
BEGIN:VEVENT
DTSTART;TZID=America/Chicago:20250627T133000
DTEND;TZID=America/Chicago:20250627T143000
DTSTAMP:20260421T084605
CREATED:20250602T212820Z
LAST-MODIFIED:20250627T094313Z
UID:10000708-1751031000-1751034600@urbanaplaceseniorliving.com
SUMMARY:Walking Group
DESCRIPTION:
URL:https://urbanaplaceseniorliving.com/event-calendar/walking-group-37/
CATEGORIES:Legacy Court
END:VEVENT
BEGIN:VEVENT
DTSTART;TZID=America/Chicago:20250627T133000
DTEND;TZID=America/Chicago:20250627T143000
DTSTAMP:20260421T084605
CREATED:20250602T212820Z
LAST-MODIFIED:20250627T094313Z
UID:10000709-1751031000-1751034600@urbanaplaceseniorliving.com
SUMMARY:Crossword Puzzles
DESCRIPTION:
URL:https://urbanaplaceseniorliving.com/event-calendar/crossword-puzzles-2/
CATEGORIES:Legacy Court
END:VEVENT
BEGIN:VEVENT
DTSTART;TZID=America/Chicago:20250627T120000
DTEND;TZID=America/Chicago:20250627T130000
DTSTAMP:20260421T084605
CREATED:20250602T212819Z
LAST-MODIFIED:20250627T094313Z
UID:10000705-1751025600-1751029200@urbanaplaceseniorliving.com
SUMMARY:Lunch & Oshibori
DESCRIPTION:
URL:https://urbanaplaceseniorliving.com/event-calendar/lunch-oshibori-42/
CATEGORIES:Legacy Court
END:VEVENT
BEGIN:VEVENT
DTSTART;TZID=America/Chicago:20250627T113000
DTEND;TZID=America/Chicago:20250627T123000
DTSTAMP:20260421T084605
CREATED:20250602T212820Z
LAST-MODIFIED:20250627T094313Z
UID:10000706-1751023800-1751027400@urbanaplaceseniorliving.com
SUMMARY:Toss n' Talk Ball
DESCRIPTION:
URL:https://urbanaplaceseniorliving.com/event-calendar/toss-n-talk-ball-15/
CATEGORIES:Legacy Court
END:VEVENT
BEGIN:VEVENT
DTSTART;TZID=America/Chicago:20250627T110000
DTEND;TZID=America/Chicago:20250627T120000
DTSTAMP:20260421T084605
CREATED:20250602T212820Z
LAST-MODIFIED:20250627T094313Z
UID:10000707-1751022000-1751025600@urbanaplaceseniorliving.com
SUMMARY:Visit w/ Laurie & Dog Rosie
DESCRIPTION:
URL:https://urbanaplaceseniorliving.com/event-calendar/visit-w-laurie-dog-rosie/
CATEGORIES:Legacy Court
END:VEVENT
BEGIN:VEVENT
DTSTART;TZID=America/Chicago:20250627T094500
DTEND;TZID=America/Chicago:20250627T104500
DTSTAMP:20260421T084605
CREATED:20250602T212819Z
LAST-MODIFIED:20250627T094313Z
UID:10000704-1751017500-1751021100@urbanaplaceseniorliving.com
SUMMARY:Devotional & This Day in History
DESCRIPTION:
URL:https://urbanaplaceseniorliving.com/event-calendar/devotional-this-day-in-history-12/
CATEGORIES:Legacy Court
END:VEVENT
BEGIN:VEVENT
DTSTART;TZID=America/Chicago:20250627T080000
DTEND;TZID=America/Chicago:20250627T090000
DTSTAMP:20260421T084605
CREATED:20250602T212819Z
LAST-MODIFIED:20250627T094313Z
UID:10000703-1751011200-1751014800@urbanaplaceseniorliving.com
SUMMARY:Breakfast
DESCRIPTION:
URL:https://urbanaplaceseniorliving.com/event-calendar/breakfast-42/
CATEGORIES:Legacy Court
END:VEVENT
BEGIN:VEVENT
DTSTART;TZID=America/Chicago:20250626T183000
DTEND;TZID=America/Chicago:20250626T193000
DTSTAMP:20260421T084605
CREATED:20250602T212819Z
LAST-MODIFIED:20250626T094331Z
UID:10000702-1750962600-1750966200@urbanaplaceseniorliving.com
SUMMARY:Movie & Snack
DESCRIPTION:
URL:https://urbanaplaceseniorliving.com/event-calendar/movie-snack-6/
CATEGORIES:Legacy Court
END:VEVENT
BEGIN:VEVENT
DTSTART;TZID=America/Chicago:20250626T180000
DTEND;TZID=America/Chicago:20250626T190000
DTSTAMP:20260421T084605
CREATED:20250602T212819Z
LAST-MODIFIED:20250626T094329Z
UID:10000701-1750960800-1750964400@urbanaplaceseniorliving.com
SUMMARY:Noodle Ball
DESCRIPTION:
URL:https://urbanaplaceseniorliving.com/event-calendar/noodle-ball-9/
CATEGORIES:Legacy Court
END:VEVENT
BEGIN:VEVENT
DTSTART;TZID=America/Chicago:20250626T170000
DTEND;TZID=America/Chicago:20250626T180000
DTSTAMP:20260421T084605
CREATED:20250602T212819Z
LAST-MODIFIED:20250626T094329Z
UID:10000700-1750957200-1750960800@urbanaplaceseniorliving.com
SUMMARY:Dinner & Oshibori
DESCRIPTION:
URL:https://urbanaplaceseniorliving.com/event-calendar/dinner-oshibori-42/
CATEGORIES:Legacy Court
END:VEVENT
BEGIN:VEVENT
DTSTART;TZID=America/Chicago:20250626T163000
DTEND;TZID=America/Chicago:20250626T173000
DTSTAMP:20260421T084605
CREATED:20250602T212819Z
LAST-MODIFIED:20250626T094331Z
UID:10000699-1750955400-1750959000@urbanaplaceseniorliving.com
SUMMARY:Walking Group
DESCRIPTION:
URL:https://urbanaplaceseniorliving.com/event-calendar/walking-group-36/
CATEGORIES:Legacy Court
END:VEVENT
BEGIN:VEVENT
DTSTART;TZID=America/Chicago:20250626T153000
DTEND;TZID=America/Chicago:20250626T163000
DTSTAMP:20260421T084605
CREATED:20250601T212823Z
LAST-MODIFIED:20250626T094331Z
UID:10000694-1750951800-1750955400@urbanaplaceseniorliving.com
SUMMARY:Conversation Cards
DESCRIPTION:
URL:https://urbanaplaceseniorliving.com/event-calendar/conversation-cards-8/
CATEGORIES:Legacy Court
END:VEVENT
BEGIN:VEVENT
DTSTART;TZID=America/Chicago:20250626T140000
DTEND;TZID=America/Chicago:20250626T150000
DTSTAMP:20260421T084605
CREATED:20250601T212823Z
LAST-MODIFIED:20250626T094331Z
UID:10000693-1750946400-1750950000@urbanaplaceseniorliving.com
SUMMARY:National Coconut Day: Coconut Pudding Cups & Fun Facts
DESCRIPTION:
URL:https://urbanaplaceseniorliving.com/event-calendar/national-coconut-day-coconut-pudding-cups-fun-facts/
CATEGORIES:Legacy Court
END:VEVENT
BEGIN:VEVENT
DTSTART;TZID=America/Chicago:20250626T133000
DTEND;TZID=America/Chicago:20250626T143000
DTSTAMP:20260421T084605
CREATED:20250601T212823Z
LAST-MODIFIED:20250626T094331Z
UID:10000692-1750944600-1750948200@urbanaplaceseniorliving.com
SUMMARY:Watch Elvis in Concert
DESCRIPTION:
URL:https://urbanaplaceseniorliving.com/event-calendar/watch-elvis-in-concert/
CATEGORIES:Legacy Court
END:VEVENT
END:VCALENDAR