BEGIN:VCALENDAR
VERSION:2.0
PRODID:-//Urbana Place Senior Living in Brooklyn Park - ECPv6.11.2.1//NONSGML v1.0//EN
CALSCALE:GREGORIAN
METHOD:PUBLISH
X-ORIGINAL-URL:https://urbanaplaceseniorliving.com
X-WR-CALDESC:Events for Urbana Place Senior Living in Brooklyn Park
REFRESH-INTERVAL;VALUE=DURATION:PT1H
X-Robots-Tag:noindex
X-PUBLISHED-TTL:PT1H
BEGIN:VTIMEZONE
TZID:America/Chicago
BEGIN:DAYLIGHT
TZOFFSETFROM:-0600
TZOFFSETTO:-0500
TZNAME:CDT
DTSTART:20250309T080000
END:DAYLIGHT
BEGIN:STANDARD
TZOFFSETFROM:-0500
TZOFFSETTO:-0600
TZNAME:CST
DTSTART:20251102T070000
END:STANDARD
END:VTIMEZONE
BEGIN:VEVENT
DTSTART;TZID=America/Chicago:20250702T120000
DTEND;TZID=America/Chicago:20250702T130000
DTSTAMP:20260421T020035
CREATED:20250625T092820Z
LAST-MODIFIED:20250702T094319Z
UID:10000896-1751457600-1751461200@urbanaplaceseniorliving.com
SUMMARY:Lunch & Oshibori
DESCRIPTION:
URL:https://urbanaplaceseniorliving.com/event-calendar/lunch-oshibori-47/
CATEGORIES:Legacy Court
END:VEVENT
BEGIN:VEVENT
DTSTART;TZID=America/Chicago:20250702T113000
DTEND;TZID=America/Chicago:20250702T123000
DTSTAMP:20260421T020035
CREATED:20250625T092820Z
LAST-MODIFIED:20250702T094319Z
UID:10000894-1751455800-1751459400@urbanaplaceseniorliving.com
SUMMARY:4th of July Word Search
DESCRIPTION:
URL:https://urbanaplaceseniorliving.com/event-calendar/4th-of-july-word-search/
CATEGORIES:Legacy Court
END:VEVENT
BEGIN:VEVENT
DTSTART;TZID=America/Chicago:20250702T103000
DTEND;TZID=America/Chicago:20250702T113000
DTSTAMP:20260421T020035
CREATED:20250625T092820Z
LAST-MODIFIED:20250702T094319Z
UID:10000893-1751452200-1751455800@urbanaplaceseniorliving.com
SUMMARY:Flag Coloring
DESCRIPTION:
URL:https://urbanaplaceseniorliving.com/event-calendar/flag-coloring/
CATEGORIES:Legacy Court
END:VEVENT
BEGIN:VEVENT
DTSTART;TZID=America/Chicago:20250702T100000
DTEND;TZID=America/Chicago:20250702T110000
DTSTAMP:20260421T020035
CREATED:20250625T092820Z
LAST-MODIFIED:20250702T094319Z
UID:10000892-1751450400-1751454000@urbanaplaceseniorliving.com
SUMMARY:Morning Stretches
DESCRIPTION:
URL:https://urbanaplaceseniorliving.com/event-calendar/morning-stretches-15/
CATEGORIES:Legacy Court
END:VEVENT
BEGIN:VEVENT
DTSTART;TZID=America/Chicago:20250702T080000
DTEND;TZID=America/Chicago:20250702T090000
DTSTAMP:20260421T020035
CREATED:20250625T092820Z
LAST-MODIFIED:20250702T094319Z
UID:10000891-1751443200-1751446800@urbanaplaceseniorliving.com
SUMMARY:Breakfast
DESCRIPTION:
URL:https://urbanaplaceseniorliving.com/event-calendar/breakfast-47/
CATEGORIES:Legacy Court
END:VEVENT
BEGIN:VEVENT
DTSTART;TZID=America/Chicago:20250701T180000
DTEND;TZID=America/Chicago:20250701T190000
DTSTAMP:20260421T020035
CREATED:20250625T092820Z
LAST-MODIFIED:20250701T094311Z
UID:10000890-1751392800-1751396400@urbanaplaceseniorliving.com
SUMMARY:Coloring & Word Finds
DESCRIPTION:
URL:https://urbanaplaceseniorliving.com/event-calendar/coloring-word-finds-15/
CATEGORIES:Legacy Court
END:VEVENT
BEGIN:VEVENT
DTSTART;TZID=America/Chicago:20250701T180000
DTEND;TZID=America/Chicago:20250701T190000
DTSTAMP:20260421T020035
CREATED:20250605T213203Z
LAST-MODIFIED:20250624T092824Z
UID:10000750-1751392800-1751396400@urbanaplaceseniorliving.com
SUMMARY:Coloring & Word Finds
DESCRIPTION:
URL:https://urbanaplaceseniorliving.com/event-calendar/coloring-word-finds-14/
CATEGORIES:Legacy Court
END:VEVENT
BEGIN:VEVENT
DTSTART;TZID=America/Chicago:20250701T170000
DTEND;TZID=America/Chicago:20250701T180000
DTSTAMP:20260421T020035
CREATED:20250625T092820Z
LAST-MODIFIED:20250701T094311Z
UID:10000889-1751389200-1751392800@urbanaplaceseniorliving.com
SUMMARY:Dinner & Oshibori
DESCRIPTION:
URL:https://urbanaplaceseniorliving.com/event-calendar/dinner-oshibori-47/
CATEGORIES:Legacy Court
END:VEVENT
BEGIN:VEVENT
DTSTART;TZID=America/Chicago:20250701T160000
DTEND;TZID=America/Chicago:20250701T170000
DTSTAMP:20260421T020035
CREATED:20250625T092820Z
LAST-MODIFIED:20250701T094311Z
UID:10000886-1751385600-1751389200@urbanaplaceseniorliving.com
SUMMARY:Eye Masks
DESCRIPTION:
URL:https://urbanaplaceseniorliving.com/event-calendar/eye-masks/
CATEGORIES:Legacy Court
END:VEVENT
BEGIN:VEVENT
DTSTART;TZID=America/Chicago:20250701T153000
DTEND;TZID=America/Chicago:20250701T163000
DTSTAMP:20260421T020035
CREATED:20250625T092820Z
LAST-MODIFIED:20250701T094312Z
UID:10000888-1751383800-1751387400@urbanaplaceseniorliving.com
SUMMARY:Tea Social
DESCRIPTION:
URL:https://urbanaplaceseniorliving.com/event-calendar/tea-social/
CATEGORIES:Legacy Court
END:VEVENT
BEGIN:VEVENT
DTSTART;TZID=America/Chicago:20250701T150000
DTEND;TZID=America/Chicago:20250701T160000
DTSTAMP:20260421T020035
CREATED:20250625T092820Z
LAST-MODIFIED:20250701T094312Z
UID:10000887-1751382000-1751385600@urbanaplaceseniorliving.com
SUMMARY:Manicures
DESCRIPTION:
URL:https://urbanaplaceseniorliving.com/event-calendar/manicures-12/
CATEGORIES:Legacy Court
END:VEVENT
BEGIN:VEVENT
DTSTART;TZID=America/Chicago:20250701T140000
DTEND;TZID=America/Chicago:20250701T150000
DTSTAMP:20260421T020035
CREATED:20250609T214318Z
LAST-MODIFIED:20250701T094312Z
UID:10000776-1751378400-1751382000@urbanaplaceseniorliving.com
SUMMARY:Purple University Class-MN Vikings
DESCRIPTION:Join us for a 4 class course in the month of July featuring 4 different MN Sports teams. Come be a part of Purple University!
URL:https://urbanaplaceseniorliving.com/event-calendar/purple-university-class-mn-vikings/
LOCATION:Community Room
CATEGORIES:Assisted Living,Legacy Court
END:VEVENT
BEGIN:VEVENT
DTSTART;TZID=America/Chicago:20250701T130000
DTEND;TZID=America/Chicago:20250701T140000
DTSTAMP:20260421T020035
CREATED:20250625T092820Z
LAST-MODIFIED:20250701T094312Z
UID:10000885-1751374800-1751378400@urbanaplaceseniorliving.com
SUMMARY:That's It Game
DESCRIPTION:
URL:https://urbanaplaceseniorliving.com/event-calendar/thats-it-game-6/
CATEGORIES:Legacy Court
END:VEVENT
BEGIN:VEVENT
DTSTART;TZID=America/Chicago:20250701T120000
DTEND;TZID=America/Chicago:20250701T130000
DTSTAMP:20260421T020035
CREATED:20250625T092820Z
LAST-MODIFIED:20250701T094312Z
UID:10000884-1751371200-1751374800@urbanaplaceseniorliving.com
SUMMARY:Lunch & Oshibori
DESCRIPTION:
URL:https://urbanaplaceseniorliving.com/event-calendar/lunch-oshibori-46/
CATEGORIES:Legacy Court
END:VEVENT
BEGIN:VEVENT
DTSTART;TZID=America/Chicago:20250701T114500
DTEND;TZID=America/Chicago:20250701T124500
DTSTAMP:20260421T020035
CREATED:20250625T092820Z
LAST-MODIFIED:20250701T094312Z
UID:10000883-1751370300-1751373900@urbanaplaceseniorliving.com
SUMMARY:International Joke Day Humor
DESCRIPTION:
URL:https://urbanaplaceseniorliving.com/event-calendar/international-joke-day-humor/
CATEGORIES:Legacy Court
END:VEVENT
BEGIN:VEVENT
DTSTART;TZID=America/Chicago:20250701T110000
DTEND;TZID=America/Chicago:20250701T120000
DTSTAMP:20260421T020035
CREATED:20250625T092820Z
LAST-MODIFIED:20250701T094312Z
UID:10000882-1751367600-1751371200@urbanaplaceseniorliving.com
SUMMARY:Walking Group
DESCRIPTION:
URL:https://urbanaplaceseniorliving.com/event-calendar/walking-group-41/
CATEGORIES:Legacy Court
END:VEVENT
BEGIN:VEVENT
DTSTART;TZID=America/Chicago:20250701T103000
DTEND;TZID=America/Chicago:20250701T113000
DTSTAMP:20260421T020035
CREATED:20250625T092819Z
LAST-MODIFIED:20250701T094312Z
UID:10000881-1751365800-1751369400@urbanaplaceseniorliving.com
SUMMARY:Sticker by Number Art
DESCRIPTION:
URL:https://urbanaplaceseniorliving.com/event-calendar/sticker-by-number-art-3/
CATEGORIES:Legacy Court
END:VEVENT
BEGIN:VEVENT
DTSTART;TZID=America/Chicago:20250701T091500
DTEND;TZID=America/Chicago:20250701T101500
DTSTAMP:20260421T020035
CREATED:20250625T092819Z
LAST-MODIFIED:20250701T094312Z
UID:10000880-1751361300-1751364900@urbanaplaceseniorliving.com
SUMMARY:Short Stories Read Aloud
DESCRIPTION:
URL:https://urbanaplaceseniorliving.com/event-calendar/short-stories-read-aloud-7/
CATEGORIES:Legacy Court
END:VEVENT
BEGIN:VEVENT
DTSTART;TZID=America/Chicago:20250701T080000
DTEND;TZID=America/Chicago:20250701T090000
DTSTAMP:20260421T020035
CREATED:20250625T092819Z
LAST-MODIFIED:20250701T094312Z
UID:10000879-1751356800-1751360400@urbanaplaceseniorliving.com
SUMMARY:Breakfast
DESCRIPTION:
URL:https://urbanaplaceseniorliving.com/event-calendar/breakfast-46/
CATEGORIES:Legacy Court
END:VEVENT
BEGIN:VEVENT
DTSTART;TZID=America/Chicago:20250630T180000
DTEND;TZID=America/Chicago:20250630T190000
DTSTAMP:20260421T020035
CREATED:20250605T213203Z
LAST-MODIFIED:20250630T094410Z
UID:10000749-1751306400-1751310000@urbanaplaceseniorliving.com
SUMMARY:1:1 Visits
DESCRIPTION:
URL:https://urbanaplaceseniorliving.com/event-calendar/11-visits-22/
CATEGORIES:Legacy Court
END:VEVENT
BEGIN:VEVENT
DTSTART;TZID=America/Chicago:20250630T170000
DTEND;TZID=America/Chicago:20250630T180000
DTSTAMP:20260421T020035
CREATED:20250605T213203Z
LAST-MODIFIED:20250630T094411Z
UID:10000746-1751302800-1751306400@urbanaplaceseniorliving.com
SUMMARY:Dinner & Oshibori
DESCRIPTION:
URL:https://urbanaplaceseniorliving.com/event-calendar/dinner-oshibori-46/
CATEGORIES:Legacy Court
END:VEVENT
BEGIN:VEVENT
DTSTART;TZID=America/Chicago:20250630T160000
DTEND;TZID=America/Chicago:20250630T170000
DTSTAMP:20260421T020035
CREATED:20250605T213203Z
LAST-MODIFIED:20250630T094411Z
UID:10000747-1751299200-1751302800@urbanaplaceseniorliving.com
SUMMARY:Walking Group
DESCRIPTION:
URL:https://urbanaplaceseniorliving.com/event-calendar/walking-group-40/
CATEGORIES:Legacy Court
END:VEVENT
BEGIN:VEVENT
DTSTART;TZID=America/Chicago:20250630T153000
DTEND;TZID=America/Chicago:20250630T163000
DTSTAMP:20260421T020035
CREATED:20250605T213203Z
LAST-MODIFIED:20250630T094410Z
UID:10000748-1751297400-1751301000@urbanaplaceseniorliving.com
SUMMARY:Watercolor Painting
DESCRIPTION:
URL:https://urbanaplaceseniorliving.com/event-calendar/watercolor-painting/
CATEGORIES:Legacy Court
END:VEVENT
BEGIN:VEVENT
DTSTART;TZID=America/Chicago:20250630T141500
DTEND;TZID=America/Chicago:20250630T151500
DTSTAMP:20260421T020035
CREATED:20250605T213203Z
LAST-MODIFIED:20250630T094411Z
UID:10000745-1751292900-1751296500@urbanaplaceseniorliving.com
SUMMARY:Lemonade on the Patio
DESCRIPTION:
URL:https://urbanaplaceseniorliving.com/event-calendar/lemonade-on-the-patio-5/
CATEGORIES:Legacy Court
END:VEVENT
BEGIN:VEVENT
DTSTART;TZID=America/Chicago:20250630T133000
DTEND;TZID=America/Chicago:20250630T143000
DTSTAMP:20260421T020035
CREATED:20250625T092819Z
LAST-MODIFIED:20250630T094411Z
UID:10000878-1751290200-1751293800@urbanaplaceseniorliving.com
SUMMARY:Finish the Phrase
DESCRIPTION:
URL:https://urbanaplaceseniorliving.com/event-calendar/finish-the-phrase/
CATEGORIES:Legacy Court
END:VEVENT
BEGIN:VEVENT
DTSTART;TZID=America/Chicago:20250630T120000
DTEND;TZID=America/Chicago:20250630T130000
DTSTAMP:20260421T020035
CREATED:20250605T213203Z
LAST-MODIFIED:20250630T094411Z
UID:10000744-1751284800-1751288400@urbanaplaceseniorliving.com
SUMMARY:Lunch & Oshibori
DESCRIPTION:
URL:https://urbanaplaceseniorliving.com/event-calendar/lunch-oshibori-45/
CATEGORIES:Legacy Court
END:VEVENT
BEGIN:VEVENT
DTSTART;TZID=America/Chicago:20250630T113000
DTEND;TZID=America/Chicago:20250630T123000
DTSTAMP:20260421T020035
CREATED:20250605T213203Z
LAST-MODIFIED:20250630T094411Z
UID:10000743-1751283000-1751286600@urbanaplaceseniorliving.com
SUMMARY:Noodle Ball
DESCRIPTION:
URL:https://urbanaplaceseniorliving.com/event-calendar/noodle-ball-11/
CATEGORIES:Legacy Court
END:VEVENT
BEGIN:VEVENT
DTSTART;TZID=America/Chicago:20250630T103000
DTEND;TZID=America/Chicago:20250630T113000
DTSTAMP:20260421T020035
CREATED:20250605T213203Z
LAST-MODIFIED:20250630T094411Z
UID:10000742-1751279400-1751283000@urbanaplaceseniorliving.com
SUMMARY:Toss n' Talk Ball
DESCRIPTION:
URL:https://urbanaplaceseniorliving.com/event-calendar/toss-n-talk-ball-17/
CATEGORIES:Legacy Court
END:VEVENT
BEGIN:VEVENT
DTSTART;TZID=America/Chicago:20250630T100000
DTEND;TZID=America/Chicago:20250630T110000
DTSTAMP:20260421T020035
CREATED:20250604T213005Z
LAST-MODIFIED:20250630T094411Z
UID:10000741-1751277600-1751281200@urbanaplaceseniorliving.com
SUMMARY:Morning Stretches
DESCRIPTION:
URL:https://urbanaplaceseniorliving.com/event-calendar/morning-stretches-14/
CATEGORIES:Legacy Court
END:VEVENT
BEGIN:VEVENT
DTSTART;TZID=America/Chicago:20250630T091500
DTEND;TZID=America/Chicago:20250630T101500
DTSTAMP:20260421T020035
CREATED:20250604T213005Z
LAST-MODIFIED:20250630T094411Z
UID:10000740-1751274900-1751278500@urbanaplaceseniorliving.com
SUMMARY:1:1 Visits
DESCRIPTION:
URL:https://urbanaplaceseniorliving.com/event-calendar/11-visits-21/
CATEGORIES:Legacy Court
END:VEVENT
END:VCALENDAR