BEGIN:VCALENDAR
VERSION:2.0
PRODID:-//Urbana Place Senior Living in Brooklyn Park - ECPv6.11.2.1//NONSGML v1.0//EN
CALSCALE:GREGORIAN
METHOD:PUBLISH
X-WR-CALNAME:Urbana Place Senior Living in Brooklyn Park
X-ORIGINAL-URL:https://urbanaplaceseniorliving.com
X-WR-CALDESC:Events for Urbana Place Senior Living in Brooklyn Park
REFRESH-INTERVAL;VALUE=DURATION:PT1H
X-Robots-Tag:noindex
X-PUBLISHED-TTL:PT1H
BEGIN:VTIMEZONE
TZID:America/Chicago
BEGIN:DAYLIGHT
TZOFFSETFROM:-0600
TZOFFSETTO:-0500
TZNAME:CDT
DTSTART:20250309T080000
END:DAYLIGHT
BEGIN:STANDARD
TZOFFSETFROM:-0500
TZOFFSETTO:-0600
TZNAME:CST
DTSTART:20251102T070000
END:STANDARD
END:VTIMEZONE
BEGIN:VEVENT
DTSTART;TZID=America/Chicago:20250704T153000
DTEND;TZID=America/Chicago:20250704T163000
DTSTAMP:20260420T213618
CREATED:20250606T214327Z
LAST-MODIFIED:20250704T094313Z
UID:10000758-1751643000-1751646600@urbanaplaceseniorliving.com
SUMMARY:Toss n' Talk Ball
DESCRIPTION:
URL:https://urbanaplaceseniorliving.com/event-calendar/toss-n-talk-ball-18/
CATEGORIES:Legacy Court
END:VEVENT
BEGIN:VEVENT
DTSTART;TZID=America/Chicago:20250704T140000
DTEND;TZID=America/Chicago:20250704T150000
DTSTAMP:20260420T213618
CREATED:20250625T092821Z
LAST-MODIFIED:20250704T094313Z
UID:10000920-1751637600-1751641200@urbanaplaceseniorliving.com
SUMMARY:Flag Cake & Coffee
DESCRIPTION:
URL:https://urbanaplaceseniorliving.com/event-calendar/flag-cake-coffee/
CATEGORIES:Legacy Court
END:VEVENT
BEGIN:VEVENT
DTSTART;TZID=America/Chicago:20250704T130000
DTEND;TZID=America/Chicago:20250704T140000
DTSTAMP:20260420T213618
CREATED:20250625T092821Z
LAST-MODIFIED:20250704T094313Z
UID:10000919-1751634000-1751637600@urbanaplaceseniorliving.com
SUMMARY:Watch Yankee Doodle Dandy
DESCRIPTION:
URL:https://urbanaplaceseniorliving.com/event-calendar/watch-yankee-doodle-dandy/
CATEGORIES:Legacy Court
END:VEVENT
BEGIN:VEVENT
DTSTART;TZID=America/Chicago:20250704T120000
DTEND;TZID=America/Chicago:20250704T130000
DTSTAMP:20260420T213618
CREATED:20250625T092821Z
LAST-MODIFIED:20250704T094313Z
UID:10000918-1751630400-1751634000@urbanaplaceseniorliving.com
SUMMARY:Lunch & Oshibori
DESCRIPTION:
URL:https://urbanaplaceseniorliving.com/event-calendar/lunch-oshibori-49/
CATEGORIES:Legacy Court
END:VEVENT
BEGIN:VEVENT
DTSTART;TZID=America/Chicago:20250704T110000
DTEND;TZID=America/Chicago:20250704T120000
DTSTAMP:20260420T213618
CREATED:20250606T214327Z
LAST-MODIFIED:20250704T094313Z
UID:10000757-1751626800-1751630400@urbanaplaceseniorliving.com
SUMMARY:Physical Games
DESCRIPTION:
URL:https://urbanaplaceseniorliving.com/event-calendar/physical-games/
CATEGORIES:Legacy Court
END:VEVENT
BEGIN:VEVENT
DTSTART;TZID=America/Chicago:20250704T104500
DTEND;TZID=America/Chicago:20250704T114500
DTSTAMP:20260420T213618
CREATED:20250625T092821Z
LAST-MODIFIED:20250704T094313Z
UID:10000917-1751625900-1751629500@urbanaplaceseniorliving.com
SUMMARY:Sing-Along
DESCRIPTION:
URL:https://urbanaplaceseniorliving.com/event-calendar/sing-along-10/
CATEGORIES:Legacy Court
END:VEVENT
BEGIN:VEVENT
DTSTART;TZID=America/Chicago:20250704T101500
DTEND;TZID=America/Chicago:20250704T111500
DTSTAMP:20260420T213618
CREATED:20250625T092821Z
LAST-MODIFIED:20250704T094313Z
UID:10000915-1751624100-1751627700@urbanaplaceseniorliving.com
SUMMARY:July 4th Reminisce
DESCRIPTION:
URL:https://urbanaplaceseniorliving.com/event-calendar/july-4th-reminisce/
CATEGORIES:Legacy Court
END:VEVENT
BEGIN:VEVENT
DTSTART;TZID=America/Chicago:20250704T094500
DTEND;TZID=America/Chicago:20250704T104500
DTSTAMP:20260420T213618
CREATED:20250625T092821Z
LAST-MODIFIED:20250704T094313Z
UID:10000916-1751622300-1751625900@urbanaplaceseniorliving.com
SUMMARY:Group Exercise
DESCRIPTION:
URL:https://urbanaplaceseniorliving.com/event-calendar/group-exercise-14/
CATEGORIES:Legacy Court
END:VEVENT
BEGIN:VEVENT
DTSTART;TZID=America/Chicago:20250704T091500
DTEND;TZID=America/Chicago:20250704T101500
DTSTAMP:20260420T213618
CREATED:20250605T213203Z
LAST-MODIFIED:20250704T094313Z
UID:10000751-1751620500-1751624100@urbanaplaceseniorliving.com
SUMMARY:Devotional & This Day in History
DESCRIPTION:
URL:https://urbanaplaceseniorliving.com/event-calendar/devotional-this-day-in-history-14/
CATEGORIES:Legacy Court
END:VEVENT
BEGIN:VEVENT
DTSTART;TZID=America/Chicago:20250704T080000
DTEND;TZID=America/Chicago:20250704T090000
DTSTAMP:20260420T213618
CREATED:20250625T092821Z
LAST-MODIFIED:20250704T094313Z
UID:10000914-1751616000-1751619600@urbanaplaceseniorliving.com
SUMMARY:Breakfast
DESCRIPTION:
URL:https://urbanaplaceseniorliving.com/event-calendar/breakfast-49/
CATEGORIES:Legacy Court
END:VEVENT
BEGIN:VEVENT
DTSTART;TZID=America/Chicago:20250703T190000
DTEND;TZID=America/Chicago:20250703T200000
DTSTAMP:20260420T213618
CREATED:20250625T092821Z
LAST-MODIFIED:20250703T094336Z
UID:10000913-1751569200-1751572800@urbanaplaceseniorliving.com
SUMMARY:Movie & Snack
DESCRIPTION:
URL:https://urbanaplaceseniorliving.com/event-calendar/movie-snack-7/
CATEGORIES:Legacy Court
END:VEVENT
BEGIN:VEVENT
DTSTART;TZID=America/Chicago:20250703T183000
DTEND;TZID=America/Chicago:20250703T193000
DTSTAMP:20260420T213618
CREATED:20250625T092821Z
LAST-MODIFIED:20250703T094334Z
UID:10000912-1751567400-1751571000@urbanaplaceseniorliving.com
SUMMARY:USA Quiz
DESCRIPTION:
URL:https://urbanaplaceseniorliving.com/event-calendar/usa-quiz/
CATEGORIES:Legacy Court
END:VEVENT
BEGIN:VEVENT
DTSTART;TZID=America/Chicago:20250703T180000
DTEND;TZID=America/Chicago:20250703T190000
DTSTAMP:20260420T213618
CREATED:20250625T092821Z
LAST-MODIFIED:20250703T094334Z
UID:10000911-1751565600-1751569200@urbanaplaceseniorliving.com
SUMMARY:Bean Bag Toss
DESCRIPTION:
URL:https://urbanaplaceseniorliving.com/event-calendar/bean-bag-toss-4/
CATEGORIES:Legacy Court
END:VEVENT
BEGIN:VEVENT
DTSTART;TZID=America/Chicago:20250703T170000
DTEND;TZID=America/Chicago:20250703T180000
DTSTAMP:20260420T213618
CREATED:20250625T092821Z
LAST-MODIFIED:20250703T094334Z
UID:10000910-1751562000-1751565600@urbanaplaceseniorliving.com
SUMMARY:Dinner & Oshibori
DESCRIPTION:
URL:https://urbanaplaceseniorliving.com/event-calendar/dinner-oshibori-49/
CATEGORIES:Legacy Court
END:VEVENT
BEGIN:VEVENT
DTSTART;TZID=America/Chicago:20250703T163000
DTEND;TZID=America/Chicago:20250703T173000
DTSTAMP:20260420T213618
CREATED:20250625T092821Z
LAST-MODIFIED:20250703T094336Z
UID:10000909-1751560200-1751563800@urbanaplaceseniorliving.com
SUMMARY:Patriotic A-Z
DESCRIPTION:
URL:https://urbanaplaceseniorliving.com/event-calendar/patriotic-a-z/
CATEGORIES:Legacy Court
END:VEVENT
BEGIN:VEVENT
DTSTART;TZID=America/Chicago:20250703T153000
DTEND;TZID=America/Chicago:20250703T163000
DTSTAMP:20260420T213618
CREATED:20250625T092821Z
LAST-MODIFIED:20250703T094336Z
UID:10000908-1751556600-1751560200@urbanaplaceseniorliving.com
SUMMARY:Chalkboard Vases Craft
DESCRIPTION:
URL:https://urbanaplaceseniorliving.com/event-calendar/chalkboard-vases-craft/
CATEGORIES:Legacy Court
END:VEVENT
BEGIN:VEVENT
DTSTART;TZID=America/Chicago:20250703T143000
DTEND;TZID=America/Chicago:20250703T153000
DTSTAMP:20260420T213618
CREATED:20250625T092821Z
LAST-MODIFIED:20250703T094336Z
UID:10000906-1751553000-1751556600@urbanaplaceseniorliving.com
SUMMARY:Patriotic Bingo
DESCRIPTION:
URL:https://urbanaplaceseniorliving.com/event-calendar/patriotic-bingo/
CATEGORIES:Legacy Court
END:VEVENT
BEGIN:VEVENT
DTSTART;TZID=America/Chicago:20250703T133000
DTEND;TZID=America/Chicago:20250703T143000
DTSTAMP:20260420T213618
CREATED:20250625T092821Z
LAST-MODIFIED:20250703T094336Z
UID:10000907-1751549400-1751553000@urbanaplaceseniorliving.com
SUMMARY:Bake Flag Cake
DESCRIPTION:
URL:https://urbanaplaceseniorliving.com/event-calendar/bake-flag-cake/
CATEGORIES:Legacy Court
END:VEVENT
BEGIN:VEVENT
DTSTART;TZID=America/Chicago:20250703T120000
DTEND;TZID=America/Chicago:20250703T130000
DTSTAMP:20260420T213618
CREATED:20250625T092821Z
LAST-MODIFIED:20250703T094336Z
UID:10000904-1751544000-1751547600@urbanaplaceseniorliving.com
SUMMARY:Lunch & Oshibori
DESCRIPTION:
URL:https://urbanaplaceseniorliving.com/event-calendar/lunch-oshibori-48/
CATEGORIES:Legacy Court
END:VEVENT
BEGIN:VEVENT
DTSTART;TZID=America/Chicago:20250703T110000
DTEND;TZID=America/Chicago:20250703T120000
DTSTAMP:20260420T213618
CREATED:20250625T092821Z
LAST-MODIFIED:20250703T094336Z
UID:10000905-1751540400-1751544000@urbanaplaceseniorliving.com
SUMMARY:Bowling
DESCRIPTION:
URL:https://urbanaplaceseniorliving.com/event-calendar/bowling-3/
CATEGORIES:Legacy Court
END:VEVENT
BEGIN:VEVENT
DTSTART;TZID=America/Chicago:20250703T103000
DTEND;TZID=America/Chicago:20250703T113000
DTSTAMP:20260420T213618
CREATED:20250603T211316Z
LAST-MODIFIED:20250703T094336Z
UID:10000712-1751538600-1751542200@urbanaplaceseniorliving.com
SUMMARY:Eucharist w/St Gerards
DESCRIPTION:
URL:https://urbanaplaceseniorliving.com/event-calendar/eucharist-w-st-gerards-7/
CATEGORIES:Assisted Living,Legacy Court
END:VEVENT
BEGIN:VEVENT
DTSTART;TZID=America/Chicago:20250703T100000
DTEND;TZID=America/Chicago:20250703T110000
DTSTAMP:20260420T213618
CREATED:20250625T092821Z
LAST-MODIFIED:20250703T094336Z
UID:10000903-1751536800-1751540400@urbanaplaceseniorliving.com
SUMMARY:Walking Group
DESCRIPTION:
URL:https://urbanaplaceseniorliving.com/event-calendar/walking-group-43/
CATEGORIES:Legacy Court
END:VEVENT
BEGIN:VEVENT
DTSTART;TZID=America/Chicago:20250703T080000
DTEND;TZID=America/Chicago:20250703T090000
DTSTAMP:20260420T213618
CREATED:20250625T092821Z
LAST-MODIFIED:20250703T094335Z
UID:10000902-1751529600-1751533200@urbanaplaceseniorliving.com
SUMMARY:Breakfast
DESCRIPTION:
URL:https://urbanaplaceseniorliving.com/event-calendar/breakfast-48/
CATEGORIES:Legacy Court
END:VEVENT
BEGIN:VEVENT
DTSTART;TZID=America/Chicago:20250702T180000
DTEND;TZID=America/Chicago:20250702T190000
DTSTAMP:20260420T213618
CREATED:20250625T092820Z
LAST-MODIFIED:20250702T094319Z
UID:10000901-1751479200-1751482800@urbanaplaceseniorliving.com
SUMMARY:Puzzles
DESCRIPTION:
URL:https://urbanaplaceseniorliving.com/event-calendar/puzzles-23/
CATEGORIES:Legacy Court
END:VEVENT
BEGIN:VEVENT
DTSTART;TZID=America/Chicago:20250702T174000
DTEND;TZID=America/Chicago:20250702T184000
DTSTAMP:20260420T213618
CREATED:20250625T092820Z
LAST-MODIFIED:20250702T094318Z
UID:10000900-1751478000-1751481600@urbanaplaceseniorliving.com
SUMMARY:MN Twins Game - Channel 23
DESCRIPTION:
URL:https://urbanaplaceseniorliving.com/event-calendar/mn-twins-game-channel-23-14/
CATEGORIES:Legacy Court
END:VEVENT
BEGIN:VEVENT
DTSTART;TZID=America/Chicago:20250702T170000
DTEND;TZID=America/Chicago:20250702T180000
DTSTAMP:20260420T213618
CREATED:20250625T092820Z
LAST-MODIFIED:20250702T094318Z
UID:10000899-1751475600-1751479200@urbanaplaceseniorliving.com
SUMMARY:Dinner & Oshibori
DESCRIPTION:
URL:https://urbanaplaceseniorliving.com/event-calendar/dinner-oshibori-48/
CATEGORIES:Legacy Court
END:VEVENT
BEGIN:VEVENT
DTSTART;TZID=America/Chicago:20250702T160000
DTEND;TZID=America/Chicago:20250702T170000
DTSTAMP:20260420T213618
CREATED:20250625T092820Z
LAST-MODIFIED:20250702T094319Z
UID:10000898-1751472000-1751475600@urbanaplaceseniorliving.com
SUMMARY:Walking Group
DESCRIPTION:
URL:https://urbanaplaceseniorliving.com/event-calendar/walking-group-42/
CATEGORIES:Legacy Court
END:VEVENT
BEGIN:VEVENT
DTSTART;TZID=America/Chicago:20250702T143000
DTEND;TZID=America/Chicago:20250702T153000
DTSTAMP:20260420T213618
CREATED:20250625T092820Z
LAST-MODIFIED:20250702T094319Z
UID:10000897-1751466600-1751470200@urbanaplaceseniorliving.com
SUMMARY:Noodle Ball
DESCRIPTION:
URL:https://urbanaplaceseniorliving.com/event-calendar/noodle-ball-12/
CATEGORIES:Legacy Court
END:VEVENT
BEGIN:VEVENT
DTSTART;TZID=America/Chicago:20250702T140000
DTEND;TZID=America/Chicago:20250702T150000
DTSTAMP:20260420T213618
CREATED:20250602T211336Z
LAST-MODIFIED:20250702T094319Z
UID:10000698-1751464800-1751468400@urbanaplaceseniorliving.com
SUMMARY:Worship Service w/Communion
DESCRIPTION:Join Chaplain Russell in the Community Room for Worship & Communion. All beliefs are welcome
URL:https://urbanaplaceseniorliving.com/event-calendar/worship-service-w-communion-2/
LOCATION:Community Room
CATEGORIES:Assisted Living,Legacy Court
END:VEVENT
BEGIN:VEVENT
DTSTART;TZID=America/Chicago:20250702T130000
DTEND;TZID=America/Chicago:20250702T140000
DTSTAMP:20260420T213619
CREATED:20250625T092820Z
LAST-MODIFIED:20250702T094319Z
UID:10000895-1751461200-1751464800@urbanaplaceseniorliving.com
SUMMARY:Patio Time/Watering the Flowers
DESCRIPTION:
URL:https://urbanaplaceseniorliving.com/event-calendar/patio-time-watering-the-flowers-10/
CATEGORIES:Legacy Court
END:VEVENT
END:VCALENDAR