BEGIN:VCALENDAR
VERSION:2.0
PRODID:-//Urbana Place Senior Living in Brooklyn Park - ECPv6.11.2.1//NONSGML v1.0//EN
CALSCALE:GREGORIAN
METHOD:PUBLISH
X-ORIGINAL-URL:https://urbanaplaceseniorliving.com
X-WR-CALDESC:Events for Urbana Place Senior Living in Brooklyn Park
REFRESH-INTERVAL;VALUE=DURATION:PT1H
X-Robots-Tag:noindex
X-PUBLISHED-TTL:PT1H
BEGIN:VTIMEZONE
TZID:America/Chicago
BEGIN:DAYLIGHT
TZOFFSETFROM:-0600
TZOFFSETTO:-0500
TZNAME:CDT
DTSTART:20250309T080000
END:DAYLIGHT
BEGIN:STANDARD
TZOFFSETFROM:-0500
TZOFFSETTO:-0600
TZNAME:CST
DTSTART:20251102T070000
END:STANDARD
END:VTIMEZONE
BEGIN:VEVENT
DTSTART;TZID=America/Chicago:20250709T091500
DTEND;TZID=America/Chicago:20250709T101500
DTSTAMP:20260420T131903
CREATED:20250625T092823Z
LAST-MODIFIED:20250709T095902Z
UID:10000966-1752052500-1752056100@urbanaplaceseniorliving.com
SUMMARY:Hair & Makeup Pampering
DESCRIPTION:
URL:https://urbanaplaceseniorliving.com/event-calendar/hair-makeup-pampering-7/
CATEGORIES:Legacy Court
END:VEVENT
BEGIN:VEVENT
DTSTART;TZID=America/Chicago:20250709T080000
DTEND;TZID=America/Chicago:20250709T090000
DTSTAMP:20260420T131903
CREATED:20250625T092823Z
LAST-MODIFIED:20250709T095901Z
UID:10000965-1752048000-1752051600@urbanaplaceseniorliving.com
SUMMARY:Breakfast
DESCRIPTION:
URL:https://urbanaplaceseniorliving.com/event-calendar/breakfast-54/
CATEGORIES:Legacy Court
END:VEVENT
BEGIN:VEVENT
DTSTART;TZID=America/Chicago:20250708T180000
DTEND;TZID=America/Chicago:20250708T190000
DTSTAMP:20260420T131903
CREATED:20250625T092823Z
LAST-MODIFIED:20250708T094320Z
UID:10000964-1751997600-1752001200@urbanaplaceseniorliving.com
SUMMARY:Coloring & Word Finds
DESCRIPTION:
URL:https://urbanaplaceseniorliving.com/event-calendar/coloring-word-finds-17/
CATEGORIES:Legacy Court
END:VEVENT
BEGIN:VEVENT
DTSTART;TZID=America/Chicago:20250708T170000
DTEND;TZID=America/Chicago:20250708T180000
DTSTAMP:20260420T131903
CREATED:20250625T092823Z
LAST-MODIFIED:20250708T094320Z
UID:10000963-1751994000-1751997600@urbanaplaceseniorliving.com
SUMMARY:Dinner & Oshibori
DESCRIPTION:
URL:https://urbanaplaceseniorliving.com/event-calendar/dinner-oshibori-54/
CATEGORIES:Legacy Court
END:VEVENT
BEGIN:VEVENT
DTSTART;TZID=America/Chicago:20250708T160000
DTEND;TZID=America/Chicago:20250708T170000
DTSTAMP:20260420T131903
CREATED:20250625T092823Z
LAST-MODIFIED:20250708T094320Z
UID:10000962-1751990400-1751994000@urbanaplaceseniorliving.com
SUMMARY:Walking Group
DESCRIPTION:
URL:https://urbanaplaceseniorliving.com/event-calendar/walking-group-47/
CATEGORIES:Legacy Court
END:VEVENT
BEGIN:VEVENT
DTSTART;TZID=America/Chicago:20250708T151500
DTEND;TZID=America/Chicago:20250708T161500
DTSTAMP:20260420T131903
CREATED:20250625T092823Z
LAST-MODIFIED:20250708T094321Z
UID:10000959-1751987700-1751991300@urbanaplaceseniorliving.com
SUMMARY:Trivia Tuesday
DESCRIPTION:
URL:https://urbanaplaceseniorliving.com/event-calendar/trivia-tuesday-2/
CATEGORIES:Legacy Court
END:VEVENT
BEGIN:VEVENT
DTSTART;TZID=America/Chicago:20250708T143000
DTEND;TZID=America/Chicago:20250708T153000
DTSTAMP:20260420T131903
CREATED:20250625T092823Z
LAST-MODIFIED:20250708T094321Z
UID:10000960-1751985000-1751988600@urbanaplaceseniorliving.com
SUMMARY:Make Frozen Pina Coladas
DESCRIPTION:
URL:https://urbanaplaceseniorliving.com/event-calendar/make-frozen-pina-coladas-2/
CATEGORIES:Legacy Court
END:VEVENT
BEGIN:VEVENT
DTSTART;TZID=America/Chicago:20250708T141500
DTEND;TZID=America/Chicago:20250708T151500
DTSTAMP:20260420T131903
CREATED:20250706T094312Z
LAST-MODIFIED:20250708T094321Z
UID:10001230-1751984100-1751987700@urbanaplaceseniorliving.com
SUMMARY:Proverbs from Around the World
DESCRIPTION:
URL:https://urbanaplaceseniorliving.com/event-calendar/proverbs-from-around-the-world/
CATEGORIES:Legacy Court
END:VEVENT
BEGIN:VEVENT
DTSTART;TZID=America/Chicago:20250708T133000
DTEND;TZID=America/Chicago:20250708T143000
DTSTAMP:20260420T131903
CREATED:20250625T092823Z
LAST-MODIFIED:20250708T094321Z
UID:10000961-1751981400-1751985000@urbanaplaceseniorliving.com
SUMMARY:Six Dice Game
DESCRIPTION:
URL:https://urbanaplaceseniorliving.com/event-calendar/six-dice-game-3/
CATEGORIES:Legacy Court
END:VEVENT
BEGIN:VEVENT
DTSTART;TZID=America/Chicago:20250708T120000
DTEND;TZID=America/Chicago:20250708T130000
DTSTAMP:20260420T131903
CREATED:20250625T092823Z
LAST-MODIFIED:20250708T094321Z
UID:10000958-1751976000-1751979600@urbanaplaceseniorliving.com
SUMMARY:Lunch & Oshibori
DESCRIPTION:
URL:https://urbanaplaceseniorliving.com/event-calendar/lunch-oshibori-53/
CATEGORIES:Legacy Court
END:VEVENT
BEGIN:VEVENT
DTSTART;TZID=America/Chicago:20250708T103000
DTEND;TZID=America/Chicago:20250708T113000
DTSTAMP:20260420T131903
CREATED:20250625T092823Z
LAST-MODIFIED:20250708T094321Z
UID:10000957-1751970600-1751974200@urbanaplaceseniorliving.com
SUMMARY:Aquapaintings
DESCRIPTION:
URL:https://urbanaplaceseniorliving.com/event-calendar/aquapaintings-5/
CATEGORIES:Legacy Court
END:VEVENT
BEGIN:VEVENT
DTSTART;TZID=America/Chicago:20250708T103000
DTEND;TZID=America/Chicago:20250708T113000
DTSTAMP:20260420T131903
CREATED:20250625T092823Z
LAST-MODIFIED:20250708T094321Z
UID:10000956-1751970600-1751974200@urbanaplaceseniorliving.com
SUMMARY:Manicures
DESCRIPTION:
URL:https://urbanaplaceseniorliving.com/event-calendar/manicures-13/
CATEGORIES:Legacy Court
END:VEVENT
BEGIN:VEVENT
DTSTART;TZID=America/Chicago:20250708T100000
DTEND;TZID=America/Chicago:20250708T110000
DTSTAMP:20260420T131903
CREATED:20250625T092823Z
LAST-MODIFIED:20250708T094321Z
UID:10000955-1751968800-1751972400@urbanaplaceseniorliving.com
SUMMARY:Group Exercise
DESCRIPTION:
URL:https://urbanaplaceseniorliving.com/event-calendar/group-exercise-15/
CATEGORIES:Legacy Court
END:VEVENT
BEGIN:VEVENT
DTSTART;TZID=America/Chicago:20250708T093000
DTEND;TZID=America/Chicago:20250708T103000
DTSTAMP:20260420T131903
CREATED:20250625T092823Z
LAST-MODIFIED:20250708T094321Z
UID:10000954-1751967000-1751970600@urbanaplaceseniorliving.com
SUMMARY:Short Stories Read Aloud
DESCRIPTION:
URL:https://urbanaplaceseniorliving.com/event-calendar/short-stories-read-aloud-8/
CATEGORIES:Legacy Court
END:VEVENT
BEGIN:VEVENT
DTSTART;TZID=America/Chicago:20250708T080000
DTEND;TZID=America/Chicago:20250708T090000
DTSTAMP:20260420T131903
CREATED:20250625T092823Z
LAST-MODIFIED:20250708T094321Z
UID:10000953-1751961600-1751965200@urbanaplaceseniorliving.com
SUMMARY:Breakfast
DESCRIPTION:
URL:https://urbanaplaceseniorliving.com/event-calendar/breakfast-53/
CATEGORIES:Legacy Court
END:VEVENT
BEGIN:VEVENT
DTSTART;TZID=America/Chicago:20250707T180000
DTEND;TZID=America/Chicago:20250707T190000
DTSTAMP:20260420T131903
CREATED:20250625T092822Z
LAST-MODIFIED:20250707T094312Z
UID:10000952-1751911200-1751914800@urbanaplaceseniorliving.com
SUMMARY:Summer Reminisce
DESCRIPTION:
URL:https://urbanaplaceseniorliving.com/event-calendar/summer-reminisce/
CATEGORIES:Legacy Court
END:VEVENT
BEGIN:VEVENT
DTSTART;TZID=America/Chicago:20250707T170000
DTEND;TZID=America/Chicago:20250707T180000
DTSTAMP:20260420T131903
CREATED:20250625T092822Z
LAST-MODIFIED:20250707T094313Z
UID:10000951-1751907600-1751911200@urbanaplaceseniorliving.com
SUMMARY:Dinner & Oshibori
DESCRIPTION:
URL:https://urbanaplaceseniorliving.com/event-calendar/dinner-oshibori-53/
CATEGORIES:Legacy Court
END:VEVENT
BEGIN:VEVENT
DTSTART;TZID=America/Chicago:20250707T163000
DTEND;TZID=America/Chicago:20250707T173000
DTSTAMP:20260420T131903
CREATED:20250625T092822Z
LAST-MODIFIED:20250707T094312Z
UID:10000950-1751905800-1751909400@urbanaplaceseniorliving.com
SUMMARY:Walking Group
DESCRIPTION:
URL:https://urbanaplaceseniorliving.com/event-calendar/walking-group-46/
CATEGORIES:Legacy Court
END:VEVENT
BEGIN:VEVENT
DTSTART;TZID=America/Chicago:20250707T161500
DTEND;TZID=America/Chicago:20250707T171500
DTSTAMP:20260420T131903
CREATED:20250706T094312Z
LAST-MODIFIED:20250707T094312Z
UID:10001229-1751904900-1751908500@urbanaplaceseniorliving.com
SUMMARY:Baking Trivia
DESCRIPTION:
URL:https://urbanaplaceseniorliving.com/event-calendar/baking-trivia/
CATEGORIES:Legacy Court
END:VEVENT
BEGIN:VEVENT
DTSTART;TZID=America/Chicago:20250707T151500
DTEND;TZID=America/Chicago:20250707T161500
DTSTAMP:20260420T131903
CREATED:20250625T092822Z
LAST-MODIFIED:20250707T094313Z
UID:10000949-1751901300-1751904900@urbanaplaceseniorliving.com
SUMMARY:Watercolor Painting
DESCRIPTION:
URL:https://urbanaplaceseniorliving.com/event-calendar/watercolor-painting-2/
CATEGORIES:Legacy Court
END:VEVENT
BEGIN:VEVENT
DTSTART;TZID=America/Chicago:20250707T141500
DTEND;TZID=America/Chicago:20250707T151500
DTSTAMP:20260420T131903
CREATED:20250607T214357Z
LAST-MODIFIED:20250707T094313Z
UID:10000768-1751897700-1751901300@urbanaplaceseniorliving.com
SUMMARY:Lemonade on the Patio
DESCRIPTION:
URL:https://urbanaplaceseniorliving.com/event-calendar/lemonade-on-the-patio-6/
CATEGORIES:Legacy Court
END:VEVENT
BEGIN:VEVENT
DTSTART;TZID=America/Chicago:20250707T134500
DTEND;TZID=America/Chicago:20250707T144500
DTSTAMP:20260420T131903
CREATED:20250625T092822Z
LAST-MODIFIED:20250707T094313Z
UID:10000948-1751895900-1751899500@urbanaplaceseniorliving.com
SUMMARY:Ring Toss
DESCRIPTION:
URL:https://urbanaplaceseniorliving.com/event-calendar/ring-toss-3/
CATEGORIES:Legacy Court
END:VEVENT
BEGIN:VEVENT
DTSTART;TZID=America/Chicago:20250707T120000
DTEND;TZID=America/Chicago:20250707T130000
DTSTAMP:20260420T131903
CREATED:20250625T092822Z
LAST-MODIFIED:20250707T094313Z
UID:10000947-1751889600-1751893200@urbanaplaceseniorliving.com
SUMMARY:Lunch & Oshibori
DESCRIPTION:
URL:https://urbanaplaceseniorliving.com/event-calendar/lunch-oshibori-52/
CATEGORIES:Legacy Court
END:VEVENT
BEGIN:VEVENT
DTSTART;TZID=America/Chicago:20250707T110000
DTEND;TZID=America/Chicago:20250707T120000
DTSTAMP:20260420T131903
CREATED:20250625T092822Z
LAST-MODIFIED:20250707T094313Z
UID:10000946-1751886000-1751889600@urbanaplaceseniorliving.com
SUMMARY:Toss n' Talk Ball
DESCRIPTION:
URL:https://urbanaplaceseniorliving.com/event-calendar/toss-n-talk-ball-21/
CATEGORIES:Legacy Court
END:VEVENT
BEGIN:VEVENT
DTSTART;TZID=America/Chicago:20250707T103000
DTEND;TZID=America/Chicago:20250707T113000
DTSTAMP:20260420T131903
CREATED:20250607T214357Z
LAST-MODIFIED:20250707T094313Z
UID:10000767-1751884200-1751887800@urbanaplaceseniorliving.com
SUMMARY:Bible Study w/Chaplain Russell
DESCRIPTION:Join Chaplain Russell in the 1st floor Bistro
URL:https://urbanaplaceseniorliving.com/event-calendar/bible-study-w-chaplain-russell-2/
LOCATION:Bistro
CATEGORIES:Assisted Living,Legacy Court
END:VEVENT
BEGIN:VEVENT
DTSTART;TZID=America/Chicago:20250707T100000
DTEND;TZID=America/Chicago:20250707T110000
DTSTAMP:20260420T131903
CREATED:20250625T092822Z
LAST-MODIFIED:20250707T094313Z
UID:10000945-1751882400-1751886000@urbanaplaceseniorliving.com
SUMMARY:Morning Stretches
DESCRIPTION:
URL:https://urbanaplaceseniorliving.com/event-calendar/morning-stretches-16/
CATEGORIES:Legacy Court
END:VEVENT
BEGIN:VEVENT
DTSTART;TZID=America/Chicago:20250707T091500
DTEND;TZID=America/Chicago:20250707T101500
DTSTAMP:20260420T131903
CREATED:20250625T092822Z
LAST-MODIFIED:20250707T094313Z
UID:10000944-1751879700-1751883300@urbanaplaceseniorliving.com
SUMMARY:1:1 Visits
DESCRIPTION:
URL:https://urbanaplaceseniorliving.com/event-calendar/11-visits-23/
CATEGORIES:Legacy Court
END:VEVENT
BEGIN:VEVENT
DTSTART;TZID=America/Chicago:20250707T080000
DTEND;TZID=America/Chicago:20250707T090000
DTSTAMP:20260420T131903
CREATED:20250625T092822Z
LAST-MODIFIED:20250707T094312Z
UID:10000943-1751875200-1751878800@urbanaplaceseniorliving.com
SUMMARY:Breakfast
DESCRIPTION:
URL:https://urbanaplaceseniorliving.com/event-calendar/breakfast-52/
CATEGORIES:Legacy Court
END:VEVENT
BEGIN:VEVENT
DTSTART;TZID=America/Chicago:20250706T180000
DTEND;TZID=America/Chicago:20250706T190000
DTSTAMP:20260420T131903
CREATED:20250625T092822Z
LAST-MODIFIED:20250706T094311Z
UID:10000942-1751824800-1751828400@urbanaplaceseniorliving.com
SUMMARY:Sing-Along w/ Susie Q
DESCRIPTION:
URL:https://urbanaplaceseniorliving.com/event-calendar/sing-along-w-susie-q-8/
CATEGORIES:Legacy Court
END:VEVENT
BEGIN:VEVENT
DTSTART;TZID=America/Chicago:20250706T170000
DTEND;TZID=America/Chicago:20250706T180000
DTSTAMP:20260420T131903
CREATED:20250625T092822Z
LAST-MODIFIED:20250706T094313Z
UID:10000941-1751821200-1751824800@urbanaplaceseniorliving.com
SUMMARY:Dinner & Oshibori
DESCRIPTION:
URL:https://urbanaplaceseniorliving.com/event-calendar/dinner-oshibori-52/
CATEGORIES:Legacy Court
END:VEVENT
END:VCALENDAR