BEGIN:VCALENDAR
VERSION:2.0
PRODID:-//Urbana Place Senior Living in Brooklyn Park - ECPv6.11.2.1//NONSGML v1.0//EN
CALSCALE:GREGORIAN
METHOD:PUBLISH
X-WR-CALNAME:Urbana Place Senior Living in Brooklyn Park
X-ORIGINAL-URL:https://urbanaplaceseniorliving.com
X-WR-CALDESC:Events for Urbana Place Senior Living in Brooklyn Park
REFRESH-INTERVAL;VALUE=DURATION:PT1H
X-Robots-Tag:noindex
X-PUBLISHED-TTL:PT1H
BEGIN:VTIMEZONE
TZID:America/Chicago
BEGIN:DAYLIGHT
TZOFFSETFROM:-0600
TZOFFSETTO:-0500
TZNAME:CDT
DTSTART:20260308T080000
END:DAYLIGHT
BEGIN:STANDARD
TZOFFSETFROM:-0500
TZOFFSETTO:-0600
TZNAME:CST
DTSTART:20261101T070000
END:STANDARD
END:VTIMEZONE
BEGIN:VEVENT
DTSTART;TZID=America/Chicago:20260501T110000
DTEND;TZID=America/Chicago:20260501T113000
DTSTAMP:20260419T163941
CREATED:20260402T064325Z
LAST-MODIFIED:20260419T074330Z
UID:10005590-1777633200-1777635000@urbanaplaceseniorliving.com
SUMMARY:Stretch & Strengthen Exercise Class
DESCRIPTION:All abilities are welcome for this seated group exercise class
URL:https://urbanaplaceseniorliving.com/event-calendar/stretch-strengthen-exercise-class-13/
LOCATION:Wellness Center-2nd
CATEGORIES:Assisted Living
END:VEVENT
BEGIN:VEVENT
DTSTART;TZID=America/Chicago:20260501T130000
DTEND;TZID=America/Chicago:20260501T133000
DTSTAMP:20260419T163941
CREATED:20260402T064325Z
LAST-MODIFIED:20260419T074330Z
UID:10005591-1777640400-1777642200@urbanaplaceseniorliving.com
SUMMARY:Really Big Show
DESCRIPTION:The Really Big Show recaps the weeks Robot Soccer games
URL:https://urbanaplaceseniorliving.com/event-calendar/really-big-show-21/
LOCATION:Community Room-1st
CATEGORIES:Assisted Living
END:VEVENT
BEGIN:VEVENT
DTSTART;TZID=America/Chicago:20260501T140000
DTEND;TZID=America/Chicago:20260501T150000
DTSTAMP:20260419T163941
CREATED:20260402T064325Z
LAST-MODIFIED:20260419T074330Z
UID:10005592-1777644000-1777647600@urbanaplaceseniorliving.com
SUMMARY:Happy Hour 'Margaritas'
DESCRIPTION:Join the fun in the Pub. Non alcoholic drinks always available
URL:https://urbanaplaceseniorliving.com/event-calendar/happy-hour-p-15/
LOCATION:Pub-2nd
CATEGORIES:Assisted Living
END:VEVENT
BEGIN:VEVENT
DTSTART;TZID=America/Chicago:20260501T150000
DTEND;TZID=America/Chicago:20260501T160000
DTSTAMP:20260419T163941
CREATED:20260418T074324Z
LAST-MODIFIED:20260419T074330Z
UID:10005769-1777647600-1777651200@urbanaplaceseniorliving.com
SUMMARY:Cribbage/Cards
DESCRIPTION:Grab a partner for a game of cribbage or play some cards!
URL:https://urbanaplaceseniorliving.com/event-calendar/cribbage-cards/
LOCATION:Pub-2nd
CATEGORIES:Assisted Living
END:VEVENT
END:VCALENDAR