BEGIN:VCALENDAR
VERSION:2.0
PRODID:-//Urbana Place Senior Living in Brooklyn Park - ECPv6.11.2.1//NONSGML v1.0//EN
CALSCALE:GREGORIAN
METHOD:PUBLISH
X-WR-CALNAME:Urbana Place Senior Living in Brooklyn Park
X-ORIGINAL-URL:https://urbanaplaceseniorliving.com
X-WR-CALDESC:Events for Urbana Place Senior Living in Brooklyn Park
REFRESH-INTERVAL;VALUE=DURATION:PT1H
X-Robots-Tag:noindex
X-PUBLISHED-TTL:PT1H
BEGIN:VTIMEZONE
TZID:America/Chicago
BEGIN:DAYLIGHT
TZOFFSETFROM:-0600
TZOFFSETTO:-0500
TZNAME:CDT
DTSTART:20260308T080000
END:DAYLIGHT
BEGIN:STANDARD
TZOFFSETFROM:-0500
TZOFFSETTO:-0600
TZNAME:CST
DTSTART:20261101T070000
END:STANDARD
END:VTIMEZONE
BEGIN:VEVENT
DTSTART;TZID=America/Chicago:20260430T091500
DTEND;TZID=America/Chicago:20260430T094500
DTSTAMP:20260419T164826
CREATED:20260401T064328Z
LAST-MODIFIED:20260419T074329Z
UID:10005471-1777540500-1777542300@urbanaplaceseniorliving.com
SUMMARY:Steady Striders Exercise Class
DESCRIPTION:New Group Exercise Class! Join us in the 2nd floor Wellness Center for a class focused on balance and mobility
URL:https://urbanaplaceseniorliving.com/event-calendar/steady-striders-exercise-class-5/
LOCATION:Wellness Center-2nd
CATEGORIES:Assisted Living
END:VEVENT
BEGIN:VEVENT
DTSTART;TZID=America/Chicago:20260430T103000
DTEND;TZID=America/Chicago:20260430T113000
DTSTAMP:20260419T164826
CREATED:20260401T064328Z
LAST-MODIFIED:20260419T074329Z
UID:10005472-1777545000-1777548600@urbanaplaceseniorliving.com
SUMMARY:Eucharist w/St Gerards
DESCRIPTION:
URL:https://urbanaplaceseniorliving.com/event-calendar/eucharist-w-st-gerards-51/
LOCATION:Legacy Court-1st
CATEGORIES:Assisted Living,Legacy Court
END:VEVENT
BEGIN:VEVENT
DTSTART;TZID=America/Chicago:20260430T130000
DTEND;TZID=America/Chicago:20260430T140000
DTSTAMP:20260419T164826
CREATED:20260401T064328Z
LAST-MODIFIED:20260419T074329Z
UID:10005473-1777554000-1777557600@urbanaplaceseniorliving.com
SUMMARY:Robot Soccer Practice
DESCRIPTION:
URL:https://urbanaplaceseniorliving.com/event-calendar/robot-soccer-practice-7/
LOCATION:Bistro-1st
CATEGORIES:Assisted Living
END:VEVENT
BEGIN:VEVENT
DTSTART;TZID=America/Chicago:20260430T153000
DTEND;TZID=America/Chicago:20260430T163000
DTSTAMP:20260419T164826
CREATED:20260401T064328Z
LAST-MODIFIED:20260419T074330Z
UID:10005474-1777563000-1777566600@urbanaplaceseniorliving.com
SUMMARY:Women's Group Pampering
DESCRIPTION:Calling all the ladies of Urbana Place! Join us in the 2nd floor Pub for some pampering
URL:https://urbanaplaceseniorliving.com/event-calendar/womens-group-pampering-7/
LOCATION:Pub-2nd
CATEGORIES:Assisted Living
END:VEVENT
BEGIN:VEVENT
DTSTART;TZID=America/Chicago:20260430T181500
DTEND;TZID=America/Chicago:20260430T191500
DTSTAMP:20260419T164826
CREATED:20260401T064328Z
LAST-MODIFIED:20260419T074330Z
UID:10005475-1777572900-1777576500@urbanaplaceseniorliving.com
SUMMARY:Featured Movie
DESCRIPTION:
URL:https://urbanaplaceseniorliving.com/event-calendar/featured-movie-49/
LOCATION:Pub-2nd
CATEGORIES:Assisted Living
END:VEVENT
END:VCALENDAR