BEGIN:VCALENDAR
VERSION:2.0
PRODID:-//Urbana Place Senior Living in Brooklyn Park - ECPv6.11.2.1//NONSGML v1.0//EN
CALSCALE:GREGORIAN
METHOD:PUBLISH
X-WR-CALNAME:Urbana Place Senior Living in Brooklyn Park
X-ORIGINAL-URL:https://urbanaplaceseniorliving.com
X-WR-CALDESC:Events for Urbana Place Senior Living in Brooklyn Park
REFRESH-INTERVAL;VALUE=DURATION:PT1H
X-Robots-Tag:noindex
X-PUBLISHED-TTL:PT1H
BEGIN:VTIMEZONE
TZID:America/Chicago
BEGIN:DAYLIGHT
TZOFFSETFROM:-0600
TZOFFSETTO:-0500
TZNAME:CDT
DTSTART:20260308T080000
END:DAYLIGHT
BEGIN:STANDARD
TZOFFSETFROM:-0500
TZOFFSETTO:-0600
TZNAME:CST
DTSTART:20261101T070000
END:STANDARD
END:VTIMEZONE
BEGIN:VEVENT
DTSTART;TZID=America/Chicago:20260317T100000
DTEND;TZID=America/Chicago:20260317T120000
DTSTAMP:20260419T195148
CREATED:20260216T034354Z
LAST-MODIFIED:20260317T062811Z
UID:10004831-1773741600-1773748800@urbanaplaceseniorliving.com
SUMMARY:Resident Council Meeting
DESCRIPTION:Come to the Community Room for the resident led resident council meeting
URL:https://urbanaplaceseniorliving.com/event-calendar/resident-council-meeting-11/
LOCATION:Community Room-1st
CATEGORIES:Assisted Living
END:VEVENT
BEGIN:VEVENT
DTSTART;TZID=America/Chicago:20260317T124500
DTEND;TZID=America/Chicago:20260317T134500
DTSTAMP:20260419T195148
CREATED:20260216T034358Z
LAST-MODIFIED:20260317T062811Z
UID:10004832-1773751500-1773755100@urbanaplaceseniorliving.com
SUMMARY:TRYathlon Playoffs
DESCRIPTION:
URL:https://urbanaplaceseniorliving.com/event-calendar/tryathlon-playoffs/
LOCATION:Community Room-1st
CATEGORIES:Assisted Living
END:VEVENT
BEGIN:VEVENT
DTSTART;TZID=America/Chicago:20260317T140000
DTEND;TZID=America/Chicago:20260317T150000
DTSTAMP:20260419T195148
CREATED:20260216T034359Z
LAST-MODIFIED:20260317T084313Z
UID:10004833-1773756000-1773759600@urbanaplaceseniorliving.com
SUMMARY:Arm Chair Travel to Ireland
DESCRIPTION:Join us as we travel to Ireland from the comfort of the Community Room!
URL:https://urbanaplaceseniorliving.com/event-calendar/arm-chair-travel-to-ireland/
LOCATION:Community Room-1st
CATEGORIES:Assisted Living,Legacy Court
END:VEVENT
BEGIN:VEVENT
DTSTART;TZID=America/Chicago:20260317T153000
DTEND;TZID=America/Chicago:20260317T163000
DTSTAMP:20260419T195148
CREATED:20260216T034400Z
LAST-MODIFIED:20260317T062811Z
UID:10004834-1773761400-1773765000@urbanaplaceseniorliving.com
SUMMARY:Play Wheel of Fortune
DESCRIPTION:
URL:https://urbanaplaceseniorliving.com/event-calendar/play-wheel-of-fortune-46/
LOCATION:Pub-2nd
CATEGORIES:Assisted Living
END:VEVENT
BEGIN:VEVENT
DTSTART;TZID=America/Chicago:20260317T180000
DTEND;TZID=America/Chicago:20260317T190000
DTSTAMP:20260419T195148
CREATED:20260216T034400Z
LAST-MODIFIED:20260317T062811Z
UID:10004835-1773770400-1773774000@urbanaplaceseniorliving.com
SUMMARY:Chat & Color
DESCRIPTION:Come to the 2nd floor Lounge after dinner to relax\, chat and color. Supplies will be provided
URL:https://urbanaplaceseniorliving.com/event-calendar/chat-color-7/
LOCATION:Pub-2nd
CATEGORIES:Assisted Living
END:VEVENT
END:VCALENDAR