BEGIN:VCALENDAR
VERSION:2.0
PRODID:-//Urbana Place Senior Living in Brooklyn Park - ECPv6.11.2.1//NONSGML v1.0//EN
CALSCALE:GREGORIAN
METHOD:PUBLISH
X-WR-CALNAME:Urbana Place Senior Living in Brooklyn Park
X-ORIGINAL-URL:https://urbanaplaceseniorliving.com
X-WR-CALDESC:Events for Urbana Place Senior Living in Brooklyn Park
REFRESH-INTERVAL;VALUE=DURATION:PT1H
X-Robots-Tag:noindex
X-PUBLISHED-TTL:PT1H
BEGIN:VTIMEZONE
TZID:America/Chicago
BEGIN:DAYLIGHT
TZOFFSETFROM:-0600
TZOFFSETTO:-0500
TZNAME:CDT
DTSTART:20260308T080000
END:DAYLIGHT
BEGIN:STANDARD
TZOFFSETFROM:-0500
TZOFFSETTO:-0600
TZNAME:CST
DTSTART:20261101T070000
END:STANDARD
END:VTIMEZONE
BEGIN:VEVENT
DTSTART;TZID=America/Chicago:20260310T094500
DTEND;TZID=America/Chicago:20260310T104500
DTSTAMP:20260419T195204
CREATED:20260209T031335Z
LAST-MODIFIED:20260310T061313Z
UID:10004739-1773135900-1773139500@urbanaplaceseniorliving.com
SUMMARY:Manicures
DESCRIPTION:
URL:https://urbanaplaceseniorliving.com/event-calendar/manicures-62/
LOCATION:Bistro-1st
CATEGORIES:Assisted Living
END:VEVENT
BEGIN:VEVENT
DTSTART;TZID=America/Chicago:20260310T140000
DTEND;TZID=America/Chicago:20260310T150000
DTSTAMP:20260419T195204
CREATED:20260209T031335Z
LAST-MODIFIED:20260310T072826Z
UID:10004740-1773151200-1773154800@urbanaplaceseniorliving.com
SUMMARY:Craft Group-Shamrock Vase
DESCRIPTION:Join Laurie for this mod podge project!
URL:https://urbanaplaceseniorliving.com/event-calendar/craft-group/
LOCATION:Bistro-1st
CATEGORIES:Assisted Living,Legacy Court
END:VEVENT
BEGIN:VEVENT
DTSTART;TZID=America/Chicago:20260310T143000
DTEND;TZID=America/Chicago:20260310T153000
DTSTAMP:20260419T195204
CREATED:20260209T031336Z
LAST-MODIFIED:20260212T031334Z
UID:10004741-1773153000-1773156600@urbanaplaceseniorliving.com
SUMMARY:Chef Chat
DESCRIPTION:Come to the Dining Room to talk with our Culinary Director from New Horizons
URL:https://urbanaplaceseniorliving.com/event-calendar/chef-chat-7/
LOCATION:Dining Room-2nd
CATEGORIES:Assisted Living
END:VEVENT
BEGIN:VEVENT
DTSTART;TZID=America/Chicago:20260310T150000
DTEND;TZID=America/Chicago:20260310T160000
DTSTAMP:20260419T195204
CREATED:20260218T035833Z
LAST-MODIFIED:20260310T072826Z
UID:10004854-1773154800-1773158400@urbanaplaceseniorliving.com
SUMMARY:Lucky Leprechaun Cart
DESCRIPTION:Keep your keys open for the roaming ‘Lucky Leprechaun’ cart! The cart will start out from the Bistro at 3:30 and roam the building with prizes for some lucky winners!
URL:https://urbanaplaceseniorliving.com/event-calendar/lucky-leprechaun-cart/
LOCATION:Bistro-1st
CATEGORIES:Assisted Living,Legacy Court
END:VEVENT
BEGIN:VEVENT
DTSTART;TZID=America/Chicago:20260310T150000
DTEND;TZID=America/Chicago:20260310T160000
DTSTAMP:20260419T195204
CREATED:20260219T041352Z
LAST-MODIFIED:20260310T061314Z
UID:10004869-1773154800-1773158400@urbanaplaceseniorliving.com
SUMMARY:International Women's Day Chat & Chocolate
DESCRIPTION:Let’s recognize Women who have changed the world – and enjoy some chocolate!
URL:https://urbanaplaceseniorliving.com/event-calendar/international-womens-day-chat-chocolate/
LOCATION:Community Room-1st
CATEGORIES:Assisted Living
END:VEVENT
BEGIN:VEVENT
DTSTART;TZID=America/Chicago:20260310T153000
DTEND;TZID=America/Chicago:20260310T163000
DTSTAMP:20260419T195204
CREATED:20260209T031336Z
LAST-MODIFIED:20260217T034337Z
UID:10004742-1773156600-1773160200@urbanaplaceseniorliving.com
SUMMARY:Left Right Center Dice Game
DESCRIPTION:Come to the Pub to play this fun\, easy dice game
URL:https://urbanaplaceseniorliving.com/event-calendar/left-right-center-dice-game/
LOCATION:Pub-2nd
CATEGORIES:Assisted Living
END:VEVENT
BEGIN:VEVENT
DTSTART;TZID=America/Chicago:20260310T180000
DTEND;TZID=America/Chicago:20260310T190000
DTSTAMP:20260419T195204
CREATED:20260209T031336Z
LAST-MODIFIED:20260310T061314Z
UID:10004743-1773165600-1773169200@urbanaplaceseniorliving.com
SUMMARY:Chat & Color
DESCRIPTION:Come to the 2nd floor Lounge after dinner to relax\, chat and color. Supplies will be provided
URL:https://urbanaplaceseniorliving.com/event-calendar/chat-color-6/
LOCATION:Pub-2nd
CATEGORIES:Assisted Living
END:VEVENT
END:VCALENDAR