BEGIN:VCALENDAR
VERSION:2.0
PRODID:-//Urbana Place Senior Living in Brooklyn Park - ECPv6.11.2.1//NONSGML v1.0//EN
CALSCALE:GREGORIAN
METHOD:PUBLISH
X-WR-CALNAME:Urbana Place Senior Living in Brooklyn Park
X-ORIGINAL-URL:https://urbanaplaceseniorliving.com
X-WR-CALDESC:Events for Urbana Place Senior Living in Brooklyn Park
REFRESH-INTERVAL;VALUE=DURATION:PT1H
X-Robots-Tag:noindex
X-PUBLISHED-TTL:PT1H
BEGIN:VTIMEZONE
TZID:America/Chicago
BEGIN:DAYLIGHT
TZOFFSETFROM:-0600
TZOFFSETTO:-0500
TZNAME:CDT
DTSTART:20260308T080000
END:DAYLIGHT
BEGIN:STANDARD
TZOFFSETFROM:-0500
TZOFFSETTO:-0600
TZNAME:CST
DTSTART:20261101T070000
END:STANDARD
END:VTIMEZONE
BEGIN:VEVENT
DTSTART;TZID=America/Chicago:20260309T093000
DTEND;TZID=America/Chicago:20260309T100000
DTSTAMP:20260419T212046
CREATED:20260208T025821Z
LAST-MODIFIED:20260309T061318Z
UID:10004725-1773048600-1773050400@urbanaplaceseniorliving.com
SUMMARY:Roll into Wellness Exercise Class
DESCRIPTION:Join us in the 2nd floor Wellness Center for a fun group exercise class for all abilities!
URL:https://urbanaplaceseniorliving.com/event-calendar/roll-into-wellness-exercise-class-4/
LOCATION:Wellness Center-2nd
CATEGORIES:Assisted Living
END:VEVENT
BEGIN:VEVENT
DTSTART;TZID=America/Chicago:20260309T133000
DTEND;TZID=America/Chicago:20260309T143000
DTSTAMP:20260419T212046
CREATED:20260208T025821Z
LAST-MODIFIED:20260309T061318Z
UID:10004726-1773063000-1773066600@urbanaplaceseniorliving.com
SUMMARY:Bingo
DESCRIPTION:
URL:https://urbanaplaceseniorliving.com/event-calendar/bingo-75/
LOCATION:Community Room-1st
CATEGORIES:Assisted Living
END:VEVENT
BEGIN:VEVENT
DTSTART;TZID=America/Chicago:20260309T143000
DTEND;TZID=America/Chicago:20260309T153000
DTSTAMP:20260419T212046
CREATED:20260208T025821Z
LAST-MODIFIED:20260309T061319Z
UID:10004727-1773066600-1773070200@urbanaplaceseniorliving.com
SUMMARY:Light After Loss w/Chaplain Russell
DESCRIPTION:We all have had loss in our lives. Join Chaplain Russell to explore and learn ways to live with your losses and grief.
URL:https://urbanaplaceseniorliving.com/event-calendar/grief-group-w-chaplain-russell-10/
LOCATION:Community Room-1st
CATEGORIES:Assisted Living
END:VEVENT
BEGIN:VEVENT
DTSTART;TZID=America/Chicago:20260309T153000
DTEND;TZID=America/Chicago:20260309T163000
DTSTAMP:20260419T212046
CREATED:20260218T035832Z
LAST-MODIFIED:20260309T061319Z
UID:10004853-1773070200-1773073800@urbanaplaceseniorliving.com
SUMMARY:Wii Bowling
DESCRIPTION:Everyone is able to participate in this kind of Bowling! Come to the 2nd floor Wellness Center to check it out!
URL:https://urbanaplaceseniorliving.com/event-calendar/wii-bowling/
LOCATION:Wellness Center-2nd
CATEGORIES:Assisted Living
END:VEVENT
BEGIN:VEVENT
DTSTART;TZID=America/Chicago:20260309T180000
DTEND;TZID=America/Chicago:20260309T190000
DTSTAMP:20260419T212046
CREATED:20260208T025821Z
LAST-MODIFIED:20260309T061319Z
UID:10004728-1773079200-1773082800@urbanaplaceseniorliving.com
SUMMARY:Play Dominos
DESCRIPTION:
URL:https://urbanaplaceseniorliving.com/event-calendar/play-dominos-34/
LOCATION:Lounge-2nd
CATEGORIES:Assisted Living
END:VEVENT
END:VCALENDAR