BEGIN:VCALENDAR
VERSION:2.0
PRODID:-//Urbana Place Senior Living in Brooklyn Park - ECPv6.11.2.1//NONSGML v1.0//EN
CALSCALE:GREGORIAN
METHOD:PUBLISH
X-WR-CALNAME:Urbana Place Senior Living in Brooklyn Park
X-ORIGINAL-URL:https://urbanaplaceseniorliving.com
X-WR-CALDESC:Events for Urbana Place Senior Living in Brooklyn Park
REFRESH-INTERVAL;VALUE=DURATION:PT1H
X-Robots-Tag:noindex
X-PUBLISHED-TTL:PT1H
BEGIN:VTIMEZONE
TZID:America/Chicago
BEGIN:DAYLIGHT
TZOFFSETFROM:-0600
TZOFFSETTO:-0500
TZNAME:CDT
DTSTART:20260308T080000
END:DAYLIGHT
BEGIN:STANDARD
TZOFFSETFROM:-0500
TZOFFSETTO:-0600
TZNAME:CST
DTSTART:20261101T070000
END:STANDARD
END:VTIMEZONE
BEGIN:VEVENT
DTSTART;VALUE=DATE:20260307
DTEND;VALUE=DATE:20260308
DTSTAMP:20260419T195153
CREATED:20260206T024326Z
LAST-MODIFIED:20260306T052831Z
UID:10004697-1772841600-1772927999@urbanaplaceseniorliving.com
SUMMARY:Independent Exercise
DESCRIPTION:Stop in the Wellness Center and move your body today! All equipment is available for your use
URL:https://urbanaplaceseniorliving.com/event-calendar/independent-exercise-17/
LOCATION:Wellness Center-2nd
CATEGORIES:Assisted Living
END:VEVENT
BEGIN:VEVENT
DTSTART;TZID=America/Chicago:20260307T090000
DTEND;TZID=America/Chicago:20260307T110000
DTSTAMP:20260419T195153
CREATED:20260206T024326Z
LAST-MODIFIED:20260307T054425Z
UID:10004698-1772874000-1772881200@urbanaplaceseniorliving.com
SUMMARY:Beth Yeshua Virtual Service
DESCRIPTION:Beth Yeshua International ties you to your roots. If you are Jewish\, our joyous worship will stir your soul. If you are Christian\, our synagogue gives you a chance to explore the Jewish roots of your faith. All are welcome!
URL:https://urbanaplaceseniorliving.com/event-calendar/beth-yeshua-virtual-service-44/
LOCATION:Wellness Center-2nd
CATEGORIES:Assisted Living
END:VEVENT
BEGIN:VEVENT
DTSTART;TZID=America/Chicago:20260307T100000
DTEND;TZID=America/Chicago:20260307T110000
DTSTAMP:20260419T195153
CREATED:20260206T024326Z
LAST-MODIFIED:20260307T054426Z
UID:10004699-1772877600-1772881200@urbanaplaceseniorliving.com
SUMMARY:Word Games & Puzzles
DESCRIPTION:Join your friends and neighbors in the 2nd floor Pub to challenge your brain
URL:https://urbanaplaceseniorliving.com/event-calendar/word-games-puzzles-44/
LOCATION:Pub-2nd
CATEGORIES:Assisted Living
END:VEVENT
BEGIN:VEVENT
DTSTART;TZID=America/Chicago:20260307T130000
DTEND;TZID=America/Chicago:20260307T140000
DTSTAMP:20260419T195153
CREATED:20260206T024327Z
LAST-MODIFIED:20260307T054427Z
UID:10004700-1772888400-1772892000@urbanaplaceseniorliving.com
SUMMARY:500 Card Club
DESCRIPTION:Calling all 500 card players! Come to the 2nd floor Pub to play some 500!
URL:https://urbanaplaceseniorliving.com/event-calendar/500-card-club-29/
LOCATION:Pub-2nd
CATEGORIES:Assisted Living
END:VEVENT
BEGIN:VEVENT
DTSTART;TZID=America/Chicago:20260307T150000
DTEND;TZID=America/Chicago:20260307T160000
DTSTAMP:20260419T195153
CREATED:20260206T024327Z
LAST-MODIFIED:20260307T054428Z
UID:10004701-1772895600-1772899200@urbanaplaceseniorliving.com
SUMMARY:Second Chance Bingo
DESCRIPTION:‘Second Chance Bingo’ is just like regular bingo but more fun! Prizes are a collection of items looking for a second chance to find a home. You never know what you could win!
URL:https://urbanaplaceseniorliving.com/event-calendar/second-chance-bingo-19/
LOCATION:Community Room-1st
CATEGORIES:Assisted Living
END:VEVENT
BEGIN:VEVENT
DTSTART;TZID=America/Chicago:20260307T181500
DTEND;TZID=America/Chicago:20260307T201500
DTSTAMP:20260419T195153
CREATED:20260206T024327Z
LAST-MODIFIED:20260307T054429Z
UID:10004702-1772907300-1772914500@urbanaplaceseniorliving.com
SUMMARY:Movie 'Song Sung Blue'
DESCRIPTION:
URL:https://urbanaplaceseniorliving.com/event-calendar/movie-mamma-mia-p-18/
LOCATION:Pub-2nd
CATEGORIES:Assisted Living
END:VEVENT
END:VCALENDAR