BEGIN:VCALENDAR
VERSION:2.0
PRODID:-//Urbana Place Senior Living in Brooklyn Park - ECPv6.11.2.1//NONSGML v1.0//EN
CALSCALE:GREGORIAN
METHOD:PUBLISH
X-ORIGINAL-URL:https://urbanaplaceseniorliving.com
X-WR-CALDESC:Events for Urbana Place Senior Living in Brooklyn Park
REFRESH-INTERVAL;VALUE=DURATION:PT1H
X-Robots-Tag:noindex
X-PUBLISHED-TTL:PT1H
BEGIN:VTIMEZONE
TZID:America/Chicago
BEGIN:DAYLIGHT
TZOFFSETFROM:-0600
TZOFFSETTO:-0500
TZNAME:CDT
DTSTART:20260308T080000
END:DAYLIGHT
BEGIN:STANDARD
TZOFFSETFROM:-0500
TZOFFSETTO:-0600
TZNAME:CST
DTSTART:20261101T070000
END:STANDARD
END:VTIMEZONE
BEGIN:VEVENT
DTSTART;TZID=America/Chicago:20260305T103000
DTEND;TZID=America/Chicago:20260305T113000
DTSTAMP:20260419T195352
CREATED:20260204T022816Z
LAST-MODIFIED:20260305T062913Z
UID:10004682-1772706600-1772710200@urbanaplaceseniorliving.com
SUMMARY:Eucharist w/St Gerards
DESCRIPTION:
URL:https://urbanaplaceseniorliving.com/event-calendar/eucharist-w-st-gerards-43/
LOCATION:Legacy Court-1st
CATEGORIES:Assisted Living,Legacy Court
END:VEVENT
BEGIN:VEVENT
DTSTART;TZID=America/Chicago:20260305T124500
DTEND;TZID=America/Chicago:20260305T134500
DTSTAMP:20260419T195352
CREATED:20260204T022817Z
LAST-MODIFIED:20260305T052811Z
UID:10004683-1772714700-1772718300@urbanaplaceseniorliving.com
SUMMARY:TRYathlon Competition
DESCRIPTION:It’s Crank day! Come to the Community Room to ‘get cranky’ with us!
URL:https://urbanaplaceseniorliving.com/event-calendar/tryathlon-competition-16/
LOCATION:Community Room-1st
CATEGORIES:Assisted Living
END:VEVENT
BEGIN:VEVENT
DTSTART;TZID=America/Chicago:20260305T140000
DTEND;TZID=America/Chicago:20260305T150000
DTSTAMP:20260419T195352
CREATED:20260204T022817Z
LAST-MODIFIED:20260305T062913Z
UID:10004684-1772719200-1772722800@urbanaplaceseniorliving.com
SUMMARY:Lifelong Learning Virtual Presentation 'Art & History: A Journey through The Civil War
DESCRIPTION:Presented by The Smithsonian American Art Museum
URL:https://urbanaplaceseniorliving.com/event-calendar/lll/
LOCATION:Community Room-1st
CATEGORIES:Assisted Living,Legacy Court
END:VEVENT
BEGIN:VEVENT
DTSTART;TZID=America/Chicago:20260305T181500
DTEND;TZID=America/Chicago:20260305T191500
DTSTAMP:20260419T195352
CREATED:20260204T022817Z
LAST-MODIFIED:20260305T052811Z
UID:10004685-1772734500-1772738100@urbanaplaceseniorliving.com
SUMMARY:Featured Movie
DESCRIPTION:
URL:https://urbanaplaceseniorliving.com/event-calendar/featured-movie-41/
LOCATION:Pub-2nd
CATEGORIES:Assisted Living
END:VEVENT
END:VCALENDAR