BEGIN:VCALENDAR
VERSION:2.0
PRODID:-//Urbana Place Senior Living in Brooklyn Park - ECPv6.11.2.1//NONSGML v1.0//EN
CALSCALE:GREGORIAN
METHOD:PUBLISH
X-WR-CALNAME:Urbana Place Senior Living in Brooklyn Park
X-ORIGINAL-URL:https://urbanaplaceseniorliving.com
X-WR-CALDESC:Events for Urbana Place Senior Living in Brooklyn Park
REFRESH-INTERVAL;VALUE=DURATION:PT1H
X-Robots-Tag:noindex
X-PUBLISHED-TTL:PT1H
BEGIN:VTIMEZONE
TZID:America/Chicago
BEGIN:DAYLIGHT
TZOFFSETFROM:-0600
TZOFFSETTO:-0500
TZNAME:CDT
DTSTART:20260308T080000
END:DAYLIGHT
BEGIN:STANDARD
TZOFFSETFROM:-0500
TZOFFSETTO:-0600
TZNAME:CST
DTSTART:20261101T070000
END:STANDARD
END:VTIMEZONE
BEGIN:VEVENT
DTSTART;TZID=America/Chicago:20260304T090000
DTEND;TZID=America/Chicago:20260304T100000
DTSTAMP:20260419T195156
CREATED:20260203T022816Z
LAST-MODIFIED:20260304T061323Z
UID:10004676-1772614800-1772618400@urbanaplaceseniorliving.com
SUMMARY:Coffee Bar
DESCRIPTION:Grab a friend and come to the Bistro for a cup of coffee and conversation! Fresh coffee and flavored creamers will be available
URL:https://urbanaplaceseniorliving.com/event-calendar/coffee-bar-18/
LOCATION:Bistro-1st
CATEGORIES:Assisted Living,Legacy Court
END:VEVENT
BEGIN:VEVENT
DTSTART;TZID=America/Chicago:20260304T093000
DTEND;TZID=America/Chicago:20260304T103000
DTSTAMP:20260419T195156
CREATED:20260203T022816Z
LAST-MODIFIED:20260304T051450Z
UID:10004677-1772616600-1772620200@urbanaplaceseniorliving.com
SUMMARY:Resident Led News & Views
DESCRIPTION:There is so much going on in the world around us. Come to the Bistro to have conversation with your neighbors about current events or anything you like.
URL:https://urbanaplaceseniorliving.com/event-calendar/resident-led-news-views-7/
LOCATION:Bistro-1st
CATEGORIES:Assisted Living
END:VEVENT
BEGIN:VEVENT
DTSTART;TZID=America/Chicago:20260304T110000
DTEND;TZID=America/Chicago:20260304T113000
DTSTAMP:20260419T195156
CREATED:20260203T022816Z
LAST-MODIFIED:20260304T051450Z
UID:10004678-1772622000-1772623800@urbanaplaceseniorliving.com
SUMMARY:Chair Cardio w/Jackie
DESCRIPTION:This exercise class is for all abilities
URL:https://urbanaplaceseniorliving.com/event-calendar/chair-cardio-w-jackie-32/
LOCATION:Wellness Center-2nd
CATEGORIES:Assisted Living
END:VEVENT
BEGIN:VEVENT
DTSTART;TZID=America/Chicago:20260304T140000
DTEND;TZID=America/Chicago:20260304T150000
DTSTAMP:20260419T195156
CREATED:20260203T022816Z
LAST-MODIFIED:20260304T061325Z
UID:10004679-1772632800-1772636400@urbanaplaceseniorliving.com
SUMMARY:Worship Service w/Communion
DESCRIPTION:Join Chaplain Russell in the Community Room for Worship & Communion. All beliefs are welcome
URL:https://urbanaplaceseniorliving.com/event-calendar/worship-service-w-communion-12/
LOCATION:Community Room-1st
CATEGORIES:Assisted Living,Legacy Court
END:VEVENT
BEGIN:VEVENT
DTSTART;TZID=America/Chicago:20260304T151500
DTEND;TZID=America/Chicago:20260304T161500
DTSTAMP:20260419T195156
CREATED:20260206T024324Z
LAST-MODIFIED:20260304T061326Z
UID:10004696-1772637300-1772640900@urbanaplaceseniorliving.com
SUMMARY:Golden Retriever Puppies Visit
DESCRIPTION:You won’t want to miss the chance to snuggle and enjoy time with a litter of MiraDuke Golden Retriever puppies!
URL:https://urbanaplaceseniorliving.com/event-calendar/puppies-visit/
LOCATION:Community Room-1st
CATEGORIES:Assisted Living,Legacy Court
END:VEVENT
END:VCALENDAR