BEGIN:VCALENDAR
VERSION:2.0
PRODID:-//Urbana Place Senior Living in Brooklyn Park - ECPv6.11.2.1//NONSGML v1.0//EN
CALSCALE:GREGORIAN
METHOD:PUBLISH
X-ORIGINAL-URL:https://urbanaplaceseniorliving.com
X-WR-CALDESC:Events for Urbana Place Senior Living in Brooklyn Park
REFRESH-INTERVAL;VALUE=DURATION:PT1H
X-Robots-Tag:noindex
X-PUBLISHED-TTL:PT1H
BEGIN:VTIMEZONE
TZID:America/Chicago
BEGIN:DAYLIGHT
TZOFFSETFROM:-0600
TZOFFSETTO:-0500
TZNAME:CDT
DTSTART:20260308T080000
END:DAYLIGHT
BEGIN:STANDARD
TZOFFSETFROM:-0500
TZOFFSETTO:-0600
TZNAME:CST
DTSTART:20261101T070000
END:STANDARD
END:VTIMEZONE
BEGIN:VEVENT
DTSTART;TZID=America/Chicago:20260302T093000
DTEND;TZID=America/Chicago:20260302T100000
DTSTAMP:20260419T195353
CREATED:20260201T022815Z
LAST-MODIFIED:20260302T045814Z
UID:10004619-1772443800-1772445600@urbanaplaceseniorliving.com
SUMMARY:Roll into Wellness Exercise Class
DESCRIPTION:Join us in the 2nd floor Wellness Center for a fun group exercise class for all abilities!
URL:https://urbanaplaceseniorliving.com/event-calendar/roll-into-wellness-exercise-class-3/
LOCATION:Wellness Center-2nd
CATEGORIES:Assisted Living
END:VEVENT
BEGIN:VEVENT
DTSTART;TZID=America/Chicago:20260302T103000
DTEND;TZID=America/Chicago:20260302T113000
DTSTAMP:20260419T195353
CREATED:20260201T022815Z
LAST-MODIFIED:20260302T054316Z
UID:10004620-1772447400-1772451000@urbanaplaceseniorliving.com
SUMMARY:Bible Study w/Chaplain Russell
DESCRIPTION:Join Chaplain Russell in the 1st floor Bistro
URL:https://urbanaplaceseniorliving.com/event-calendar/bible-study-w-chaplain-russell-10/
LOCATION:Bistro-1st
CATEGORIES:Assisted Living,Legacy Court
END:VEVENT
BEGIN:VEVENT
DTSTART;TZID=America/Chicago:20260302T133000
DTEND;TZID=America/Chicago:20260302T143000
DTSTAMP:20260419T195353
CREATED:20260201T022816Z
LAST-MODIFIED:20260302T045815Z
UID:10004621-1772458200-1772461800@urbanaplaceseniorliving.com
SUMMARY:Bingo
DESCRIPTION:
URL:https://urbanaplaceseniorliving.com/event-calendar/bingo-70/
LOCATION:Community Room-1st
CATEGORIES:Assisted Living
END:VEVENT
BEGIN:VEVENT
DTSTART;TZID=America/Chicago:20260302T144500
DTEND;TZID=America/Chicago:20260302T154500
DTSTAMP:20260419T195353
CREATED:20260201T022816Z
LAST-MODIFIED:20260302T045815Z
UID:10004622-1772462700-1772466300@urbanaplaceseniorliving.com
SUMMARY:Popcorn Social
DESCRIPTION:Come to the Bistro for some freshly popped popcorn and to visit
URL:https://urbanaplaceseniorliving.com/event-calendar/popcorn-social-10/
LOCATION:Bistro-1st
CATEGORIES:Assisted Living
END:VEVENT
BEGIN:VEVENT
DTSTART;TZID=America/Chicago:20260302T180000
DTEND;TZID=America/Chicago:20260302T190000
DTSTAMP:20260419T195353
CREATED:20260201T022816Z
LAST-MODIFIED:20260302T045816Z
UID:10004623-1772474400-1772478000@urbanaplaceseniorliving.com
SUMMARY:Play Dominos
DESCRIPTION:
URL:https://urbanaplaceseniorliving.com/event-calendar/play-dominos-33/
LOCATION:Lounge-2nd
CATEGORIES:Assisted Living
END:VEVENT
END:VCALENDAR