BEGIN:VCALENDAR
VERSION:2.0
PRODID:-//Urbana Place Senior Living in Brooklyn Park - ECPv6.11.2.1//NONSGML v1.0//EN
CALSCALE:GREGORIAN
METHOD:PUBLISH
X-WR-CALNAME:Urbana Place Senior Living in Brooklyn Park
X-ORIGINAL-URL:https://urbanaplaceseniorliving.com
X-WR-CALDESC:Events for Urbana Place Senior Living in Brooklyn Park
REFRESH-INTERVAL;VALUE=DURATION:PT1H
X-Robots-Tag:noindex
X-PUBLISHED-TTL:PT1H
BEGIN:VTIMEZONE
TZID:America/Chicago
BEGIN:DAYLIGHT
TZOFFSETFROM:-0600
TZOFFSETTO:-0500
TZNAME:CDT
DTSTART:20260308T080000
END:DAYLIGHT
BEGIN:STANDARD
TZOFFSETFROM:-0500
TZOFFSETTO:-0600
TZNAME:CST
DTSTART:20261101T070000
END:STANDARD
END:VTIMEZONE
BEGIN:VEVENT
DTSTART;VALUE=DATE:20260228
DTEND;VALUE=DATE:20260301
DTSTAMP:20260419T211920
CREATED:20260130T021321Z
LAST-MODIFIED:20260227T044312Z
UID:10004581-1772236800-1772323199@urbanaplaceseniorliving.com
SUMMARY:Independent Exercise
DESCRIPTION:Stop in the Wellness Center and move your body today! All equipment is available for your use
URL:https://urbanaplaceseniorliving.com/event-calendar/independent-exercise-15/
LOCATION:Wellness Center-2nd
CATEGORIES:Assisted Living
END:VEVENT
BEGIN:VEVENT
DTSTART;TZID=America/Chicago:20260228T090000
DTEND;TZID=America/Chicago:20260228T110000
DTSTAMP:20260419T211920
CREATED:20260130T021321Z
LAST-MODIFIED:20260228T044314Z
UID:10004582-1772269200-1772276400@urbanaplaceseniorliving.com
SUMMARY:Beth Yeshua Virtual Service
DESCRIPTION:Beth Yeshua International ties you to your roots. If you are Jewish\, our joyous worship will stir your soul. If you are Christian\, our synagogue gives you a chance to explore the Jewish roots of your faith. All are welcome!
URL:https://urbanaplaceseniorliving.com/event-calendar/beth-yeshua-virtual-service-43/
LOCATION:Wellness Center-2nd
CATEGORIES:Assisted Living
END:VEVENT
BEGIN:VEVENT
DTSTART;TZID=America/Chicago:20260228T100000
DTEND;TZID=America/Chicago:20260228T110000
DTSTAMP:20260419T211920
CREATED:20260130T021321Z
LAST-MODIFIED:20260228T044314Z
UID:10004583-1772272800-1772276400@urbanaplaceseniorliving.com
SUMMARY:Word Games & Puzzles
DESCRIPTION:Join your friends and neighbors in the 2nd floor Pub to challenge your brain
URL:https://urbanaplaceseniorliving.com/event-calendar/word-games-puzzles-43/
LOCATION:Pub-2nd
CATEGORIES:Assisted Living
END:VEVENT
BEGIN:VEVENT
DTSTART;TZID=America/Chicago:20260228T130000
DTEND;TZID=America/Chicago:20260228T140000
DTSTAMP:20260419T211920
CREATED:20260130T021321Z
LAST-MODIFIED:20260228T044314Z
UID:10004584-1772283600-1772287200@urbanaplaceseniorliving.com
SUMMARY:500 Card Club
DESCRIPTION:Calling all 500 card players! Come to the 2nd floor Pub to play some 500!
URL:https://urbanaplaceseniorliving.com/event-calendar/500-card-club-28/
LOCATION:Pub-2nd
CATEGORIES:Assisted Living
END:VEVENT
BEGIN:VEVENT
DTSTART;TZID=America/Chicago:20260228T150000
DTEND;TZID=America/Chicago:20260228T160000
DTSTAMP:20260419T211920
CREATED:20260130T021321Z
LAST-MODIFIED:20260228T044315Z
UID:10004585-1772290800-1772294400@urbanaplaceseniorliving.com
SUMMARY:Second Chance Bingo
DESCRIPTION:‘Second Chance Bingo’ is just like regular bingo but more fun! Prizes are a collection of items looking for a second chance to find a home. You never know what you could win!
URL:https://urbanaplaceseniorliving.com/event-calendar/second-chance-bingo-18/
LOCATION:Community Room-1st
CATEGORIES:Assisted Living
END:VEVENT
BEGIN:VEVENT
DTSTART;TZID=America/Chicago:20260228T181500
DTEND;TZID=America/Chicago:20260228T201500
DTSTAMP:20260419T211920
CREATED:20260130T021321Z
LAST-MODIFIED:20260228T044315Z
UID:10004586-1772302500-1772309700@urbanaplaceseniorliving.com
SUMMARY:Movie 'Crazy Heart'
DESCRIPTION:
URL:https://urbanaplaceseniorliving.com/event-calendar/movie-crazy-heart-2/
LOCATION:Pub-2nd
CATEGORIES:Assisted Living
END:VEVENT
END:VCALENDAR