BEGIN:VCALENDAR
VERSION:2.0
PRODID:-//Urbana Place Senior Living in Brooklyn Park - ECPv6.11.2.1//NONSGML v1.0//EN
CALSCALE:GREGORIAN
METHOD:PUBLISH
X-ORIGINAL-URL:https://urbanaplaceseniorliving.com
X-WR-CALDESC:Events for Urbana Place Senior Living in Brooklyn Park
REFRESH-INTERVAL;VALUE=DURATION:PT1H
X-Robots-Tag:noindex
X-PUBLISHED-TTL:PT1H
BEGIN:VTIMEZONE
TZID:America/Chicago
BEGIN:DAYLIGHT
TZOFFSETFROM:-0600
TZOFFSETTO:-0500
TZNAME:CDT
DTSTART:20260308T080000
END:DAYLIGHT
BEGIN:STANDARD
TZOFFSETFROM:-0500
TZOFFSETTO:-0600
TZNAME:CST
DTSTART:20261101T070000
END:STANDARD
END:VTIMEZONE
BEGIN:VEVENT
DTSTART;TZID=America/Chicago:20260227T110000
DTEND;TZID=America/Chicago:20260227T113000
DTSTAMP:20260419T212050
CREATED:20260129T021345Z
LAST-MODIFIED:20260227T044312Z
UID:10004566-1772190000-1772191800@urbanaplaceseniorliving.com
SUMMARY:Stretch & Strengthen Exercise Class
DESCRIPTION:All abilities are welcome for this seated group exercise class
URL:https://urbanaplaceseniorliving.com/event-calendar/stretch-strengthen-exercise-class-4/
LOCATION:Wellness Center-2nd
CATEGORIES:Assisted Living
END:VEVENT
BEGIN:VEVENT
DTSTART;TZID=America/Chicago:20260227T130000
DTEND;TZID=America/Chicago:20260227T140000
DTSTAMP:20260419T212050
CREATED:20260129T021345Z
LAST-MODIFIED:20260227T044312Z
UID:10004567-1772197200-1772200800@urbanaplaceseniorliving.com
SUMMARY:Really Big Show
DESCRIPTION:Tune in to hear about the weeks TRYathlon match ups!
URL:https://urbanaplaceseniorliving.com/event-calendar/really-big-show-18/
LOCATION:Community Room-1st
CATEGORIES:Assisted Living
END:VEVENT
BEGIN:VEVENT
DTSTART;TZID=America/Chicago:20260227T140000
DTEND;TZID=America/Chicago:20260227T150000
DTSTAMP:20260419T212050
CREATED:20260129T021345Z
LAST-MODIFIED:20260227T044312Z
UID:10004568-1772200800-1772204400@urbanaplaceseniorliving.com
SUMMARY:Happy Hour 'Bloody Mary'
DESCRIPTION:Join the fun in the Pub. Non alcoholic drinks always available
URL:https://urbanaplaceseniorliving.com/event-calendar/happy-hour-bloody-mary/
LOCATION:Pub-2nd
CATEGORIES:Assisted Living
END:VEVENT
END:VCALENDAR