BEGIN:VCALENDAR
VERSION:2.0
PRODID:-//Urbana Place Senior Living in Brooklyn Park - ECPv6.11.2.1//NONSGML v1.0//EN
CALSCALE:GREGORIAN
METHOD:PUBLISH
X-ORIGINAL-URL:https://urbanaplaceseniorliving.com
X-WR-CALDESC:Events for Urbana Place Senior Living in Brooklyn Park
REFRESH-INTERVAL;VALUE=DURATION:PT1H
X-Robots-Tag:noindex
X-PUBLISHED-TTL:PT1H
BEGIN:VTIMEZONE
TZID:America/Chicago
BEGIN:DAYLIGHT
TZOFFSETFROM:-0600
TZOFFSETTO:-0500
TZNAME:CDT
DTSTART:20260308T080000
END:DAYLIGHT
BEGIN:STANDARD
TZOFFSETFROM:-0500
TZOFFSETTO:-0600
TZNAME:CST
DTSTART:20261101T070000
END:STANDARD
END:VTIMEZONE
BEGIN:VEVENT
DTSTART;TZID=America/Chicago:20260225T090000
DTEND;TZID=America/Chicago:20260225T100000
DTSTAMP:20260419T212051
CREATED:20260127T015843Z
LAST-MODIFIED:20260225T051312Z
UID:10004529-1772010000-1772013600@urbanaplaceseniorliving.com
SUMMARY:Coffee Bar
DESCRIPTION:Grab a friend and come to the Bistro for a cup of coffee and conversation! Fresh coffee and flavored creamers will be available
URL:https://urbanaplaceseniorliving.com/event-calendar/coffee-bar-17/
LOCATION:Bistro-1st
CATEGORIES:Assisted Living,Legacy Court
END:VEVENT
BEGIN:VEVENT
DTSTART;TZID=America/Chicago:20260225T093000
DTEND;TZID=America/Chicago:20260225T103000
DTSTAMP:20260419T212051
CREATED:20260127T015843Z
LAST-MODIFIED:20260225T044311Z
UID:10004530-1772011800-1772015400@urbanaplaceseniorliving.com
SUMMARY:Resident Led News & Views
DESCRIPTION:There is so much going on in the world around us. Come to the Bistro to have conversation with your neighbors about current events or anything you like.
URL:https://urbanaplaceseniorliving.com/event-calendar/resident-led-news-views-6/
LOCATION:Bistro-1st
CATEGORIES:Assisted Living
END:VEVENT
BEGIN:VEVENT
DTSTART;TZID=America/Chicago:20260225T110000
DTEND;TZID=America/Chicago:20260225T113000
DTSTAMP:20260419T212051
CREATED:20260127T015843Z
LAST-MODIFIED:20260225T044311Z
UID:10004531-1772017200-1772019000@urbanaplaceseniorliving.com
SUMMARY:Chair Cardio w/Jackie
DESCRIPTION:This exercise class is for all abilities
URL:https://urbanaplaceseniorliving.com/event-calendar/chair-cardio-w-jackie-31/
LOCATION:Wellness Center-2nd
CATEGORIES:Assisted Living
END:VEVENT
BEGIN:VEVENT
DTSTART;TZID=America/Chicago:20260225T130000
DTEND;TZID=America/Chicago:20260225T140000
DTSTAMP:20260419T212051
CREATED:20260127T015844Z
LAST-MODIFIED:20260225T051313Z
UID:10004532-1772024400-1772028000@urbanaplaceseniorliving.com
SUMMARY:Show & Share w/Chaplain Russell
DESCRIPTION:Bring any special item that you would like to share with others- a photo\, knick knack\, mug\, anything
URL:https://urbanaplaceseniorliving.com/event-calendar/show-share-w-chaplain-russell-10/
LOCATION:Bistro-1st
CATEGORIES:Assisted Living,Legacy Court
END:VEVENT
BEGIN:VEVENT
DTSTART;TZID=America/Chicago:20260225T153000
DTEND;TZID=America/Chicago:20260225T163000
DTSTAMP:20260419T212051
CREATED:20260127T015844Z
LAST-MODIFIED:20260225T044311Z
UID:10004533-1772033400-1772037000@urbanaplaceseniorliving.com
SUMMARY:Women's Group Pampering
DESCRIPTION:Calling all the women of Urbana for our monthly pampering!
URL:https://urbanaplaceseniorliving.com/event-calendar/womens-group-pampering-5/
LOCATION:Pub-2nd
CATEGORIES:Assisted Living
END:VEVENT
END:VCALENDAR