BEGIN:VCALENDAR
VERSION:2.0
PRODID:-//Urbana Place Senior Living in Brooklyn Park - ECPv6.11.2.1//NONSGML v1.0//EN
CALSCALE:GREGORIAN
METHOD:PUBLISH
X-ORIGINAL-URL:https://urbanaplaceseniorliving.com
X-WR-CALDESC:Events for Urbana Place Senior Living in Brooklyn Park
REFRESH-INTERVAL;VALUE=DURATION:PT1H
X-Robots-Tag:noindex
X-PUBLISHED-TTL:PT1H
BEGIN:VTIMEZONE
TZID:America/Chicago
BEGIN:DAYLIGHT
TZOFFSETFROM:-0600
TZOFFSETTO:-0500
TZNAME:CDT
DTSTART:20260308T080000
END:DAYLIGHT
BEGIN:STANDARD
TZOFFSETFROM:-0500
TZOFFSETTO:-0600
TZNAME:CST
DTSTART:20261101T070000
END:STANDARD
END:VTIMEZONE
BEGIN:VEVENT
DTSTART;TZID=America/Chicago:20260223T093000
DTEND;TZID=America/Chicago:20260223T100000
DTSTAMP:20260419T212051
CREATED:20260125T015818Z
LAST-MODIFIED:20260223T044317Z
UID:10004501-1771839000-1771840800@urbanaplaceseniorliving.com
SUMMARY:Roll into Wellness Exercise Class
DESCRIPTION:Join us in the 2nd floor Wellness Center for a fun group exercise class for all abilities!
URL:https://urbanaplaceseniorliving.com/event-calendar/roll-into-wellness-exercise-class-2/
LOCATION:Wellness Center-2nd
CATEGORIES:Assisted Living
END:VEVENT
BEGIN:VEVENT
DTSTART;TZID=America/Chicago:20260223T103000
DTEND;TZID=America/Chicago:20260223T113000
DTSTAMP:20260419T212052
CREATED:20260125T015818Z
LAST-MODIFIED:20260223T045819Z
UID:10004502-1771842600-1771846200@urbanaplaceseniorliving.com
SUMMARY:Hymn Sing w/Chaplain Russell
DESCRIPTION:Start your day off with some Hymns! All are welcome to Legacy Court
URL:https://urbanaplaceseniorliving.com/event-calendar/hymn-sing-w-chaplain-russell-28/
LOCATION:Legacy Court-1st
CATEGORIES:Assisted Living,Legacy Court
END:VEVENT
BEGIN:VEVENT
DTSTART;TZID=America/Chicago:20260223T133000
DTEND;TZID=America/Chicago:20260223T143000
DTSTAMP:20260419T212052
CREATED:20260125T015818Z
LAST-MODIFIED:20260223T044317Z
UID:10004503-1771853400-1771857000@urbanaplaceseniorliving.com
SUMMARY:Bingo
DESCRIPTION:
URL:https://urbanaplaceseniorliving.com/event-calendar/bingo-67/
LOCATION:Community Room-1st
CATEGORIES:Assisted Living
END:VEVENT
BEGIN:VEVENT
DTSTART;TZID=America/Chicago:20260223T144500
DTEND;TZID=America/Chicago:20260223T154500
DTSTAMP:20260419T212052
CREATED:20260125T015818Z
LAST-MODIFIED:20260223T044317Z
UID:10004504-1771857900-1771861500@urbanaplaceseniorliving.com
SUMMARY:February Bday Social
DESCRIPTION:Let’s celebrate all those born in February!
URL:https://urbanaplaceseniorliving.com/event-calendar/february-bday-social/
LOCATION:Bistro-1st
CATEGORIES:Assisted Living
END:VEVENT
BEGIN:VEVENT
DTSTART;TZID=America/Chicago:20260223T180000
DTEND;TZID=America/Chicago:20260223T190000
DTSTAMP:20260419T212052
CREATED:20260125T015818Z
LAST-MODIFIED:20260223T044317Z
UID:10004505-1771869600-1771873200@urbanaplaceseniorliving.com
SUMMARY:Play Yahtzee
DESCRIPTION:
URL:https://urbanaplaceseniorliving.com/event-calendar/play-yahtzee-9/
LOCATION:Lounge-2nd
CATEGORIES:Assisted Living
END:VEVENT
END:VCALENDAR