BEGIN:VCALENDAR
VERSION:2.0
PRODID:-//Urbana Place Senior Living in Brooklyn Park - ECPv6.11.2.1//NONSGML v1.0//EN
CALSCALE:GREGORIAN
METHOD:PUBLISH
X-ORIGINAL-URL:https://urbanaplaceseniorliving.com
X-WR-CALDESC:Events for Urbana Place Senior Living in Brooklyn Park
REFRESH-INTERVAL;VALUE=DURATION:PT1H
X-Robots-Tag:noindex
X-PUBLISHED-TTL:PT1H
BEGIN:VTIMEZONE
TZID:America/Chicago
BEGIN:DAYLIGHT
TZOFFSETFROM:-0600
TZOFFSETTO:-0500
TZNAME:CDT
DTSTART:20260308T080000
END:DAYLIGHT
BEGIN:STANDARD
TZOFFSETFROM:-0500
TZOFFSETTO:-0600
TZNAME:CST
DTSTART:20261101T070000
END:STANDARD
END:VTIMEZONE
BEGIN:VEVENT
DTSTART;VALUE=DATE:20260221
DTEND;VALUE=DATE:20260222
DTSTAMP:20260419T212044
CREATED:20260128T015827Z
LAST-MODIFIED:20260220T041713Z
UID:10004546-1771632000-1771718399@urbanaplaceseniorliving.com
SUMMARY:Independent Exercise
DESCRIPTION:Stop in the Wellness Center and move your body today! All equipment is available for your use
URL:https://urbanaplaceseniorliving.com/event-calendar/independent-exercise-14/
LOCATION:Wellness Center-2nd
CATEGORIES:Assisted Living
END:VEVENT
BEGIN:VEVENT
DTSTART;TZID=America/Chicago:20260221T090000
DTEND;TZID=America/Chicago:20260221T110000
DTSTAMP:20260419T212044
CREATED:20260123T015818Z
LAST-MODIFIED:20260221T042914Z
UID:10004432-1771664400-1771671600@urbanaplaceseniorliving.com
SUMMARY:Beth Yeshua Virtual Service
DESCRIPTION:Beth Yeshua International ties you to your roots. If you are Jewish\, our joyous worship will stir your soul. If you are Christian\, our synagogue gives you a chance to explore the Jewish roots of your faith. All are welcome!
URL:https://urbanaplaceseniorliving.com/event-calendar/beth-yeshua-virtual-service-42/
LOCATION:Wellness Center-2nd
CATEGORIES:Assisted Living
END:VEVENT
BEGIN:VEVENT
DTSTART;TZID=America/Chicago:20260221T100000
DTEND;TZID=America/Chicago:20260221T110000
DTSTAMP:20260419T212044
CREATED:20260123T015818Z
LAST-MODIFIED:20260221T042914Z
UID:10004433-1771668000-1771671600@urbanaplaceseniorliving.com
SUMMARY:Word Games & Puzzles
DESCRIPTION:Join your friends and neighbors in the 2nd floor Pub to challenge your brain
URL:https://urbanaplaceseniorliving.com/event-calendar/word-games-puzzles-42/
LOCATION:Pub-2nd
CATEGORIES:Assisted Living
END:VEVENT
BEGIN:VEVENT
DTSTART;TZID=America/Chicago:20260221T130000
DTEND;TZID=America/Chicago:20260221T140000
DTSTAMP:20260419T212044
CREATED:20260123T015818Z
LAST-MODIFIED:20260221T042914Z
UID:10004434-1771678800-1771682400@urbanaplaceseniorliving.com
SUMMARY:500 Card Club
DESCRIPTION:Calling all 500 card players! Come to the 2nd floor Pub to play some 500!
URL:https://urbanaplaceseniorliving.com/event-calendar/500-card-club-27/
LOCATION:Pub-2nd
CATEGORIES:Assisted Living
END:VEVENT
BEGIN:VEVENT
DTSTART;TZID=America/Chicago:20260221T150000
DTEND;TZID=America/Chicago:20260221T160000
DTSTAMP:20260419T212044
CREATED:20260123T015819Z
LAST-MODIFIED:20260128T015827Z
UID:10004435-1771686000-1771689600@urbanaplaceseniorliving.com
SUMMARY:Second Chance Bingo
DESCRIPTION:‘Second Chance Bingo’ is just like regular bingo but more fun! Prizes are a collection of items looking for a second chance to find a home. You never know what you could win!
URL:https://urbanaplaceseniorliving.com/event-calendar/second-chance-bingo-17/
LOCATION:Community Room-1st
CATEGORIES:Assisted Living
END:VEVENT
BEGIN:VEVENT
DTSTART;TZID=America/Chicago:20260221T181500
DTEND;TZID=America/Chicago:20260221T201500
DTSTAMP:20260419T212044
CREATED:20260123T015819Z
LAST-MODIFIED:20260221T042914Z
UID:10004436-1771697700-1771704900@urbanaplaceseniorliving.com
SUMMARY:Movie 'Hello\, Dolly!'
DESCRIPTION:
URL:https://urbanaplaceseniorliving.com/event-calendar/movie-hello-dolly/
LOCATION:Pub-2nd
CATEGORIES:Assisted Living
END:VEVENT
END:VCALENDAR