BEGIN:VCALENDAR
VERSION:2.0
PRODID:-//Urbana Place Senior Living in Brooklyn Park - ECPv6.11.2.1//NONSGML v1.0//EN
CALSCALE:GREGORIAN
METHOD:PUBLISH
X-ORIGINAL-URL:https://urbanaplaceseniorliving.com
X-WR-CALDESC:Events for Urbana Place Senior Living in Brooklyn Park
REFRESH-INTERVAL;VALUE=DURATION:PT1H
X-Robots-Tag:noindex
X-PUBLISHED-TTL:PT1H
BEGIN:VTIMEZONE
TZID:America/Chicago
BEGIN:DAYLIGHT
TZOFFSETFROM:-0600
TZOFFSETTO:-0500
TZNAME:CDT
DTSTART:20260308T080000
END:DAYLIGHT
BEGIN:STANDARD
TZOFFSETFROM:-0500
TZOFFSETTO:-0600
TZNAME:CST
DTSTART:20261101T070000
END:STANDARD
END:VTIMEZONE
BEGIN:VEVENT
DTSTART;TZID=America/Chicago:20260219T124500
DTEND;TZID=America/Chicago:20260219T134500
DTSTAMP:20260419T212051
CREATED:20260121T015816Z
LAST-MODIFIED:20260219T041316Z
UID:10004411-1771505100-1771508700@urbanaplaceseniorliving.com
SUMMARY:TRYathlon Competition
DESCRIPTION:It’s Crank day! Come to the Community Room to ‘get cranky’ with us!
URL:https://urbanaplaceseniorliving.com/event-calendar/tryathlon-competition-12/
LOCATION:Community Room-1st
CATEGORIES:Assisted Living
END:VEVENT
BEGIN:VEVENT
DTSTART;TZID=America/Chicago:20260219T140000
DTEND;TZID=America/Chicago:20260219T150000
DTSTAMP:20260419T212051
CREATED:20260121T015816Z
LAST-MODIFIED:20260219T041416Z
UID:10004412-1771509600-1771513200@urbanaplaceseniorliving.com
SUMMARY:Live Music w/Darlin Jesse
DESCRIPTION:One of our favorite entertainers! You won’t want to miss Darlin Jesse!
URL:https://urbanaplaceseniorliving.com/event-calendar/live-music-w-darlin-jesse/
LOCATION:Community Room-1st
CATEGORIES:Assisted Living,Legacy Court
END:VEVENT
BEGIN:VEVENT
DTSTART;TZID=America/Chicago:20260219T151500
DTEND;TZID=America/Chicago:20260219T161500
DTSTAMP:20260419T212051
CREATED:20260121T015816Z
LAST-MODIFIED:20260219T041417Z
UID:10004413-1771514100-1771517700@urbanaplaceseniorliving.com
SUMMARY:Bean Bags vs Reena Senior Living
DESCRIPTION:Join us as we challenge Reena Senior Living in Fort Atkinson\, WI virtually for a Bean Bag Toss
URL:https://urbanaplaceseniorliving.com/event-calendar/bean-bags-vs-reena-senior-living-2/
LOCATION:Community Room-1st
CATEGORIES:Assisted Living,Legacy Court
END:VEVENT
BEGIN:VEVENT
DTSTART;TZID=America/Chicago:20260219T181500
DTEND;TZID=America/Chicago:20260219T191500
DTSTAMP:20260419T212052
CREATED:20260121T015817Z
LAST-MODIFIED:20260219T041317Z
UID:10004414-1771524900-1771528500@urbanaplaceseniorliving.com
SUMMARY:Featured Movie
DESCRIPTION:
URL:https://urbanaplaceseniorliving.com/event-calendar/featured-movie-39/
LOCATION:Pub-2nd
CATEGORIES:Assisted Living
END:VEVENT
END:VCALENDAR