BEGIN:VCALENDAR
VERSION:2.0
PRODID:-//Urbana Place Senior Living in Brooklyn Park - ECPv6.11.2.1//NONSGML v1.0//EN
CALSCALE:GREGORIAN
METHOD:PUBLISH
X-ORIGINAL-URL:https://urbanaplaceseniorliving.com
X-WR-CALDESC:Events for Urbana Place Senior Living in Brooklyn Park
REFRESH-INTERVAL;VALUE=DURATION:PT1H
X-Robots-Tag:noindex
X-PUBLISHED-TTL:PT1H
BEGIN:VTIMEZONE
TZID:America/Chicago
BEGIN:DAYLIGHT
TZOFFSETFROM:-0600
TZOFFSETTO:-0500
TZNAME:CDT
DTSTART:20260308T080000
END:DAYLIGHT
BEGIN:STANDARD
TZOFFSETFROM:-0500
TZOFFSETTO:-0600
TZNAME:CST
DTSTART:20261101T070000
END:STANDARD
END:VTIMEZONE
BEGIN:VEVENT
DTSTART;TZID=America/Chicago:20260217T100000
DTEND;TZID=America/Chicago:20260217T120000
DTSTAMP:20260419T212046
CREATED:20260119T014410Z
LAST-MODIFIED:20260217T034312Z
UID:10004390-1771322400-1771329600@urbanaplaceseniorliving.com
SUMMARY:Resident Council Meeting
DESCRIPTION:Come to the Community Room for the resident led resident council meeting
URL:https://urbanaplaceseniorliving.com/event-calendar/resident-council-meeting-10/
LOCATION:Community Room-1st
CATEGORIES:Assisted Living
END:VEVENT
BEGIN:VEVENT
DTSTART;TZID=America/Chicago:20260217T124500
DTEND;TZID=America/Chicago:20260217T134500
DTSTAMP:20260419T212046
CREATED:20260119T014410Z
LAST-MODIFIED:20260217T034312Z
UID:10004391-1771332300-1771335900@urbanaplaceseniorliving.com
SUMMARY:TRYathlon Competition
DESCRIPTION:It’s Whizzer Day! Help us accumulate steps as a Team in the TRYathlon Competition!
URL:https://urbanaplaceseniorliving.com/event-calendar/tryathlon-competition-11/
LOCATION:Community Room-1st
CATEGORIES:Assisted Living
END:VEVENT
BEGIN:VEVENT
DTSTART;TZID=America/Chicago:20260217T140000
DTEND;TZID=America/Chicago:20260217T150000
DTSTAMP:20260419T212046
CREATED:20260119T014410Z
LAST-MODIFIED:20260217T041313Z
UID:10004392-1771336800-1771340400@urbanaplaceseniorliving.com
SUMMARY:Arm Chair Travel to Rome
DESCRIPTION:Join us from the comfort of the Community Room as we travel to Rome!
URL:https://urbanaplaceseniorliving.com/event-calendar/arm-chair-travel-to-rome/
LOCATION:Community Room-1st
CATEGORIES:Assisted Living,Legacy Court
END:VEVENT
BEGIN:VEVENT
DTSTART;TZID=America/Chicago:20260217T153000
DTEND;TZID=America/Chicago:20260217T163000
DTSTAMP:20260419T212046
CREATED:20260119T014410Z
LAST-MODIFIED:20260217T034312Z
UID:10004393-1771342200-1771345800@urbanaplaceseniorliving.com
SUMMARY:Play Wheel of Fortune
DESCRIPTION:
URL:https://urbanaplaceseniorliving.com/event-calendar/play-wheel-of-fortune-42/
LOCATION:Pub-2nd
CATEGORIES:Assisted Living
END:VEVENT
BEGIN:VEVENT
DTSTART;TZID=America/Chicago:20260217T180000
DTEND;TZID=America/Chicago:20260217T190000
DTSTAMP:20260419T212046
CREATED:20260129T021332Z
LAST-MODIFIED:20260217T034312Z
UID:10004564-1771351200-1771354800@urbanaplaceseniorliving.com
SUMMARY:Chat & Color
DESCRIPTION:Come to the 2nd floor Lounge after dinner to relax\, chat and color. Supplies will be provided
URL:https://urbanaplaceseniorliving.com/event-calendar/chat-color-3/
LOCATION:Lounge-2nd
CATEGORIES:Assisted Living
END:VEVENT
END:VCALENDAR