BEGIN:VCALENDAR
VERSION:2.0
PRODID:-//Urbana Place Senior Living in Brooklyn Park - ECPv6.11.2.1//NONSGML v1.0//EN
CALSCALE:GREGORIAN
METHOD:PUBLISH
X-WR-CALNAME:Urbana Place Senior Living in Brooklyn Park
X-ORIGINAL-URL:https://urbanaplaceseniorliving.com
X-WR-CALDESC:Events for Urbana Place Senior Living in Brooklyn Park
REFRESH-INTERVAL;VALUE=DURATION:PT1H
X-Robots-Tag:noindex
X-PUBLISHED-TTL:PT1H
BEGIN:VTIMEZONE
TZID:America/Chicago
BEGIN:DAYLIGHT
TZOFFSETFROM:-0600
TZOFFSETTO:-0500
TZNAME:CDT
DTSTART:20260308T080000
END:DAYLIGHT
BEGIN:STANDARD
TZOFFSETFROM:-0500
TZOFFSETTO:-0600
TZNAME:CST
DTSTART:20261101T070000
END:STANDARD
END:VTIMEZONE
BEGIN:VEVENT
DTSTART;TZID=America/Chicago:20260215T103000
DTEND;TZID=America/Chicago:20260215T113000
DTSTAMP:20260419T212039
CREATED:20260117T014317Z
LAST-MODIFIED:20260215T032815Z
UID:10004364-1771151400-1771155000@urbanaplaceseniorliving.com
SUMMARY:Virtual Catholic Mass
DESCRIPTION:Sunday Service from The Basilica of the National Shrine in Washington D.C
URL:https://urbanaplaceseniorliving.com/event-calendar/virtual-catholic-mass-41/
LOCATION:Community Room-1st
CATEGORIES:Assisted Living
END:VEVENT
BEGIN:VEVENT
DTSTART;TZID=America/Chicago:20260215T130000
DTEND;TZID=America/Chicago:20260215T140000
DTSTAMP:20260419T212039
CREATED:20260117T014317Z
LAST-MODIFIED:20260215T032815Z
UID:10004365-1771160400-1771164000@urbanaplaceseniorliving.com
SUMMARY:31 Card Club
DESCRIPTION:Grab a friend and come to the 2nd floor Lounge to play a game of 31!
URL:https://urbanaplaceseniorliving.com/event-calendar/31-card-club-27/
LOCATION:Lounge-2nd
CATEGORIES:Assisted Living
END:VEVENT
BEGIN:VEVENT
DTSTART;TZID=America/Chicago:20260215T150000
DTEND;TZID=America/Chicago:20260215T163000
DTSTAMP:20260419T212039
CREATED:20260117T014317Z
LAST-MODIFIED:20260215T032815Z
UID:10004366-1771167600-1771173000@urbanaplaceseniorliving.com
SUMMARY:Play Cribbage
DESCRIPTION:Dust off your cribbage skills! Invite a partner to come to the Pub to play some cribbage. We will be having a cribbage tournament in February!
URL:https://urbanaplaceseniorliving.com/event-calendar/play-cribbage-7/
LOCATION:Pub-2nd
CATEGORIES:Assisted Living
END:VEVENT
BEGIN:VEVENT
DTSTART;TZID=America/Chicago:20260215T153000
DTEND;TZID=America/Chicago:20260215T163000
DTSTAMP:20260419T212039
CREATED:20260117T014317Z
LAST-MODIFIED:20260215T032815Z
UID:10004367-1771169400-1771173000@urbanaplaceseniorliving.com
SUMMARY:Sunday Stroll
DESCRIPTION:Grab a friend or neighbor and take a walk
URL:https://urbanaplaceseniorliving.com/event-calendar/sunday-stroll-40/
LOCATION:Front Lobby-1st
CATEGORIES:Assisted Living
END:VEVENT
END:VCALENDAR