BEGIN:VCALENDAR
VERSION:2.0
PRODID:-//Urbana Place Senior Living in Brooklyn Park - ECPv6.11.2.1//NONSGML v1.0//EN
CALSCALE:GREGORIAN
METHOD:PUBLISH
X-WR-CALNAME:Urbana Place Senior Living in Brooklyn Park
X-ORIGINAL-URL:https://urbanaplaceseniorliving.com
X-WR-CALDESC:Events for Urbana Place Senior Living in Brooklyn Park
REFRESH-INTERVAL;VALUE=DURATION:PT1H
X-Robots-Tag:noindex
X-PUBLISHED-TTL:PT1H
BEGIN:VTIMEZONE
TZID:America/Chicago
BEGIN:DAYLIGHT
TZOFFSETFROM:-0600
TZOFFSETTO:-0500
TZNAME:CDT
DTSTART:20260308T080000
END:DAYLIGHT
BEGIN:STANDARD
TZOFFSETFROM:-0500
TZOFFSETTO:-0600
TZNAME:CST
DTSTART:20261101T070000
END:STANDARD
END:VTIMEZONE
BEGIN:VEVENT
DTSTART;TZID=America/Chicago:20260212T103000
DTEND;TZID=America/Chicago:20260212T113000
DTSTAMP:20260419T211928
CREATED:20260114T014324Z
LAST-MODIFIED:20260212T041313Z
UID:10004325-1770892200-1770895800@urbanaplaceseniorliving.com
SUMMARY:Eucharist w/St Gerards
DESCRIPTION:
URL:https://urbanaplaceseniorliving.com/event-calendar/eucharist-w-st-gerards-41/
LOCATION:Legacy Court-1st
CATEGORIES:Assisted Living,Legacy Court
END:VEVENT
BEGIN:VEVENT
DTSTART;TZID=America/Chicago:20260212T124500
DTEND;TZID=America/Chicago:20260212T134500
DTSTAMP:20260419T211928
CREATED:20260114T014324Z
LAST-MODIFIED:20260212T031314Z
UID:10004326-1770900300-1770903900@urbanaplaceseniorliving.com
SUMMARY:TRYathlon Competition
DESCRIPTION:It’s Crank day! Come to the Community Room to ‘get cranky’ with us!
URL:https://urbanaplaceseniorliving.com/event-calendar/tryathlon-competition-10/
LOCATION:Community Room-1st
CATEGORIES:Assisted Living
END:VEVENT
BEGIN:VEVENT
DTSTART;TZID=America/Chicago:20260212T140000
DTEND;TZID=America/Chicago:20260212T150000
DTSTAMP:20260419T211928
CREATED:20260114T014324Z
LAST-MODIFIED:20260212T041314Z
UID:10004327-1770904800-1770908400@urbanaplaceseniorliving.com
SUMMARY:Valentine Social & Human Slot Machine
DESCRIPTION:Come to the Community Room for our wildly entertaining Human Slot Machine! Snacks\, sweets and drinks will be served
URL:https://urbanaplaceseniorliving.com/event-calendar/valentine-social-human-slot-machine/
LOCATION:Community Room-1st
CATEGORIES:Assisted Living,Legacy Court
END:VEVENT
BEGIN:VEVENT
DTSTART;TZID=America/Chicago:20260212T181500
DTEND;TZID=America/Chicago:20260212T191500
DTSTAMP:20260419T211928
CREATED:20260114T014325Z
LAST-MODIFIED:20260212T031314Z
UID:10004328-1770920100-1770923700@urbanaplaceseniorliving.com
SUMMARY:Featured Movie
DESCRIPTION:
URL:https://urbanaplaceseniorliving.com/event-calendar/featured-movie-38/
LOCATION:Pub-2nd
CATEGORIES:Assisted Living
END:VEVENT
END:VCALENDAR