BEGIN:VCALENDAR
VERSION:2.0
PRODID:-//Urbana Place Senior Living in Brooklyn Park - ECPv6.11.2.1//NONSGML v1.0//EN
CALSCALE:GREGORIAN
METHOD:PUBLISH
X-ORIGINAL-URL:https://urbanaplaceseniorliving.com
X-WR-CALDESC:Events for Urbana Place Senior Living in Brooklyn Park
REFRESH-INTERVAL;VALUE=DURATION:PT1H
X-Robots-Tag:noindex
X-PUBLISHED-TTL:PT1H
BEGIN:VTIMEZONE
TZID:America/Chicago
BEGIN:DAYLIGHT
TZOFFSETFROM:-0600
TZOFFSETTO:-0500
TZNAME:CDT
DTSTART:20260308T080000
END:DAYLIGHT
BEGIN:STANDARD
TZOFFSETFROM:-0500
TZOFFSETTO:-0600
TZNAME:CST
DTSTART:20261101T070000
END:STANDARD
END:VTIMEZONE
BEGIN:VEVENT
DTSTART;TZID=America/Chicago:20260211T090000
DTEND;TZID=America/Chicago:20260211T100000
DTSTAMP:20260419T212051
CREATED:20260113T012831Z
LAST-MODIFIED:20260211T041313Z
UID:10004315-1770800400-1770804000@urbanaplaceseniorliving.com
SUMMARY:Coffee Bar
DESCRIPTION:Grab a friend and come to the Bistro for a cup of coffee and conversation! Fresh coffee and flavored creamers will be available
URL:https://urbanaplaceseniorliving.com/event-calendar/coffee-bar-15/
LOCATION:Bistro-1st
CATEGORIES:Assisted Living,Legacy Court
END:VEVENT
BEGIN:VEVENT
DTSTART;TZID=America/Chicago:20260211T093000
DTEND;TZID=America/Chicago:20260211T103000
DTSTAMP:20260419T212051
CREATED:20260113T012831Z
LAST-MODIFIED:20260211T031311Z
UID:10004316-1770802200-1770805800@urbanaplaceseniorliving.com
SUMMARY:Resident Led News & Views
DESCRIPTION:There is so much going on in the world around us. Come to the Bistro to have conversation with your neighbors about current events or anything you like.
URL:https://urbanaplaceseniorliving.com/event-calendar/resident-led-news-views-4/
LOCATION:Bistro-1st
CATEGORIES:Assisted Living
END:VEVENT
BEGIN:VEVENT
DTSTART;TZID=America/Chicago:20260211T103000
DTEND;TZID=America/Chicago:20260211T123000
DTSTAMP:20260419T212051
CREATED:20260113T012831Z
LAST-MODIFIED:20260211T031312Z
UID:10004317-1770805800-1770813000@urbanaplaceseniorliving.com
SUMMARY:Outing to Truffles & Tortes Dessert Cafe(RSVP req)
DESCRIPTION:RSVP for this outing in the 2nd floor Wellness Center
URL:https://urbanaplaceseniorliving.com/event-calendar/outing-to-truffles-tortes/
LOCATION:Front Lobby-1st
CATEGORIES:Assisted Living
END:VEVENT
BEGIN:VEVENT
DTSTART;TZID=America/Chicago:20260211T110000
DTEND;TZID=America/Chicago:20260211T113000
DTSTAMP:20260419T212051
CREATED:20260113T012831Z
LAST-MODIFIED:20260211T031312Z
UID:10004318-1770807600-1770809400@urbanaplaceseniorliving.com
SUMMARY:Chair Cardio w/Jackie
DESCRIPTION:This exercise class is for all abilities
URL:https://urbanaplaceseniorliving.com/event-calendar/chair-cardio-w-jackie-29/
LOCATION:Wellness Center-2nd
CATEGORIES:Assisted Living
END:VEVENT
BEGIN:VEVENT
DTSTART;TZID=America/Chicago:20260211T140000
DTEND;TZID=America/Chicago:20260211T150000
DTSTAMP:20260419T212051
CREATED:20260113T012832Z
LAST-MODIFIED:20260211T041315Z
UID:10004319-1770818400-1770822000@urbanaplaceseniorliving.com
SUMMARY:Back to the 50's Bash w/Live Music-Beachcomber Bob
DESCRIPTION:Join us in the 1st floor Community Room for a back to the 50’s Bash with live music!
URL:https://urbanaplaceseniorliving.com/event-calendar/back-to-the-50s-bash-w-live-music-beachcomber-bob/
LOCATION:Community Room-1st
CATEGORIES:Assisted Living,Legacy Court
END:VEVENT
END:VCALENDAR