BEGIN:VCALENDAR
VERSION:2.0
PRODID:-//Urbana Place Senior Living in Brooklyn Park - ECPv6.11.2.1//NONSGML v1.0//EN
CALSCALE:GREGORIAN
METHOD:PUBLISH
X-ORIGINAL-URL:https://urbanaplaceseniorliving.com
X-WR-CALDESC:Events for Urbana Place Senior Living in Brooklyn Park
REFRESH-INTERVAL;VALUE=DURATION:PT1H
X-Robots-Tag:noindex
X-PUBLISHED-TTL:PT1H
BEGIN:VTIMEZONE
TZID:America/Chicago
BEGIN:DAYLIGHT
TZOFFSETFROM:-0600
TZOFFSETTO:-0500
TZNAME:CDT
DTSTART:20260308T080000
END:DAYLIGHT
BEGIN:STANDARD
TZOFFSETFROM:-0500
TZOFFSETTO:-0600
TZNAME:CST
DTSTART:20261101T070000
END:STANDARD
END:VTIMEZONE
BEGIN:VEVENT
DTSTART;TZID=America/Chicago:20260115T103000
DTEND;TZID=America/Chicago:20260115T113000
DTSTAMP:20260419T225537
CREATED:20251217T002833Z
LAST-MODIFIED:20260115T015821Z
UID:10003805-1768473000-1768476600@urbanaplaceseniorliving.com
SUMMARY:Eucharist w/St Gerards
DESCRIPTION:
URL:https://urbanaplaceseniorliving.com/event-calendar/eucharist-w-st-gerards-37/
LOCATION:Legacy Court-1st
CATEGORIES:Assisted Living,Legacy Court
END:VEVENT
BEGIN:VEVENT
DTSTART;TZID=America/Chicago:20260115T124500
DTEND;TZID=America/Chicago:20260115T134500
DTSTAMP:20260419T225537
CREATED:20251217T002833Z
LAST-MODIFIED:20260115T014310Z
UID:10003806-1768481100-1768484700@urbanaplaceseniorliving.com
SUMMARY:TRYathlon Competition
DESCRIPTION:It’s Crank day! Come to the Community Room to ‘get cranky’ with us!
URL:https://urbanaplaceseniorliving.com/event-calendar/tryathlon-competition-2/
LOCATION:Community Room-1st
CATEGORIES:Assisted Living
END:VEVENT
BEGIN:VEVENT
DTSTART;TZID=America/Chicago:20260115T143000
DTEND;TZID=America/Chicago:20260115T153000
DTSTAMP:20260419T225537
CREATED:20251217T002834Z
LAST-MODIFIED:20260115T015821Z
UID:10003807-1768487400-1768491000@urbanaplaceseniorliving.com
SUMMARY:Live Music w/Sonic Dream
DESCRIPTION:
URL:https://urbanaplaceseniorliving.com/event-calendar/live-music-w-sonic-dream/
LOCATION:Community Room-1st
CATEGORIES:Assisted Living,Legacy Court
END:VEVENT
BEGIN:VEVENT
DTSTART;TZID=America/Chicago:20260115T181500
DTEND;TZID=America/Chicago:20260115T191500
DTSTAMP:20260419T225537
CREATED:20251217T002834Z
LAST-MODIFIED:20260115T014310Z
UID:10003808-1768500900-1768504500@urbanaplaceseniorliving.com
SUMMARY:Featured Movie
DESCRIPTION:
URL:https://urbanaplaceseniorliving.com/event-calendar/featured-movie-34/
LOCATION:Pub-2nd
CATEGORIES:Assisted Living
END:VEVENT
END:VCALENDAR