BEGIN:VCALENDAR
VERSION:2.0
PRODID:-//Urbana Place Senior Living in Brooklyn Park - ECPv6.11.2.1//NONSGML v1.0//EN
CALSCALE:GREGORIAN
METHOD:PUBLISH
X-ORIGINAL-URL:https://urbanaplaceseniorliving.com
X-WR-CALDESC:Events for Urbana Place Senior Living in Brooklyn Park
REFRESH-INTERVAL;VALUE=DURATION:PT1H
X-Robots-Tag:noindex
X-PUBLISHED-TTL:PT1H
BEGIN:VTIMEZONE
TZID:America/Chicago
BEGIN:DAYLIGHT
TZOFFSETFROM:-0600
TZOFFSETTO:-0500
TZNAME:CDT
DTSTART:20260308T080000
END:DAYLIGHT
BEGIN:STANDARD
TZOFFSETFROM:-0500
TZOFFSETTO:-0600
TZNAME:CST
DTSTART:20261101T070000
END:STANDARD
END:VTIMEZONE
BEGIN:VEVENT
DTSTART;TZID=America/Chicago:20260106T100000
DTEND;TZID=America/Chicago:20260106T110000
DTSTAMP:20260419T225258
CREATED:20251220T004313Z
LAST-MODIFIED:20260106T005813Z
UID:10003817-1767693600-1767697200@urbanaplaceseniorliving.com
SUMMARY:Outing to Dollar Tree & Broadway Pizza (RSVP req)
DESCRIPTION:Sign up for this outing to Dollar Tree and Broadway Pizza for lunch in Brooklyn Park! They are in the same strip mall
URL:https://urbanaplaceseniorliving.com/event-calendar/outing-to-dollar-tree-broadway-pizza-rsvp-req/
LOCATION:Front Lobby-1st
CATEGORIES:Assisted Living
END:VEVENT
BEGIN:VEVENT
DTSTART;TZID=America/Chicago:20260106T140000
DTEND;TZID=America/Chicago:20260106T150000
DTSTAMP:20260419T225258
CREATED:20251225T005825Z
LAST-MODIFIED:20251231T011316Z
UID:10003851-1767708000-1767711600@urbanaplaceseniorliving.com
SUMMARY:Men's Group: Snowball Fight & Snacks
DESCRIPTION:Join the men of Urbana for some snowy winter games – snacks & drinks provided!
URL:https://urbanaplaceseniorliving.com/event-calendar/mens-group-snowball-fight-snacks/
CATEGORIES:Assisted Living,Legacy Court
END:VEVENT
BEGIN:VEVENT
DTSTART;TZID=America/Chicago:20260106T140000
DTEND;TZID=America/Chicago:20260106T150000
DTSTAMP:20260419T225258
CREATED:20251225T005825Z
LAST-MODIFIED:20260106T011335Z
UID:10003852-1767708000-1767711600@urbanaplaceseniorliving.com
SUMMARY:Men's Group-snowball fight & snack
DESCRIPTION:Calling all the Men of Urbana Place! Join us in the Community Room for our monthly Men’s Group. There will be some snowball shenanigans and laughs guaranteed!
URL:https://urbanaplaceseniorliving.com/event-calendar/mens-group-snowball-fight-snack/
LOCATION:Community Room-1st
CATEGORIES:Assisted Living,Legacy Court
END:VEVENT
BEGIN:VEVENT
DTSTART;TZID=America/Chicago:20260106T153000
DTEND;TZID=America/Chicago:20260106T163000
DTSTAMP:20260419T225258
CREATED:20251208T002824Z
LAST-MODIFIED:20260106T005813Z
UID:10003765-1767713400-1767717000@urbanaplaceseniorliving.com
SUMMARY:Play Wheel of Fortune
DESCRIPTION:
URL:https://urbanaplaceseniorliving.com/event-calendar/play-wheel-of-fortune-37/
LOCATION:Pub-2nd
CATEGORIES:Assisted Living
END:VEVENT
END:VCALENDAR