BEGIN:VCALENDAR
VERSION:2.0
PRODID:-//Urbana Place Senior Living in Brooklyn Park - ECPv6.11.2.1//NONSGML v1.0//EN
CALSCALE:GREGORIAN
METHOD:PUBLISH
X-ORIGINAL-URL:https://urbanaplaceseniorliving.com
X-WR-CALDESC:Events for Urbana Place Senior Living in Brooklyn Park
REFRESH-INTERVAL;VALUE=DURATION:PT1H
X-Robots-Tag:noindex
X-PUBLISHED-TTL:PT1H
BEGIN:VTIMEZONE
TZID:America/Chicago
BEGIN:DAYLIGHT
TZOFFSETFROM:-0600
TZOFFSETTO:-0500
TZNAME:CDT
DTSTART:20260308T080000
END:DAYLIGHT
BEGIN:STANDARD
TZOFFSETFROM:-0500
TZOFFSETTO:-0600
TZNAME:CST
DTSTART:20261101T070000
END:STANDARD
END:VTIMEZONE
BEGIN:VEVENT
DTSTART;TZID=America/Chicago:20260105T090000
DTEND;TZID=America/Chicago:20260105T100000
DTSTAMP:20260419T225257
CREATED:20251217T002827Z
LAST-MODIFIED:20260105T005812Z
UID:10003803-1767603600-1767607200@urbanaplaceseniorliving.com
SUMMARY:Independent Exercise
DESCRIPTION:Stop in the Wellness Center any time today to move your body. NuStep machine\, weights and bands all available for you to use!
URL:https://urbanaplaceseniorliving.com/event-calendar/independent-exercise-5/
LOCATION:Wellness Center-2nd
CATEGORIES:Assisted Living
END:VEVENT
BEGIN:VEVENT
DTSTART;TZID=America/Chicago:20260105T093000
DTEND;TZID=America/Chicago:20260105T100000
DTSTAMP:20260419T225257
CREATED:20251207T002816Z
LAST-MODIFIED:20251216T002826Z
UID:10003756-1767605400-1767607200@urbanaplaceseniorliving.com
SUMMARY:Weights and Grip Class
DESCRIPTION:Wake your body up with this morning exercise class! All abilities welcome!
URL:https://urbanaplaceseniorliving.com/event-calendar/weights-and-grip-class-32/
LOCATION:Wellness Center-2nd
CATEGORIES:Assisted Living
END:VEVENT
BEGIN:VEVENT
DTSTART;TZID=America/Chicago:20260105T103000
DTEND;TZID=America/Chicago:20260105T113000
DTSTAMP:20260419T225257
CREATED:20251207T002816Z
LAST-MODIFIED:20260105T011317Z
UID:10003757-1767609000-1767612600@urbanaplaceseniorliving.com
SUMMARY:Bible Study w/Chaplain Russell
DESCRIPTION:Join Chaplain Russell in the 1st floor Bistro
URL:https://urbanaplaceseniorliving.com/event-calendar/bible-study-w-chaplain-russell-8/
LOCATION:Bistro-1st
CATEGORIES:Assisted Living,Legacy Court
END:VEVENT
BEGIN:VEVENT
DTSTART;TZID=America/Chicago:20260105T133000
DTEND;TZID=America/Chicago:20260105T143000
DTSTAMP:20260419T225257
CREATED:20251207T002816Z
LAST-MODIFIED:20260105T005812Z
UID:10003758-1767619800-1767623400@urbanaplaceseniorliving.com
SUMMARY:Bingo
DESCRIPTION:
URL:https://urbanaplaceseniorliving.com/event-calendar/bingo-56/
LOCATION:Community Room-1st
CATEGORIES:Assisted Living
END:VEVENT
BEGIN:VEVENT
DTSTART;TZID=America/Chicago:20260105T144500
DTEND;TZID=America/Chicago:20260105T154500
DTSTAMP:20260419T225257
CREATED:20251207T002816Z
LAST-MODIFIED:20260105T005812Z
UID:10003759-1767624300-1767627900@urbanaplaceseniorliving.com
SUMMARY:Popcorn Social
DESCRIPTION:Come to the Bistro for some freshly popped popcorn and to visit
URL:https://urbanaplaceseniorliving.com/event-calendar/popcorn-social-8/
LOCATION:Bistro-1st
CATEGORIES:Assisted Living
END:VEVENT
BEGIN:VEVENT
DTSTART;TZID=America/Chicago:20260105T180000
DTEND;TZID=America/Chicago:20260105T190000
DTSTAMP:20260419T225257
CREATED:20251207T002816Z
LAST-MODIFIED:20260106T005813Z
UID:10003760-1767636000-1767639600@urbanaplaceseniorliving.com
SUMMARY:Play Dominos
DESCRIPTION:
URL:https://urbanaplaceseniorliving.com/event-calendar/play-dominos-27/
LOCATION:Lounge-2nd
CATEGORIES:Assisted Living
END:VEVENT
END:VCALENDAR