BEGIN:VCALENDAR
VERSION:2.0
PRODID:-//Urbana Place Senior Living in Brooklyn Park - ECPv6.11.2.1//NONSGML v1.0//EN
CALSCALE:GREGORIAN
METHOD:PUBLISH
X-ORIGINAL-URL:https://urbanaplaceseniorliving.com
X-WR-CALDESC:Events for Urbana Place Senior Living in Brooklyn Park
REFRESH-INTERVAL;VALUE=DURATION:PT1H
X-Robots-Tag:noindex
X-PUBLISHED-TTL:PT1H
BEGIN:VTIMEZONE
TZID:America/Chicago
BEGIN:DAYLIGHT
TZOFFSETFROM:-0600
TZOFFSETTO:-0500
TZNAME:CDT
DTSTART:20260308T080000
END:DAYLIGHT
BEGIN:STANDARD
TZOFFSETFROM:-0500
TZOFFSETTO:-0600
TZNAME:CST
DTSTART:20261101T070000
END:STANDARD
END:VTIMEZONE
BEGIN:VEVENT
DTSTART;TZID=America/Chicago:20260104T103000
DTEND;TZID=America/Chicago:20260104T113000
DTSTAMP:20260419T225259
CREATED:20251206T002815Z
LAST-MODIFIED:20260104T005811Z
UID:10003753-1767522600-1767526200@urbanaplaceseniorliving.com
SUMMARY:Virtual Catholic Mass
DESCRIPTION:Sunday Service from The Basilica of the National Shrine in Washington D.C
URL:https://urbanaplaceseniorliving.com/event-calendar/virtual-catholic-mass-35/
LOCATION:Community Room-1st
CATEGORIES:Assisted Living
END:VEVENT
BEGIN:VEVENT
DTSTART;TZID=America/Chicago:20260104T130000
DTEND;TZID=America/Chicago:20260104T140000
DTSTAMP:20260419T225259
CREATED:20251206T002815Z
LAST-MODIFIED:20260104T005811Z
UID:10003754-1767531600-1767535200@urbanaplaceseniorliving.com
SUMMARY:31 Card Club
DESCRIPTION:Grab a friend and come to the 2nd floor Lounge to play a game of 31!
URL:https://urbanaplaceseniorliving.com/event-calendar/31-card-club-21/
LOCATION:Lounge-2nd
CATEGORIES:Assisted Living
END:VEVENT
BEGIN:VEVENT
DTSTART;TZID=America/Chicago:20260104T150000
DTEND;TZID=America/Chicago:20260104T163000
DTSTAMP:20260419T225259
CREATED:20251224T005817Z
LAST-MODIFIED:20260104T005811Z
UID:10003844-1767538800-1767544200@urbanaplaceseniorliving.com
SUMMARY:Play Cribbage
DESCRIPTION:Dust off your cribbage skills! Invite a partner to come to the Pub to play some cribbage. We will be having a cribbage tournament in February!
URL:https://urbanaplaceseniorliving.com/event-calendar/play-cribbage/
LOCATION:Pub-2nd
CATEGORIES:Assisted Living
END:VEVENT
BEGIN:VEVENT
DTSTART;TZID=America/Chicago:20260104T153000
DTEND;TZID=America/Chicago:20260104T163000
DTSTAMP:20260419T225259
CREATED:20251206T002815Z
LAST-MODIFIED:20260104T005811Z
UID:10003755-1767540600-1767544200@urbanaplaceseniorliving.com
SUMMARY:Sunday Stroll
DESCRIPTION:Grab a friend or neighbor and take a walk
URL:https://urbanaplaceseniorliving.com/event-calendar/sunday-stroll-34/
LOCATION:Front Lobby-1st
CATEGORIES:Assisted Living
END:VEVENT
END:VCALENDAR